BEGIN:VCALENDAR
VERSION:2.0
PRODID:-//Resonate Church - ECPv6.15.20//NONSGML v1.0//EN
CALSCALE:GREGORIAN
METHOD:PUBLISH
X-WR-CALNAME:Resonate Church
X-ORIGINAL-URL:https://resonateatlanta.org
X-WR-CALDESC:Events for Resonate Church
REFRESH-INTERVAL;VALUE=DURATION:PT1H
X-Robots-Tag:noindex
X-PUBLISHED-TTL:PT1H
BEGIN:VTIMEZONE
TZID:America/New_York
BEGIN:DAYLIGHT
TZOFFSETFROM:-0500
TZOFFSETTO:-0400
TZNAME:EDT
DTSTART:20220313T070000
END:DAYLIGHT
BEGIN:STANDARD
TZOFFSETFROM:-0400
TZOFFSETTO:-0500
TZNAME:EST
DTSTART:20221106T060000
END:STANDARD
BEGIN:DAYLIGHT
TZOFFSETFROM:-0500
TZOFFSETTO:-0400
TZNAME:EDT
DTSTART:20230312T070000
END:DAYLIGHT
BEGIN:STANDARD
TZOFFSETFROM:-0400
TZOFFSETTO:-0500
TZNAME:EST
DTSTART:20231105T060000
END:STANDARD
BEGIN:DAYLIGHT
TZOFFSETFROM:-0500
TZOFFSETTO:-0400
TZNAME:EDT
DTSTART:20240310T070000
END:DAYLIGHT
BEGIN:STANDARD
TZOFFSETFROM:-0400
TZOFFSETTO:-0500
TZNAME:EST
DTSTART:20241103T060000
END:STANDARD
END:VTIMEZONE
BEGIN:VEVENT
DTSTART;TZID=America/New_York:20230827T183000
DTEND;TZID=America/New_York:20230827T200000
DTSTAMP:20260425T090950
CREATED:20230626T141941Z
LAST-MODIFIED:20231015T194827Z
UID:10000771-1693161000-1693166400@resonateatlanta.org
SUMMARY:Partnership at Resonate
DESCRIPTION:If you’re interested in membership/partnership at Resonate\, join us for this class about the foundational operations and beliefs of our church community.
URL:https://resonateatlanta.org/event/partnership-at-resonate/2023-08-27/
LOCATION:Resonate Church\, 3433 Memorial Drive\, Decatur\, GA\, 30032\, United States
CATEGORIES:Community,Education,Newcomers
ATTACH;FMTTYPE=image/png:https://resonateatlanta.org/wp-content/uploads/2020/04/connect.png
END:VEVENT
BEGIN:VEVENT
DTSTART;VALUE=DATE:20230808
DTEND;VALUE=DATE:20230809
DTSTAMP:20260425T090950
CREATED:20230626T144439Z
LAST-MODIFIED:20230626T144439Z
UID:10000773-1691452800-1691539199@resonateatlanta.org
SUMMARY:Churchwide Fasting Day
DESCRIPTION:Monthly we set aside a day to engage in the spiritual practice of fasting. Its a chance for the whole church to draw closer to God through a focus on fasting as it relates to concepts like humility\, devotion\, repentance\, and gratitude.
URL:https://resonateatlanta.org/event/churchwide-fasting-day/2023-08-08/
LOCATION:GA
CATEGORIES:Community
ATTACH;FMTTYPE=image/png:https://resonateatlanta.org/wp-content/uploads/2023/06/fasting.png
END:VEVENT
BEGIN:VEVENT
DTSTART;VALUE=DATE:20230711
DTEND;VALUE=DATE:20230712
DTSTAMP:20260425T090950
CREATED:20230626T144439Z
LAST-MODIFIED:20230626T144439Z
UID:10000772-1689033600-1689119999@resonateatlanta.org
SUMMARY:Churchwide Fasting Day
DESCRIPTION:Monthly we set aside a day to engage in the spiritual practice of fasting. Its a chance for the whole church to draw closer to God through a focus on fasting as it relates to concepts like humility\, devotion\, repentance\, and gratitude.
URL:https://resonateatlanta.org/event/churchwide-fasting-day/2023-07-11/
LOCATION:GA
CATEGORIES:Community
ATTACH;FMTTYPE=image/png:https://resonateatlanta.org/wp-content/uploads/2023/06/fasting.png
END:VEVENT
END:VCALENDAR