BEGIN:VCALENDAR
VERSION:2.0
PRODID:-//Resonate Church - ECPv6.15.20//NONSGML v1.0//EN
CALSCALE:GREGORIAN
METHOD:PUBLISH
X-WR-CALNAME:Resonate Church
X-ORIGINAL-URL:https://resonateatlanta.org
X-WR-CALDESC:Events for Resonate Church
REFRESH-INTERVAL;VALUE=DURATION:PT1H
X-Robots-Tag:noindex
X-PUBLISHED-TTL:PT1H
BEGIN:VTIMEZONE
TZID:America/New_York
BEGIN:DAYLIGHT
TZOFFSETFROM:-0500
TZOFFSETTO:-0400
TZNAME:EDT
DTSTART:20240310T070000
END:DAYLIGHT
BEGIN:STANDARD
TZOFFSETFROM:-0400
TZOFFSETTO:-0500
TZNAME:EST
DTSTART:20241103T060000
END:STANDARD
BEGIN:DAYLIGHT
TZOFFSETFROM:-0500
TZOFFSETTO:-0400
TZNAME:EDT
DTSTART:20250309T070000
END:DAYLIGHT
BEGIN:STANDARD
TZOFFSETFROM:-0400
TZOFFSETTO:-0500
TZNAME:EST
DTSTART:20251102T060000
END:STANDARD
BEGIN:DAYLIGHT
TZOFFSETFROM:-0500
TZOFFSETTO:-0400
TZNAME:EDT
DTSTART:20260308T070000
END:DAYLIGHT
BEGIN:STANDARD
TZOFFSETFROM:-0400
TZOFFSETTO:-0500
TZNAME:EST
DTSTART:20261101T060000
END:STANDARD
BEGIN:DAYLIGHT
TZOFFSETFROM:-0500
TZOFFSETTO:-0400
TZNAME:EDT
DTSTART:20270314T070000
END:DAYLIGHT
BEGIN:STANDARD
TZOFFSETFROM:-0400
TZOFFSETTO:-0500
TZNAME:EST
DTSTART:20271107T060000
END:STANDARD
END:VTIMEZONE
BEGIN:VEVENT
DTSTART;TZID=America/New_York:20260222T104500
DTEND;TZID=America/New_York:20260222T121500
DTSTAMP:20260422T073841
CREATED:20251211T161627Z
LAST-MODIFIED:20251211T161627Z
UID:10002011-1771757100-1771762500@resonateatlanta.org
SUMMARY:Worship Service – 10:45am
DESCRIPTION:Join us for our 10:45am worship gathering as we come together to worship Jesus\, open the Scriptures\, and practice community. Kids ministry is available for infants through 5th grade during this service.A livestream is available at live.resonateatlanta.org.
URL:https://resonateatlanta.org/event/worship-service-1045am/2026-02-22/
LOCATION:Resonate Church\, 3433 Memorial Drive\, Decatur\, GA\, 30032\, United States
CATEGORIES:Community,Newcomers
END:VEVENT
BEGIN:VEVENT
DTSTART;TZID=America/New_York:20260222T090000
DTEND;TZID=America/New_York:20260222T103000
DTSTAMP:20260422T073841
CREATED:20260122T201654Z
LAST-MODIFIED:20260122T201655Z
UID:10001751-1771750800-1771756200@resonateatlanta.org
SUMMARY:Worship Service – 9:00am
DESCRIPTION:Join us for our 9:00am worship gathering as we come together to worship Jesus\, open the Scriptures\, and practice community. Kids ministry is available for infants through 5th grade during this service.A livestream is available at live.resonateatlanta.org.
URL:https://resonateatlanta.org/event/worship-service-900am-2/2026-02-22/
LOCATION:Resonate Church\, 3433 Memorial Drive\, Decatur\, GA\, 30032\, United States
CATEGORIES:Community,Newcomers
END:VEVENT
BEGIN:VEVENT
DTSTART;TZID=America/New_York:20260215T104500
DTEND;TZID=America/New_York:20260215T121500
DTSTAMP:20260422T073841
CREATED:20251211T161627Z
LAST-MODIFIED:20251211T161627Z
UID:10002010-1771152300-1771157700@resonateatlanta.org
SUMMARY:Worship Service – 10:45am
DESCRIPTION:Join us for our 10:45am worship gathering as we come together to worship Jesus\, open the Scriptures\, and practice community. Kids ministry is available for infants through 5th grade during this service.A livestream is available at live.resonateatlanta.org.
URL:https://resonateatlanta.org/event/worship-service-1045am/2026-02-15/
LOCATION:Resonate Church\, 3433 Memorial Drive\, Decatur\, GA\, 30032\, United States
CATEGORIES:Community,Newcomers
END:VEVENT
BEGIN:VEVENT
DTSTART;TZID=America/New_York:20260215T090000
DTEND;TZID=America/New_York:20260215T103000
DTSTAMP:20260422T073841
CREATED:20260122T201654Z
LAST-MODIFIED:20260122T201655Z
UID:10001750-1771146000-1771151400@resonateatlanta.org
SUMMARY:Worship Service – 9:00am
DESCRIPTION:Join us for our 9:00am worship gathering as we come together to worship Jesus\, open the Scriptures\, and practice community. Kids ministry is available for infants through 5th grade during this service.A livestream is available at live.resonateatlanta.org.
URL:https://resonateatlanta.org/event/worship-service-900am-2/2026-02-15/
LOCATION:Resonate Church\, 3433 Memorial Drive\, Decatur\, GA\, 30032\, United States
CATEGORIES:Community,Newcomers
END:VEVENT
BEGIN:VEVENT
DTSTART;VALUE=DATE:20260210
DTEND;VALUE=DATE:20260211
DTSTAMP:20260422T073841
CREATED:20230626T144439Z
LAST-MODIFIED:20230626T144439Z
UID:10000803-1770681600-1770767999@resonateatlanta.org
SUMMARY:Churchwide Fasting Day
DESCRIPTION:Monthly we set aside a day to engage in the spiritual practice of fasting. Its a chance for the whole church to draw closer to God through a focus on fasting as it relates to concepts like humility\, devotion\, repentance\, and gratitude.
URL:https://resonateatlanta.org/event/churchwide-fasting-day/2026-02-10/
LOCATION:GA
CATEGORIES:Community
ATTACH;FMTTYPE=image/png:https://resonateatlanta.org/wp-content/uploads/2023/06/fasting.png
END:VEVENT
BEGIN:VEVENT
DTSTART;TZID=America/New_York:20260208T104500
DTEND;TZID=America/New_York:20260208T121500
DTSTAMP:20260422T073841
CREATED:20251211T161627Z
LAST-MODIFIED:20251211T161627Z
UID:10002009-1770547500-1770552900@resonateatlanta.org
SUMMARY:Worship Service – 10:45am
DESCRIPTION:Join us for our 10:45am worship gathering as we come together to worship Jesus\, open the Scriptures\, and practice community. Kids ministry is available for infants through 5th grade during this service.A livestream is available at live.resonateatlanta.org.
URL:https://resonateatlanta.org/event/worship-service-1045am/2026-02-08/
LOCATION:Resonate Church\, 3433 Memorial Drive\, Decatur\, GA\, 30032\, United States
CATEGORIES:Community,Newcomers
END:VEVENT
BEGIN:VEVENT
DTSTART;TZID=America/New_York:20260208T090000
DTEND;TZID=America/New_York:20260208T103000
DTSTAMP:20260422T073841
CREATED:20260122T201654Z
LAST-MODIFIED:20260122T201655Z
UID:10001749-1770541200-1770546600@resonateatlanta.org
SUMMARY:Worship Service – 9:00am
DESCRIPTION:Join us for our 9:00am worship gathering as we come together to worship Jesus\, open the Scriptures\, and practice community. Kids ministry is available for infants through 5th grade during this service.A livestream is available at live.resonateatlanta.org.
URL:https://resonateatlanta.org/event/worship-service-900am-2/2026-02-08/
LOCATION:Resonate Church\, 3433 Memorial Drive\, Decatur\, GA\, 30032\, United States
CATEGORIES:Community,Newcomers
END:VEVENT
BEGIN:VEVENT
DTSTART;TZID=America/New_York:20260201T104500
DTEND;TZID=America/New_York:20260201T121500
DTSTAMP:20260422T073841
CREATED:20251211T161627Z
LAST-MODIFIED:20251211T161627Z
UID:10002008-1769942700-1769948100@resonateatlanta.org
SUMMARY:Worship Service – 10:45am
DESCRIPTION:Join us for our 10:45am worship gathering as we come together to worship Jesus\, open the Scriptures\, and practice community. Kids ministry is available for infants through 5th grade during this service.A livestream is available at live.resonateatlanta.org.
URL:https://resonateatlanta.org/event/worship-service-1045am/2026-02-01/
LOCATION:Resonate Church\, 3433 Memorial Drive\, Decatur\, GA\, 30032\, United States
CATEGORIES:Community,Newcomers
END:VEVENT
BEGIN:VEVENT
DTSTART;TZID=America/New_York:20260201T090000
DTEND;TZID=America/New_York:20260201T103000
DTSTAMP:20260422T073841
CREATED:20260122T201654Z
LAST-MODIFIED:20260122T201655Z
UID:10001748-1769936400-1769941800@resonateatlanta.org
SUMMARY:Worship Service – 9:00am
DESCRIPTION:Join us for our 9:00am worship gathering as we come together to worship Jesus\, open the Scriptures\, and practice community. Kids ministry is available for infants through 5th grade during this service.A livestream is available at live.resonateatlanta.org.
URL:https://resonateatlanta.org/event/worship-service-900am-2/2026-02-01/
LOCATION:Resonate Church\, 3433 Memorial Drive\, Decatur\, GA\, 30032\, United States
CATEGORIES:Community,Newcomers
END:VEVENT
BEGIN:VEVENT
DTSTART;TZID=America/New_York:20260125T104500
DTEND;TZID=America/New_York:20260125T121500
DTSTAMP:20260422T073841
CREATED:20251211T161627Z
LAST-MODIFIED:20251211T161627Z
UID:10002007-1769337900-1769343300@resonateatlanta.org
SUMMARY:Worship Service – 10:45am
DESCRIPTION:Join us for our 10:45am worship gathering as we come together to worship Jesus\, open the Scriptures\, and practice community. Kids ministry is available for infants through 5th grade during this service.A livestream is available at live.resonateatlanta.org.
URL:https://resonateatlanta.org/event/worship-service-1045am/2026-01-25/
LOCATION:Resonate Church\, 3433 Memorial Drive\, Decatur\, GA\, 30032\, United States
CATEGORIES:Community,Newcomers
END:VEVENT
BEGIN:VEVENT
DTSTART;TZID=America/New_York:20260125T090000
DTEND;TZID=America/New_York:20260125T103000
DTSTAMP:20260422T073841
CREATED:20260122T201654Z
LAST-MODIFIED:20260122T201655Z
UID:10001747-1769331600-1769337000@resonateatlanta.org
SUMMARY:Worship Service – 9:00am
DESCRIPTION:Join us for our 9:00am worship gathering as we come together to worship Jesus\, open the Scriptures\, and practice community. Kids ministry is available for infants through 5th grade during this service.A livestream is available at live.resonateatlanta.org.
URL:https://resonateatlanta.org/event/worship-service-900am-2/2026-01-25/
LOCATION:Resonate Church\, 3433 Memorial Drive\, Decatur\, GA\, 30032\, United States
CATEGORIES:Community,Newcomers
END:VEVENT
BEGIN:VEVENT
DTSTART;TZID=America/New_York:20260118T104500
DTEND;TZID=America/New_York:20260118T121500
DTSTAMP:20260422T073841
CREATED:20251211T161627Z
LAST-MODIFIED:20251211T161627Z
UID:10002006-1768733100-1768738500@resonateatlanta.org
SUMMARY:Worship Service – 10:45am
DESCRIPTION:Join us for our 10:45am worship gathering as we come together to worship Jesus\, open the Scriptures\, and practice community. Kids ministry is available for infants through 5th grade during this service.A livestream is available at live.resonateatlanta.org.
URL:https://resonateatlanta.org/event/worship-service-1045am/2026-01-18/
LOCATION:Resonate Church\, 3433 Memorial Drive\, Decatur\, GA\, 30032\, United States
CATEGORIES:Community,Newcomers
END:VEVENT
BEGIN:VEVENT
DTSTART;TZID=America/New_York:20260118T090000
DTEND;TZID=America/New_York:20260118T223000
DTSTAMP:20260422T073841
CREATED:20251211T161543Z
LAST-MODIFIED:20251211T161543Z
UID:10001746-1768726800-1768775400@resonateatlanta.org
SUMMARY:Worship Service – 9:00am
DESCRIPTION:Join us for our 9:00am worship gathering as we come together to worship Jesus\, open the Scriptures\, and practice community. Kids ministry is available for infants through 5th grade during this service.A livestream is available at live.resonateatlanta.org.
URL:https://resonateatlanta.org/event/worship-service-900am/2026-01-18/
LOCATION:Resonate Church\, 3433 Memorial Drive\, Decatur\, GA\, 30032\, United States
CATEGORIES:Community,Newcomers
END:VEVENT
BEGIN:VEVENT
DTSTART;VALUE=DATE:20260113
DTEND;VALUE=DATE:20260114
DTSTAMP:20260422T073841
CREATED:20230626T144439Z
LAST-MODIFIED:20230626T144439Z
UID:10000802-1768262400-1768348799@resonateatlanta.org
SUMMARY:Churchwide Fasting Day
DESCRIPTION:Monthly we set aside a day to engage in the spiritual practice of fasting. Its a chance for the whole church to draw closer to God through a focus on fasting as it relates to concepts like humility\, devotion\, repentance\, and gratitude.
URL:https://resonateatlanta.org/event/churchwide-fasting-day/2026-01-13/
LOCATION:GA
CATEGORIES:Community
ATTACH;FMTTYPE=image/png:https://resonateatlanta.org/wp-content/uploads/2023/06/fasting.png
END:VEVENT
BEGIN:VEVENT
DTSTART;TZID=America/New_York:20260111T104500
DTEND;TZID=America/New_York:20260111T121500
DTSTAMP:20260422T073841
CREATED:20251211T161627Z
LAST-MODIFIED:20251211T161627Z
UID:10002005-1768128300-1768133700@resonateatlanta.org
SUMMARY:Worship Service – 10:45am
DESCRIPTION:Join us for our 10:45am worship gathering as we come together to worship Jesus\, open the Scriptures\, and practice community. Kids ministry is available for infants through 5th grade during this service.A livestream is available at live.resonateatlanta.org.
URL:https://resonateatlanta.org/event/worship-service-1045am/2026-01-11/
LOCATION:Resonate Church\, 3433 Memorial Drive\, Decatur\, GA\, 30032\, United States
CATEGORIES:Community,Newcomers
END:VEVENT
BEGIN:VEVENT
DTSTART;TZID=America/New_York:20260111T090000
DTEND;TZID=America/New_York:20260111T223000
DTSTAMP:20260422T073841
CREATED:20251211T161543Z
LAST-MODIFIED:20251211T161543Z
UID:10001745-1768122000-1768170600@resonateatlanta.org
SUMMARY:Worship Service – 9:00am
DESCRIPTION:Join us for our 9:00am worship gathering as we come together to worship Jesus\, open the Scriptures\, and practice community. Kids ministry is available for infants through 5th grade during this service.A livestream is available at live.resonateatlanta.org.
URL:https://resonateatlanta.org/event/worship-service-900am/2026-01-11/
LOCATION:Resonate Church\, 3433 Memorial Drive\, Decatur\, GA\, 30032\, United States
CATEGORIES:Community,Newcomers
END:VEVENT
BEGIN:VEVENT
DTSTART;TZID=America/New_York:20260104T104500
DTEND;TZID=America/New_York:20260104T121500
DTSTAMP:20260422T073841
CREATED:20251211T161627Z
LAST-MODIFIED:20251211T161627Z
UID:10002004-1767523500-1767528900@resonateatlanta.org
SUMMARY:Worship Service – 10:45am
DESCRIPTION:Join us for our 10:45am worship gathering as we come together to worship Jesus\, open the Scriptures\, and practice community. Kids ministry is available for infants through 5th grade during this service.A livestream is available at live.resonateatlanta.org.
URL:https://resonateatlanta.org/event/worship-service-1045am/2026-01-04/
LOCATION:Resonate Church\, 3433 Memorial Drive\, Decatur\, GA\, 30032\, United States
CATEGORIES:Community,Newcomers
END:VEVENT
BEGIN:VEVENT
DTSTART;TZID=America/New_York:20260104T090000
DTEND;TZID=America/New_York:20260104T223000
DTSTAMP:20260422T073841
CREATED:20251211T161543Z
LAST-MODIFIED:20251211T161543Z
UID:10001744-1767517200-1767565800@resonateatlanta.org
SUMMARY:Worship Service – 9:00am
DESCRIPTION:Join us for our 9:00am worship gathering as we come together to worship Jesus\, open the Scriptures\, and practice community. Kids ministry is available for infants through 5th grade during this service.A livestream is available at live.resonateatlanta.org.
URL:https://resonateatlanta.org/event/worship-service-900am/2026-01-04/
LOCATION:Resonate Church\, 3433 Memorial Drive\, Decatur\, GA\, 30032\, United States
CATEGORIES:Community,Newcomers
END:VEVENT
BEGIN:VEVENT
DTSTART;TZID=America/New_York:20251224T170000
DTEND;TZID=America/New_York:20251224T180000
DTSTAMP:20260422T073841
CREATED:20251107T010237Z
LAST-MODIFIED:20251107T010343Z
UID:10001708-1766595600-1766599200@resonateatlanta.org
SUMMARY:Christmas Eve Service
DESCRIPTION:Celebrate Christmas Eve with the whole church family. At 5:00 PM we’ll gather as all ages (no childcare) to hear some of the great stories leading up to the birth of Jesus from the Jesus Storybook Bible. We’ll sing familiar songs\, tell the story\, and end by lighting candles as a sign of the Light who came into the world in a manger long ago. \nArrive a few minutes early to grab a seat and stop by the photobooth in the lobby for family pictures. This service is a simple\, joyful way to keep our hearts focused on Jesus as we head into Christmas Day. No RSVP needed—invite a friend or neighbor!
URL:https://resonateatlanta.org/event/christmas-eve-candlelight-2025/
LOCATION:Resonate Church\, 3433 Memorial Drive\, Decatur\, GA\, 30032\, United States
CATEGORIES:Community
ATTACH;FMTTYPE=image/png:https://resonateatlanta.org/wp-content/uploads/2025/11/ChristmasEve.png
END:VEVENT
BEGIN:VEVENT
DTSTART;TZID=America/New_York:20251221T104500
DTEND;TZID=America/New_York:20251221T121500
DTSTAMP:20260422T073841
CREATED:20251211T161627Z
LAST-MODIFIED:20251211T161627Z
UID:10002003-1766313900-1766319300@resonateatlanta.org
SUMMARY:Worship Service – 10:45am
DESCRIPTION:Join us for our 10:45am worship gathering as we come together to worship Jesus\, open the Scriptures\, and practice community. Kids ministry is available for infants through 5th grade during this service.A livestream is available at live.resonateatlanta.org.
URL:https://resonateatlanta.org/event/worship-service-1045am/2025-12-21/
LOCATION:Resonate Church\, 3433 Memorial Drive\, Decatur\, GA\, 30032\, United States
CATEGORIES:Community,Newcomers
END:VEVENT
BEGIN:VEVENT
DTSTART;TZID=America/New_York:20251221T090000
DTEND;TZID=America/New_York:20251221T223000
DTSTAMP:20260422T073841
CREATED:20251211T161543Z
LAST-MODIFIED:20251211T161543Z
UID:10001743-1766307600-1766356200@resonateatlanta.org
SUMMARY:Worship Service – 9:00am
DESCRIPTION:Join us for our 9:00am worship gathering as we come together to worship Jesus\, open the Scriptures\, and practice community. Kids ministry is available for infants through 5th grade during this service.A livestream is available at live.resonateatlanta.org.
URL:https://resonateatlanta.org/event/worship-service-900am/2025-12-21/
LOCATION:Resonate Church\, 3433 Memorial Drive\, Decatur\, GA\, 30032\, United States
CATEGORIES:Community,Newcomers
END:VEVENT
BEGIN:VEVENT
DTSTART;TZID=America/New_York:20251214T104500
DTEND;TZID=America/New_York:20251214T121500
DTSTAMP:20260422T073841
CREATED:20251211T161627Z
LAST-MODIFIED:20251211T161627Z
UID:10002002-1765709100-1765714500@resonateatlanta.org
SUMMARY:Worship Service – 10:45am
DESCRIPTION:Join us for our 10:45am worship gathering as we come together to worship Jesus\, open the Scriptures\, and practice community. Kids ministry is available for infants through 5th grade during this service.A livestream is available at live.resonateatlanta.org.
URL:https://resonateatlanta.org/event/worship-service-1045am/2025-12-14/
LOCATION:Resonate Church\, 3433 Memorial Drive\, Decatur\, GA\, 30032\, United States
CATEGORIES:Community,Newcomers
END:VEVENT
BEGIN:VEVENT
DTSTART;TZID=America/New_York:20251214T090000
DTEND;TZID=America/New_York:20251214T223000
DTSTAMP:20260422T073841
CREATED:20251211T161543Z
LAST-MODIFIED:20251211T161543Z
UID:10001742-1765702800-1765751400@resonateatlanta.org
SUMMARY:Worship Service – 9:00am
DESCRIPTION:Join us for our 9:00am worship gathering as we come together to worship Jesus\, open the Scriptures\, and practice community. Kids ministry is available for infants through 5th grade during this service.A livestream is available at live.resonateatlanta.org.
URL:https://resonateatlanta.org/event/worship-service-900am/2025-12-14/
LOCATION:Resonate Church\, 3433 Memorial Drive\, Decatur\, GA\, 30032\, United States
CATEGORIES:Community,Newcomers
END:VEVENT
BEGIN:VEVENT
DTSTART;VALUE=DATE:20251209
DTEND;VALUE=DATE:20251210
DTSTAMP:20260422T073841
CREATED:20230626T144439Z
LAST-MODIFIED:20230626T144439Z
UID:10000801-1765238400-1765324799@resonateatlanta.org
SUMMARY:Churchwide Fasting Day
DESCRIPTION:Monthly we set aside a day to engage in the spiritual practice of fasting. Its a chance for the whole church to draw closer to God through a focus on fasting as it relates to concepts like humility\, devotion\, repentance\, and gratitude.
URL:https://resonateatlanta.org/event/churchwide-fasting-day/2025-12-09/
LOCATION:GA
CATEGORIES:Community
ATTACH;FMTTYPE=image/png:https://resonateatlanta.org/wp-content/uploads/2023/06/fasting.png
END:VEVENT
BEGIN:VEVENT
DTSTART;TZID=America/New_York:20251207T130000
DTEND;TZID=America/New_York:20251207T150000
DTSTAMP:20260422T073841
CREATED:20251111T133021Z
LAST-MODIFIED:20251111T133022Z
UID:10001709-1765112400-1765119600@resonateatlanta.org
SUMMARY:All-Church Lunch
DESCRIPTION:Save the date for our next All Church Lunch! Whether you’re new to Resonate Church or have been part of our community for years\, this is a great chance to slow down\, share a meal\, and connect with others. \nWe’ll gather for a BBQ-themed lunch—the church will provide the main dish and drinks. To help make sure there’s plenty to go around\, please bring a side or dessert that pairs well with BBQ. \nOur last lunch in September had an incredible turnout\, so we’re excited to come together again for good food and good company.\nThis is a family-friendly event—kids are welcome!
URL:https://resonateatlanta.org/event/all-church-lunch/
LOCATION:Case’s House\, 417 Ashburton Ave SE\, Atlanta\, GA\, 30317\, United States
CATEGORIES:Community,Newcomers
ATTACH;FMTTYPE=image/png:https://resonateatlanta.org/wp-content/uploads/2025/08/all-church-lunch.png
END:VEVENT
BEGIN:VEVENT
DTSTART;VALUE=DATE:20251111
DTEND;VALUE=DATE:20251112
DTSTAMP:20260422T073841
CREATED:20230626T144439Z
LAST-MODIFIED:20230626T144439Z
UID:10000800-1762819200-1762905599@resonateatlanta.org
SUMMARY:Churchwide Fasting Day
DESCRIPTION:Monthly we set aside a day to engage in the spiritual practice of fasting. Its a chance for the whole church to draw closer to God through a focus on fasting as it relates to concepts like humility\, devotion\, repentance\, and gratitude.
URL:https://resonateatlanta.org/event/churchwide-fasting-day/2025-11-11/
LOCATION:GA
CATEGORIES:Community
ATTACH;FMTTYPE=image/png:https://resonateatlanta.org/wp-content/uploads/2023/06/fasting.png
END:VEVENT
BEGIN:VEVENT
DTSTART;TZID=America/New_York:20251102T090000
DTEND;TZID=America/New_York:20251102T133000
DTSTAMP:20260422T073841
CREATED:20251010T014204Z
LAST-MODIFIED:20251019T123217Z
UID:10001706-1762074000-1762090200@resonateatlanta.org
SUMMARY:Serve Sunday
DESCRIPTION:Join us for Serve Sunday\, a day when we step outside our normal worship gathering to love and serve our city. Instead of meeting for a traditional service\, our church family will scatter across Atlanta to partner with local organizations and meet tangible needs in our community. \nThere will be a variety of service projects for all ages and abilities. Families are encouraged to serve together\, and childcare will be available at the church for children up to age 5. \nCome be part of what God is doing through acts of compassion and service.Sign-up today! Click here.
URL:https://resonateatlanta.org/event/serve-sunday-3/
LOCATION:Resonate Church\, 3433 Memorial Drive\, Decatur\, GA\, 30032\, United States
CATEGORIES:Community,Outreach
ATTACH;FMTTYPE=image/png:https://resonateatlanta.org/wp-content/uploads/2025/10/serve-sunday.png
END:VEVENT
BEGIN:VEVENT
DTSTART;TZID=America/New_York:20251015T183000
DTEND;TZID=America/New_York:20251015T200000
DTSTAMP:20260422T073841
CREATED:20250804T195353Z
LAST-MODIFIED:20250804T201312Z
UID:10001668-1760553000-1760558400@resonateatlanta.org
SUMMARY:Living Stone Worship Service
DESCRIPTION:Join us for a special evening of worship\, prayer\, and community as we gather for our Living Stone Worship Service—inspired by Peter’s words to the early church about being “living stones… built into a spiritual house” (1 Peter 2:5). \nThis unique service will center on stories of how God is at work among us\, shared by people in our own community. Together\, we’ll respond through worship\, prayer\, and reflection. \nAll ages are welcome—come as you are\, and come ready to encounter God together.
URL:https://resonateatlanta.org/event/living-stone-worship-service/
LOCATION:Resonate Church\, 3433 Memorial Drive\, Decatur\, GA\, 30032\, United States
CATEGORIES:Community,Spiritual Formation
ATTACH;FMTTYPE=image/png:https://resonateatlanta.org/wp-content/uploads/2025/08/livinsg-stones-site.png
END:VEVENT
BEGIN:VEVENT
DTSTART;VALUE=DATE:20251014
DTEND;VALUE=DATE:20251015
DTSTAMP:20260422T073841
CREATED:20230626T144439Z
LAST-MODIFIED:20230626T144439Z
UID:10000799-1760400000-1760486399@resonateatlanta.org
SUMMARY:Churchwide Fasting Day
DESCRIPTION:Monthly we set aside a day to engage in the spiritual practice of fasting. Its a chance for the whole church to draw closer to God through a focus on fasting as it relates to concepts like humility\, devotion\, repentance\, and gratitude.
URL:https://resonateatlanta.org/event/churchwide-fasting-day/2025-10-14/
LOCATION:GA
CATEGORIES:Community
ATTACH;FMTTYPE=image/png:https://resonateatlanta.org/wp-content/uploads/2023/06/fasting.png
END:VEVENT
BEGIN:VEVENT
DTSTART;TZID=America/New_York:20250928T130000
DTEND;TZID=America/New_York:20250928T150000
DTSTAMP:20260422T073841
CREATED:20250813T143843Z
LAST-MODIFIED:20250828T172239Z
UID:10001669-1759064400-1759071600@resonateatlanta.org
SUMMARY:All Church Lunch
DESCRIPTION:Whether you are new to Resonate or have been part of the family for years\, we’d love to share a meal together! Our next All Church Lunch will be on Sunday\, September 28 from 1–3pm at the Boultinghouse Home (4383 Lake Breeze Drive). \nEverything is provided—just bring yourself! This is a family-friendly gathering\, so kids are welcome. Come enjoy food\, conversation\, and connection with the whole church community.
URL:https://resonateatlanta.org/event/september-connect-lunch/
LOCATION:Boultinghouse Home\, 4383 Lake Breeze Drive\, Stone Mountain\, 30083\, United States
CATEGORIES:Community,Newcomers
ATTACH;FMTTYPE=image/png:https://resonateatlanta.org/wp-content/uploads/2025/08/all-church-lunch.png
ORGANIZER;CN="Brend Davidson":MAILTO:brent@resonateatlanta.org
END:VEVENT
END:VCALENDAR