BEGIN:VCALENDAR
VERSION:2.0
PRODID:-//Resonate Church - ECPv6.15.20//NONSGML v1.0//EN
CALSCALE:GREGORIAN
METHOD:PUBLISH
X-ORIGINAL-URL:https://resonateatlanta.org
X-WR-CALDESC:Events for Resonate Church
REFRESH-INTERVAL;VALUE=DURATION:PT1H
X-Robots-Tag:noindex
X-PUBLISHED-TTL:PT1H
BEGIN:VTIMEZONE
TZID:America/New_York
BEGIN:DAYLIGHT
TZOFFSETFROM:-0500
TZOFFSETTO:-0400
TZNAME:EDT
DTSTART:20230312T070000
END:DAYLIGHT
BEGIN:STANDARD
TZOFFSETFROM:-0400
TZOFFSETTO:-0500
TZNAME:EST
DTSTART:20231105T060000
END:STANDARD
BEGIN:DAYLIGHT
TZOFFSETFROM:-0500
TZOFFSETTO:-0400
TZNAME:EDT
DTSTART:20240310T070000
END:DAYLIGHT
BEGIN:STANDARD
TZOFFSETFROM:-0400
TZOFFSETTO:-0500
TZNAME:EST
DTSTART:20241103T060000
END:STANDARD
BEGIN:DAYLIGHT
TZOFFSETFROM:-0500
TZOFFSETTO:-0400
TZNAME:EDT
DTSTART:20250309T070000
END:DAYLIGHT
BEGIN:STANDARD
TZOFFSETFROM:-0400
TZOFFSETTO:-0500
TZNAME:EST
DTSTART:20251102T060000
END:STANDARD
BEGIN:DAYLIGHT
TZOFFSETFROM:-0500
TZOFFSETTO:-0400
TZNAME:EDT
DTSTART:20260308T070000
END:DAYLIGHT
BEGIN:STANDARD
TZOFFSETFROM:-0400
TZOFFSETTO:-0500
TZNAME:EST
DTSTART:20261101T060000
END:STANDARD
END:VTIMEZONE
BEGIN:VEVENT
DTSTART;TZID=America/New_York:20250912T180000
DTEND;TZID=America/New_York:20250912T210000
DTSTAMP:20260422T153217
CREATED:20250907T031555Z
LAST-MODIFIED:20250907T031555Z
UID:10001704-1757700000-1757710800@resonateatlanta.org
SUMMARY:College & Grad Student Dinner
DESCRIPTION:All college and graduate students are invited to a dinner at Pastor Chris’s home! \n📍 417 Ashburton Ave SE\, Atlanta\, GA 30317🕕 Arrive at 6:00pm — Dinner served at 6:30pm \nThis is a chance to connect\, share a meal\, and enjoy good conversation together. Feel free to invite your friends—just let Chris know they’re coming by emailing chriscase@resonateatlanta.org. \nWe’d love to see you there!
URL:https://resonateatlanta.org/event/college-grad-student-dinner/
LOCATION:Case’s House\, 417 Ashburton Ave SE\, Atlanta\, GA\, 30317\, United States
CATEGORIES:Community
ORGANIZER;CN="Chris Case":MAILTO:chriscase@resonateatlanta.org
END:VEVENT
BEGIN:VEVENT
DTSTART;VALUE=DATE:20250909
DTEND;VALUE=DATE:20250910
DTSTAMP:20260422T153217
CREATED:20230626T144439Z
LAST-MODIFIED:20230626T144439Z
UID:10000798-1757376000-1757462399@resonateatlanta.org
SUMMARY:Churchwide Fasting Day
DESCRIPTION:Monthly we set aside a day to engage in the spiritual practice of fasting. Its a chance for the whole church to draw closer to God through a focus on fasting as it relates to concepts like humility\, devotion\, repentance\, and gratitude.
URL:https://resonateatlanta.org/event/churchwide-fasting-day/2025-09-09/
LOCATION:GA
CATEGORIES:Community
ATTACH;FMTTYPE=image/png:https://resonateatlanta.org/wp-content/uploads/2023/06/fasting.png
END:VEVENT
BEGIN:VEVENT
DTSTART;VALUE=DATE:20250812
DTEND;VALUE=DATE:20250813
DTSTAMP:20260422T153217
CREATED:20230626T144439Z
LAST-MODIFIED:20230626T144439Z
UID:10000797-1754956800-1755043199@resonateatlanta.org
SUMMARY:Churchwide Fasting Day
DESCRIPTION:Monthly we set aside a day to engage in the spiritual practice of fasting. Its a chance for the whole church to draw closer to God through a focus on fasting as it relates to concepts like humility\, devotion\, repentance\, and gratitude.
URL:https://resonateatlanta.org/event/churchwide-fasting-day/2025-08-12/
LOCATION:GA
CATEGORIES:Community
ATTACH;FMTTYPE=image/png:https://resonateatlanta.org/wp-content/uploads/2023/06/fasting.png
END:VEVENT
BEGIN:VEVENT
DTSTART;TZID=America/New_York:20250722T190000
DTEND;TZID=America/New_York:20250722T203000
DTSTAMP:20260422T153217
CREATED:20250430T193551Z
LAST-MODIFIED:20250430T193551Z
UID:10001598-1753210800-1753216200@resonateatlanta.org
SUMMARY:Men's Summer Book Study
DESCRIPTION:Join us this summer for a 7-week men’s book study on Transformative Friendship to explore what real\, meaningful connection can look like in a noisy world. No need to RSVP—just show up Tuesday nights starting June 10 from 7–8:30pm at The Lost Druid in Avondale and jump into the conversation anytime.
URL:https://resonateatlanta.org/event/mens-summer-book-study/2025-07-22/
LOCATION:The Lost Druid\, 2866 Washington St\, Avondale Estates\, 30002\, United States
CATEGORIES:Community,Education,Men
ATTACH;FMTTYPE=image/png:https://resonateatlanta.org/wp-content/uploads/2025/04/mensclass.png
END:VEVENT
BEGIN:VEVENT
DTSTART;TZID=America/New_York:20250715T190000
DTEND;TZID=America/New_York:20250715T203000
DTSTAMP:20260422T153217
CREATED:20250430T193551Z
LAST-MODIFIED:20250430T193551Z
UID:10001597-1752606000-1752611400@resonateatlanta.org
SUMMARY:Men's Summer Book Study
DESCRIPTION:Join us this summer for a 7-week men’s book study on Transformative Friendship to explore what real\, meaningful connection can look like in a noisy world. No need to RSVP—just show up Tuesday nights starting June 10 from 7–8:30pm at The Lost Druid in Avondale and jump into the conversation anytime.
URL:https://resonateatlanta.org/event/mens-summer-book-study/2025-07-15/
LOCATION:The Lost Druid\, 2866 Washington St\, Avondale Estates\, 30002\, United States
CATEGORIES:Community,Education,Men
ATTACH;FMTTYPE=image/png:https://resonateatlanta.org/wp-content/uploads/2025/04/mensclass.png
END:VEVENT
BEGIN:VEVENT
DTSTART;TZID=America/New_York:20250708T190000
DTEND;TZID=America/New_York:20250708T203000
DTSTAMP:20260422T153217
CREATED:20250430T193551Z
LAST-MODIFIED:20250430T193551Z
UID:10001596-1752001200-1752006600@resonateatlanta.org
SUMMARY:Men's Summer Book Study
DESCRIPTION:Join us this summer for a 7-week men’s book study on Transformative Friendship to explore what real\, meaningful connection can look like in a noisy world. No need to RSVP—just show up Tuesday nights starting June 10 from 7–8:30pm at The Lost Druid in Avondale and jump into the conversation anytime.
URL:https://resonateatlanta.org/event/mens-summer-book-study/2025-07-08/
LOCATION:The Lost Druid\, 2866 Washington St\, Avondale Estates\, 30002\, United States
CATEGORIES:Community,Education,Men
ATTACH;FMTTYPE=image/png:https://resonateatlanta.org/wp-content/uploads/2025/04/mensclass.png
END:VEVENT
BEGIN:VEVENT
DTSTART;VALUE=DATE:20250708
DTEND;VALUE=DATE:20250709
DTSTAMP:20260422T153217
CREATED:20230626T144439Z
LAST-MODIFIED:20230626T144439Z
UID:10000796-1751932800-1752019199@resonateatlanta.org
SUMMARY:Churchwide Fasting Day
DESCRIPTION:Monthly we set aside a day to engage in the spiritual practice of fasting. Its a chance for the whole church to draw closer to God through a focus on fasting as it relates to concepts like humility\, devotion\, repentance\, and gratitude.
URL:https://resonateatlanta.org/event/churchwide-fasting-day/2025-07-08/
LOCATION:GA
CATEGORIES:Community
ATTACH;FMTTYPE=image/png:https://resonateatlanta.org/wp-content/uploads/2023/06/fasting.png
END:VEVENT
BEGIN:VEVENT
DTSTART;TZID=America/New_York:20250701T190000
DTEND;TZID=America/New_York:20250701T203000
DTSTAMP:20260422T153217
CREATED:20250430T193551Z
LAST-MODIFIED:20250430T193551Z
UID:10001595-1751396400-1751401800@resonateatlanta.org
SUMMARY:Men's Summer Book Study
DESCRIPTION:Join us this summer for a 7-week men’s book study on Transformative Friendship to explore what real\, meaningful connection can look like in a noisy world. No need to RSVP—just show up Tuesday nights starting June 10 from 7–8:30pm at The Lost Druid in Avondale and jump into the conversation anytime.
URL:https://resonateatlanta.org/event/mens-summer-book-study/2025-07-01/
LOCATION:The Lost Druid\, 2866 Washington St\, Avondale Estates\, 30002\, United States
CATEGORIES:Community,Education,Men
ATTACH;FMTTYPE=image/png:https://resonateatlanta.org/wp-content/uploads/2025/04/mensclass.png
END:VEVENT
BEGIN:VEVENT
DTSTART;TZID=America/New_York:20250624T190000
DTEND;TZID=America/New_York:20250624T203000
DTSTAMP:20260422T153217
CREATED:20250430T193551Z
LAST-MODIFIED:20250430T193551Z
UID:10001594-1750791600-1750797000@resonateatlanta.org
SUMMARY:Men's Summer Book Study
DESCRIPTION:Join us this summer for a 7-week men’s book study on Transformative Friendship to explore what real\, meaningful connection can look like in a noisy world. No need to RSVP—just show up Tuesday nights starting June 10 from 7–8:30pm at The Lost Druid in Avondale and jump into the conversation anytime.
URL:https://resonateatlanta.org/event/mens-summer-book-study/2025-06-24/
LOCATION:The Lost Druid\, 2866 Washington St\, Avondale Estates\, 30002\, United States
CATEGORIES:Community,Education,Men
ATTACH;FMTTYPE=image/png:https://resonateatlanta.org/wp-content/uploads/2025/04/mensclass.png
END:VEVENT
BEGIN:VEVENT
DTSTART;TZID=America/New_York:20250617T190000
DTEND;TZID=America/New_York:20250617T203000
DTSTAMP:20260422T153217
CREATED:20250430T193551Z
LAST-MODIFIED:20250430T193551Z
UID:10001593-1750186800-1750192200@resonateatlanta.org
SUMMARY:Men's Summer Book Study
DESCRIPTION:Join us this summer for a 7-week men’s book study on Transformative Friendship to explore what real\, meaningful connection can look like in a noisy world. No need to RSVP—just show up Tuesday nights starting June 10 from 7–8:30pm at The Lost Druid in Avondale and jump into the conversation anytime.
URL:https://resonateatlanta.org/event/mens-summer-book-study/2025-06-17/
LOCATION:The Lost Druid\, 2866 Washington St\, Avondale Estates\, 30002\, United States
CATEGORIES:Community,Education,Men
ATTACH;FMTTYPE=image/png:https://resonateatlanta.org/wp-content/uploads/2025/04/mensclass.png
END:VEVENT
BEGIN:VEVENT
DTSTART;TZID=America/New_York:20250610T190000
DTEND;TZID=America/New_York:20250610T203000
DTSTAMP:20260422T153217
CREATED:20250430T193551Z
LAST-MODIFIED:20250430T193551Z
UID:10001592-1749582000-1749587400@resonateatlanta.org
SUMMARY:Men's Summer Book Study
DESCRIPTION:Join us this summer for a 7-week men’s book study on Transformative Friendship to explore what real\, meaningful connection can look like in a noisy world. No need to RSVP—just show up Tuesday nights starting June 10 from 7–8:30pm at The Lost Druid in Avondale and jump into the conversation anytime.
URL:https://resonateatlanta.org/event/mens-summer-book-study/2025-06-10/
LOCATION:The Lost Druid\, 2866 Washington St\, Avondale Estates\, 30002\, United States
CATEGORIES:Community,Education,Men
ATTACH;FMTTYPE=image/png:https://resonateatlanta.org/wp-content/uploads/2025/04/mensclass.png
END:VEVENT
BEGIN:VEVENT
DTSTART;VALUE=DATE:20250610
DTEND;VALUE=DATE:20250611
DTSTAMP:20260422T153217
CREATED:20230626T144439Z
LAST-MODIFIED:20230626T144439Z
UID:10000795-1749513600-1749599999@resonateatlanta.org
SUMMARY:Churchwide Fasting Day
DESCRIPTION:Monthly we set aside a day to engage in the spiritual practice of fasting. Its a chance for the whole church to draw closer to God through a focus on fasting as it relates to concepts like humility\, devotion\, repentance\, and gratitude.
URL:https://resonateatlanta.org/event/churchwide-fasting-day/2025-06-10/
LOCATION:GA
CATEGORIES:Community
ATTACH;FMTTYPE=image/png:https://resonateatlanta.org/wp-content/uploads/2023/06/fasting.png
END:VEVENT
BEGIN:VEVENT
DTSTART;TZID=America/New_York:20250525T100000
DTEND;TZID=America/New_York:20250525T120000
DTSTAMP:20260422T153217
CREATED:20250403T010304Z
LAST-MODIFIED:20250504T123723Z
UID:10001573-1748167200-1748174400@resonateatlanta.org
SUMMARY:Outdoor Church
DESCRIPTION:We’re excited for our third  annual Outdoor Service and Potluck service on the Sunday before Memorial Day. Service will be at 10am that day followed by an all-church outdoor lunch. For the potluck lunch\, please RSVP at resonateatlanta.org/potluck.
URL:https://resonateatlanta.org/event/outdoor-church-2/
LOCATION:Resonate Church\, 3433 Memorial Drive\, Decatur\, GA\, 30032\, United States
CATEGORIES:Community,Newcomers
ATTACH;FMTTYPE=image/jpeg:https://resonateatlanta.org/wp-content/uploads/2025/04/outdoor-church.jpg
END:VEVENT
BEGIN:VEVENT
DTSTART;VALUE=DATE:20250513
DTEND;VALUE=DATE:20250514
DTSTAMP:20260422T153217
CREATED:20230626T144439Z
LAST-MODIFIED:20230626T144439Z
UID:10000794-1747094400-1747180799@resonateatlanta.org
SUMMARY:Churchwide Fasting Day
DESCRIPTION:Monthly we set aside a day to engage in the spiritual practice of fasting. Its a chance for the whole church to draw closer to God through a focus on fasting as it relates to concepts like humility\, devotion\, repentance\, and gratitude.
URL:https://resonateatlanta.org/event/churchwide-fasting-day/2025-05-13/
LOCATION:GA
CATEGORIES:Community
ATTACH;FMTTYPE=image/png:https://resonateatlanta.org/wp-content/uploads/2023/06/fasting.png
END:VEVENT
BEGIN:VEVENT
DTSTART;TZID=America/New_York:20250509T000000
DTEND;TZID=America/New_York:20250509T235900
DTSTAMP:20260422T153217
CREATED:20250309T032334Z
LAST-MODIFIED:20250504T123700Z
UID:10001567-1746748800-1746835140@resonateatlanta.org
SUMMARY:Annual Baby Shower Support
DESCRIPTION:Resonate Church is partnering with Embrace once again to host a baby shower for expectant refugee mothers\, and we’d love your help to make this special event possible on May 9! \nWe are assembling 10 gift bags for these moms and are collecting new baby essentials\, including: \n\nSleep sacks\nThermometers\nBaby wash\nDiaper cream\nSize 1 diapers\nWipes\nNewborn onesies\nPostpartum feminine pads\n\nYou can donate by checking our wish list\, which allows you to order directly and see what items are still needed. \nDrop-off options:📦 Ship directly to Aislynn & Bryan’s home (2908 Saint Patrick St. SE\, Atlanta\, GA 30317)🏠 Bring donations to church and place them in the collection bin in the lobby \nAdditional Needs: While we are not collecting maternity clothes this year\, Embrace is in need of infant car seats if you’d like to contribute one. \nFor questions\, contact Aislynn at acannon5@gmail.com or 434-229-5113. Thank you for helping us bless these moms! ❤️
URL:https://resonateatlanta.org/event/annual-baby-shower-support/
LOCATION:Private Residence
CATEGORIES:Community,Outreach,Women
ATTACH;FMTTYPE=image/png:https://resonateatlanta.org/wp-content/uploads/2025/03/embrace.png
END:VEVENT
BEGIN:VEVENT
DTSTART;TZID=America/New_York:20250503T090000
DTEND;TZID=America/New_York:20250503T153000
DTSTAMP:20260422T153217
CREATED:20250319T140347Z
LAST-MODIFIED:20250319T140407Z
UID:10001569-1746262800-1746286200@resonateatlanta.org
SUMMARY:Mental Health First Aid Training
DESCRIPTION:Just as CPR helps you assist an individual having a heart attack\, Mental Health First Aid (MHFA) teaches you how to assist and support others who may be experiencing a mental health or substance use challenge. For questions or sign up\, please email Julia Horton at juliacarolhorton@gmail.com.
URL:https://resonateatlanta.org/event/mental-health-first-aid-training/
LOCATION:Resonate Church\, 3433 Memorial Drive\, Decatur\, GA\, 30032\, United States
CATEGORIES:Community,Education
ATTACH;FMTTYPE=image/png:https://resonateatlanta.org/wp-content/uploads/2025/03/Mental-Health-First-Aid-Logo.png
ORGANIZER;CN="Julia Horton":MAILTO:juliacarolhorton@gmail.com
END:VEVENT
BEGIN:VEVENT
DTSTART;TZID=America/New_York:20250427T123000
DTEND;TZID=America/New_York:20250427T140000
DTSTAMP:20260422T153217
CREATED:20250407T142957Z
LAST-MODIFIED:20250423T153141Z
UID:10001575-1745757000-1745762400@resonateatlanta.org
SUMMARY:College Lunch
DESCRIPTION:Students from Emory\, Agnes Scott\, and other colleges—along with grad students and anyone who loves college students—are invited to join us for College Lunch\, a free meal celebrating the end of the semester! Come enjoy good food and connect with others before summer break begins. \nRSVP: Email Ashley Maxwell or through this form.
URL:https://resonateatlanta.org/event/college-lunch/
LOCATION:Resonate Church\, 3433 Memorial Drive\, Decatur\, GA\, 30032\, United States
CATEGORIES:Community
ATTACH;FMTTYPE=image/jpeg:https://resonateatlanta.org/wp-content/uploads/2025/04/lunch.jpg
ORGANIZER;CN="Noah Nemni":MAILTO:noah@resonateatlanta.org
END:VEVENT
BEGIN:VEVENT
DTSTART;VALUE=DATE:20250425
DTEND;VALUE=DATE:20250428
DTSTAMP:20260422T153217
CREATED:20250219T141727Z
LAST-MODIFIED:20250227T202708Z
UID:10001562-1745539200-1745798399@resonateatlanta.org
SUMMARY:Men's Retreat 2025
DESCRIPTION:Take the weekend to seek God and grow as brothers in community with one another! The retreat will consist of group gatherings with teaching and worship\, personal time\, and plenty of free time for activities and hanging out. \nMen’s Retreat dates: Fri April 25 @ 6:30pm – Sun April 27 @ 12pm \nFinal Date to Register or Cancel: Wed\, April 9 – after this date we cannot offer refunds because we have made our final payment to the retreat center. \nLocation: Fort Mountain Retreat & Conference Center – Global Youth Ministry\n40 Blackhawk Trail\, Chatsworth\, GA 30705 \nCost: $175 for a Double Room with your own queen bed or $270 for a Single Room. This year there is also a 4-Man room option for $140 with 2 queen beds and 2 bunk beds in the room. \nMeals\, lodging\, and most activities are included with registration. Additional paid activities are optional and will be announced. If the cost of the retreat is prohibitive\, please email Sarah Pascual (sarah@resonateatlanta.org) concerning the availability of partial scholarships before filling out the form.
URL:https://resonateatlanta.org/event/mens-retreat-2025/
LOCATION:Fort Mountain Retreat & Conference Center\, 40 Blackhawk Trail\, Chatsworth\, 30705\, United States
CATEGORIES:Community,Men
ATTACH;FMTTYPE=image/png:https://resonateatlanta.org/wp-content/uploads/2025/02/mens-retreat.png
END:VEVENT
BEGIN:VEVENT
DTSTART;VALUE=DATE:20250408
DTEND;VALUE=DATE:20250409
DTSTAMP:20260422T153217
CREATED:20230626T144439Z
LAST-MODIFIED:20230626T144439Z
UID:10000793-1744070400-1744156799@resonateatlanta.org
SUMMARY:Churchwide Fasting Day
DESCRIPTION:Monthly we set aside a day to engage in the spiritual practice of fasting. Its a chance for the whole church to draw closer to God through a focus on fasting as it relates to concepts like humility\, devotion\, repentance\, and gratitude.
URL:https://resonateatlanta.org/event/churchwide-fasting-day/2025-04-08/
LOCATION:GA
CATEGORIES:Community
ATTACH;FMTTYPE=image/png:https://resonateatlanta.org/wp-content/uploads/2023/06/fasting.png
END:VEVENT
BEGIN:VEVENT
DTSTART;TZID=America/New_York:20250330T090000
DTEND;TZID=America/New_York:20250330T120000
DTSTAMP:20260422T153217
CREATED:20250223T013911Z
LAST-MODIFIED:20250223T013911Z
UID:10001565-1743325200-1743336000@resonateatlanta.org
SUMMARY:Generations Sunday
DESCRIPTION:On Generations Sunday\, children from preschool through upper elementary will join the adults in the auditorium for worship. We’ll come together as a church family\, celebrating as image bearers of all ages and abilities. Childcare will still be available for infants and toddlers during this time.
URL:https://resonateatlanta.org/event/generations-sunday-3/
LOCATION:Resonate Church\, 3433 Memorial Drive\, Decatur\, GA\, 30032\, United States
CATEGORIES:Community,Newcomers,Youth + Kids
ATTACH;FMTTYPE=image/png:https://resonateatlanta.org/wp-content/uploads/2025/02/GenerationsSunday.png
END:VEVENT
BEGIN:VEVENT
DTSTART;TZID=America/New_York:20250323T130000
DTEND;TZID=America/New_York:20250323T150000
DTSTAMP:20260422T153217
CREATED:20250206T131327Z
LAST-MODIFIED:20250206T131338Z
UID:10001296-1742734800-1742742000@resonateatlanta.org
SUMMARY:Connect Lunch
DESCRIPTION:Whether you are new to Resonate Church or have been around for years\, we’d love to spend time together over a meal! \nOur next Connect Lunch will be happening on March 23rd from 1pm-3pm at the Potters home (1070 Nielsen Drive). We will have everything covered\, the only thing you need to bring is yourself. This is a family friendly event so kids are welcome!
URL:https://resonateatlanta.org/event/connect-lunch/
LOCATION:Private Residence
CATEGORIES:Community,Newcomers
ATTACH;FMTTYPE=image/png:https://resonateatlanta.org/wp-content/uploads/2025/02/connect-lunch.png
END:VEVENT
BEGIN:VEVENT
DTSTART;VALUE=DATE:20250311
DTEND;VALUE=DATE:20250312
DTSTAMP:20260422T153217
CREATED:20230626T144439Z
LAST-MODIFIED:20230626T144439Z
UID:10000792-1741651200-1741737599@resonateatlanta.org
SUMMARY:Churchwide Fasting Day
DESCRIPTION:Monthly we set aside a day to engage in the spiritual practice of fasting. Its a chance for the whole church to draw closer to God through a focus on fasting as it relates to concepts like humility\, devotion\, repentance\, and gratitude.
URL:https://resonateatlanta.org/event/churchwide-fasting-day/2025-03-11/
LOCATION:GA
CATEGORIES:Community
ATTACH;FMTTYPE=image/png:https://resonateatlanta.org/wp-content/uploads/2023/06/fasting.png
END:VEVENT
BEGIN:VEVENT
DTSTART;TZID=America/New_York:20250305T173000
DTEND;TZID=America/New_York:20250305T180000
DTSTAMP:20260422T153217
CREATED:20250119T025606Z
LAST-MODIFIED:20250212T192033Z
UID:10001298-1741195800-1741197600@resonateatlanta.org
SUMMARY:Ash Wednesday Service
DESCRIPTION:Ash Wednesday marks the first day of Lent. We’ll gather for a brief service that will include musical worship\, prayer\, and the receiving of ashes.
URL:https://resonateatlanta.org/event/ash-wednesday/2025-03-05/2/
LOCATION:Resonate Church\, 3433 Memorial Drive\, Decatur\, GA\, 30032\, United States
CATEGORIES:Community
ATTACH;FMTTYPE=image/png:https://resonateatlanta.org/wp-content/uploads/2025/01/logo.png
END:VEVENT
BEGIN:VEVENT
DTSTART;TZID=America/New_York:20250305T120000
DTEND;TZID=America/New_York:20250305T123000
DTSTAMP:20260422T153217
CREATED:20250119T025606Z
LAST-MODIFIED:20250212T192033Z
UID:10001274-1741176000-1741177800@resonateatlanta.org
SUMMARY:Ash Wednesday Service
DESCRIPTION:Ash Wednesday marks the first day of Lent. We’ll gather for a brief service that will include musical worship\, prayer\, and the receiving of ashes.
URL:https://resonateatlanta.org/event/ash-wednesday/2025-03-05/1/
LOCATION:Resonate Church\, 3433 Memorial Drive\, Decatur\, GA\, 30032\, United States
CATEGORIES:Community
ATTACH;FMTTYPE=image/png:https://resonateatlanta.org/wp-content/uploads/2025/01/logo.png
END:VEVENT
BEGIN:VEVENT
DTSTART;VALUE=DATE:20250211
DTEND;VALUE=DATE:20250212
DTSTAMP:20260422T153217
CREATED:20230626T144439Z
LAST-MODIFIED:20230626T144439Z
UID:10000791-1739232000-1739318399@resonateatlanta.org
SUMMARY:Churchwide Fasting Day
DESCRIPTION:Monthly we set aside a day to engage in the spiritual practice of fasting. Its a chance for the whole church to draw closer to God through a focus on fasting as it relates to concepts like humility\, devotion\, repentance\, and gratitude.
URL:https://resonateatlanta.org/event/churchwide-fasting-day/2025-02-11/
LOCATION:GA
CATEGORIES:Community
ATTACH;FMTTYPE=image/png:https://resonateatlanta.org/wp-content/uploads/2023/06/fasting.png
END:VEVENT
BEGIN:VEVENT
DTSTART;VALUE=DATE:20250114
DTEND;VALUE=DATE:20250115
DTSTAMP:20260422T153217
CREATED:20230626T144439Z
LAST-MODIFIED:20230626T144439Z
UID:10000790-1736812800-1736899199@resonateatlanta.org
SUMMARY:Churchwide Fasting Day
DESCRIPTION:Monthly we set aside a day to engage in the spiritual practice of fasting. Its a chance for the whole church to draw closer to God through a focus on fasting as it relates to concepts like humility\, devotion\, repentance\, and gratitude.
URL:https://resonateatlanta.org/event/churchwide-fasting-day/2025-01-14/
LOCATION:GA
CATEGORIES:Community
ATTACH;FMTTYPE=image/png:https://resonateatlanta.org/wp-content/uploads/2023/06/fasting.png
END:VEVENT
BEGIN:VEVENT
DTSTART;VALUE=DATE:20241210
DTEND;VALUE=DATE:20241211
DTSTAMP:20260422T153217
CREATED:20230626T144439Z
LAST-MODIFIED:20230626T144439Z
UID:10000789-1733788800-1733875199@resonateatlanta.org
SUMMARY:Churchwide Fasting Day
DESCRIPTION:Monthly we set aside a day to engage in the spiritual practice of fasting. Its a chance for the whole church to draw closer to God through a focus on fasting as it relates to concepts like humility\, devotion\, repentance\, and gratitude.
URL:https://resonateatlanta.org/event/churchwide-fasting-day/2024-12-10/
LOCATION:GA
CATEGORIES:Community
ATTACH;FMTTYPE=image/png:https://resonateatlanta.org/wp-content/uploads/2023/06/fasting.png
END:VEVENT
BEGIN:VEVENT
DTSTART;VALUE=DATE:20241112
DTEND;VALUE=DATE:20241113
DTSTAMP:20260422T153217
CREATED:20230626T144439Z
LAST-MODIFIED:20230626T144439Z
UID:10000788-1731369600-1731455999@resonateatlanta.org
SUMMARY:Churchwide Fasting Day
DESCRIPTION:Monthly we set aside a day to engage in the spiritual practice of fasting. Its a chance for the whole church to draw closer to God through a focus on fasting as it relates to concepts like humility\, devotion\, repentance\, and gratitude.
URL:https://resonateatlanta.org/event/churchwide-fasting-day/2024-11-12/
LOCATION:GA
CATEGORIES:Community
ATTACH;FMTTYPE=image/png:https://resonateatlanta.org/wp-content/uploads/2023/06/fasting.png
END:VEVENT
BEGIN:VEVENT
DTSTART;TZID=America/New_York:20241110T130000
DTEND;TZID=America/New_York:20241110T150000
DTSTAMP:20260422T153217
CREATED:20240525T164437Z
LAST-MODIFIED:20241003T154205Z
UID:10001244-1731243600-1731250800@resonateatlanta.org
SUMMARY:Connect Lunch
DESCRIPTION:Whether you are new to Resonate or have been around for years\, we’d love to spend time together over a meal at a home near the church (299 Ivy Glen Circle in Avondale Estates). We have everything covered\, the only thing you need to bring is yourself!
URL:https://resonateatlanta.org/event/summer-connect-lunch/
LOCATION:Private Residence
CATEGORIES:Community
ATTACH;FMTTYPE=image/png:https://resonateatlanta.org/wp-content/uploads/2024/04/summerconnect.png
END:VEVENT
BEGIN:VEVENT
DTSTART;TZID=America/New_York:20241103T183000
DTEND;TZID=America/New_York:20241103T200000
DTSTAMP:20260422T153217
CREATED:20241003T153958Z
LAST-MODIFIED:20241003T153959Z
UID:10001060-1730658600-1730664000@resonateatlanta.org
SUMMARY:Partnership at Resonate
DESCRIPTION:If you’re interested in membership/partnership at Resonate\, join us for this class about the foundational operations and beliefs of our church community.
URL:https://resonateatlanta.org/event/partnership-at-resonate-2/
LOCATION:Resonate Church\, 3433 Memorial Drive\, Decatur\, GA\, 30032\, United States
CATEGORIES:Community,Education,Newcomers
ATTACH;FMTTYPE=image/png:https://resonateatlanta.org/wp-content/uploads/2020/04/connect.png
END:VEVENT
END:VCALENDAR