BEGIN:VCALENDAR
VERSION:2.0
PRODID:-//Resonate Church - ECPv6.15.20//NONSGML v1.0//EN
CALSCALE:GREGORIAN
METHOD:PUBLISH
X-WR-CALNAME:Resonate Church
X-ORIGINAL-URL:https://resonateatlanta.org
X-WR-CALDESC:Events for Resonate Church
REFRESH-INTERVAL;VALUE=DURATION:PT1H
X-Robots-Tag:noindex
X-PUBLISHED-TTL:PT1H
BEGIN:VTIMEZONE
TZID:America/New_York
BEGIN:DAYLIGHT
TZOFFSETFROM:-0500
TZOFFSETTO:-0400
TZNAME:EDT
DTSTART:20270314T070000
END:DAYLIGHT
BEGIN:STANDARD
TZOFFSETFROM:-0400
TZOFFSETTO:-0500
TZNAME:EST
DTSTART:20271107T060000
END:STANDARD
BEGIN:DAYLIGHT
TZOFFSETFROM:-0500
TZOFFSETTO:-0400
TZNAME:EDT
DTSTART:20280312T070000
END:DAYLIGHT
BEGIN:STANDARD
TZOFFSETFROM:-0400
TZOFFSETTO:-0500
TZNAME:EST
DTSTART:20281105T060000
END:STANDARD
BEGIN:DAYLIGHT
TZOFFSETFROM:-0500
TZOFFSETTO:-0400
TZNAME:EDT
DTSTART:20290311T070000
END:DAYLIGHT
BEGIN:STANDARD
TZOFFSETFROM:-0400
TZOFFSETTO:-0500
TZNAME:EST
DTSTART:20291104T060000
END:STANDARD
BEGIN:DAYLIGHT
TZOFFSETFROM:-0500
TZOFFSETTO:-0400
TZNAME:EDT
DTSTART:20300310T070000
END:DAYLIGHT
BEGIN:STANDARD
TZOFFSETFROM:-0400
TZOFFSETTO:-0500
TZNAME:EST
DTSTART:20301103T060000
END:STANDARD
BEGIN:DAYLIGHT
TZOFFSETFROM:-0500
TZOFFSETTO:-0400
TZNAME:EDT
DTSTART:20310309T070000
END:DAYLIGHT
BEGIN:STANDARD
TZOFFSETFROM:-0400
TZOFFSETTO:-0500
TZNAME:EST
DTSTART:20311102T060000
END:STANDARD
END:VTIMEZONE
BEGIN:VEVENT
DTSTART;TZID=America/New_York:20281019T073000
DTEND;TZID=America/New_York:20281019T090000
DTSTAMP:20260419T124622
CREATED:20200428T175330Z
LAST-MODIFIED:20250317T141455Z
UID:10001125-1855553400-1855558800@resonateatlanta.org
SUMMARY:Faith Driven Entrepreneur Group
DESCRIPTION:Join us the 3rd Thursday of every month for study\, discussion\, and community for faith-driven entrepreneurs and those passionately pursuing living out their identity in Christ in the workplace. Find more information and online registration at faithdrivenentrepreneur.org\, or simply drop in if you’re interested!
URL:https://resonateatlanta.org/event/faith-driven-entrepreneur-group/2028-10-19/
LOCATION:Opo Coffee Training Lab\, 314 E Howard Ave\, Decatur\, GA\, 30030\, United States
CATEGORIES:Education
ATTACH;FMTTYPE=image/jpeg:https://resonateatlanta.org/wp-content/uploads/2020/04/office.jpg
END:VEVENT
BEGIN:VEVENT
DTSTART;TZID=America/New_York:20281116T073000
DTEND;TZID=America/New_York:20281116T090000
DTSTAMP:20260419T124622
CREATED:20200428T175330Z
LAST-MODIFIED:20250317T141455Z
UID:10001281-1857972600-1857978000@resonateatlanta.org
SUMMARY:Faith Driven Entrepreneur Group
DESCRIPTION:Join us the 3rd Thursday of every month for study\, discussion\, and community for faith-driven entrepreneurs and those passionately pursuing living out their identity in Christ in the workplace. Find more information and online registration at faithdrivenentrepreneur.org\, or simply drop in if you’re interested!
URL:https://resonateatlanta.org/event/faith-driven-entrepreneur-group/2028-11-16/
LOCATION:Opo Coffee Training Lab\, 314 E Howard Ave\, Decatur\, GA\, 30030\, United States
CATEGORIES:Education
ATTACH;FMTTYPE=image/jpeg:https://resonateatlanta.org/wp-content/uploads/2020/04/office.jpg
END:VEVENT
BEGIN:VEVENT
DTSTART;TZID=America/New_York:20281221T073000
DTEND;TZID=America/New_York:20281221T090000
DTSTAMP:20260419T124622
CREATED:20200428T175330Z
LAST-MODIFIED:20250317T141455Z
UID:10001282-1860996600-1861002000@resonateatlanta.org
SUMMARY:Faith Driven Entrepreneur Group
DESCRIPTION:Join us the 3rd Thursday of every month for study\, discussion\, and community for faith-driven entrepreneurs and those passionately pursuing living out their identity in Christ in the workplace. Find more information and online registration at faithdrivenentrepreneur.org\, or simply drop in if you’re interested!
URL:https://resonateatlanta.org/event/faith-driven-entrepreneur-group/2028-12-21/
LOCATION:Opo Coffee Training Lab\, 314 E Howard Ave\, Decatur\, GA\, 30030\, United States
CATEGORIES:Education
ATTACH;FMTTYPE=image/jpeg:https://resonateatlanta.org/wp-content/uploads/2020/04/office.jpg
END:VEVENT
BEGIN:VEVENT
DTSTART;TZID=America/New_York:20290118T073000
DTEND;TZID=America/New_York:20290118T090000
DTSTAMP:20260419T124622
CREATED:20200428T175330Z
LAST-MODIFIED:20250317T141455Z
UID:10001283-1863415800-1863421200@resonateatlanta.org
SUMMARY:Faith Driven Entrepreneur Group
DESCRIPTION:Join us the 3rd Thursday of every month for study\, discussion\, and community for faith-driven entrepreneurs and those passionately pursuing living out their identity in Christ in the workplace. Find more information and online registration at faithdrivenentrepreneur.org\, or simply drop in if you’re interested!
URL:https://resonateatlanta.org/event/faith-driven-entrepreneur-group/2029-01-18/
LOCATION:Opo Coffee Training Lab\, 314 E Howard Ave\, Decatur\, GA\, 30030\, United States
CATEGORIES:Education
ATTACH;FMTTYPE=image/jpeg:https://resonateatlanta.org/wp-content/uploads/2020/04/office.jpg
END:VEVENT
BEGIN:VEVENT
DTSTART;TZID=America/New_York:20290215T073000
DTEND;TZID=America/New_York:20290215T090000
DTSTAMP:20260419T124622
CREATED:20200428T175330Z
LAST-MODIFIED:20250317T141455Z
UID:10001284-1865835000-1865840400@resonateatlanta.org
SUMMARY:Faith Driven Entrepreneur Group
DESCRIPTION:Join us the 3rd Thursday of every month for study\, discussion\, and community for faith-driven entrepreneurs and those passionately pursuing living out their identity in Christ in the workplace. Find more information and online registration at faithdrivenentrepreneur.org\, or simply drop in if you’re interested!
URL:https://resonateatlanta.org/event/faith-driven-entrepreneur-group/2029-02-15/
LOCATION:Opo Coffee Training Lab\, 314 E Howard Ave\, Decatur\, GA\, 30030\, United States
CATEGORIES:Education
ATTACH;FMTTYPE=image/jpeg:https://resonateatlanta.org/wp-content/uploads/2020/04/office.jpg
END:VEVENT
BEGIN:VEVENT
DTSTART;TZID=America/New_York:20290315T073000
DTEND;TZID=America/New_York:20290315T090000
DTSTAMP:20260419T124622
CREATED:20200428T175330Z
LAST-MODIFIED:20250317T141455Z
UID:10001285-1868254200-1868259600@resonateatlanta.org
SUMMARY:Faith Driven Entrepreneur Group
DESCRIPTION:Join us the 3rd Thursday of every month for study\, discussion\, and community for faith-driven entrepreneurs and those passionately pursuing living out their identity in Christ in the workplace. Find more information and online registration at faithdrivenentrepreneur.org\, or simply drop in if you’re interested!
URL:https://resonateatlanta.org/event/faith-driven-entrepreneur-group/2029-03-15/
LOCATION:Opo Coffee Training Lab\, 314 E Howard Ave\, Decatur\, GA\, 30030\, United States
CATEGORIES:Education
ATTACH;FMTTYPE=image/jpeg:https://resonateatlanta.org/wp-content/uploads/2020/04/office.jpg
END:VEVENT
BEGIN:VEVENT
DTSTART;TZID=America/New_York:20290419T073000
DTEND;TZID=America/New_York:20290419T090000
DTSTAMP:20260419T124622
CREATED:20200428T175330Z
LAST-MODIFIED:20250317T141455Z
UID:10001286-1871278200-1871283600@resonateatlanta.org
SUMMARY:Faith Driven Entrepreneur Group
DESCRIPTION:Join us the 3rd Thursday of every month for study\, discussion\, and community for faith-driven entrepreneurs and those passionately pursuing living out their identity in Christ in the workplace. Find more information and online registration at faithdrivenentrepreneur.org\, or simply drop in if you’re interested!
URL:https://resonateatlanta.org/event/faith-driven-entrepreneur-group/2029-04-19/
LOCATION:Opo Coffee Training Lab\, 314 E Howard Ave\, Decatur\, GA\, 30030\, United States
CATEGORIES:Education
ATTACH;FMTTYPE=image/jpeg:https://resonateatlanta.org/wp-content/uploads/2020/04/office.jpg
END:VEVENT
BEGIN:VEVENT
DTSTART;TZID=America/New_York:20290517T073000
DTEND;TZID=America/New_York:20290517T090000
DTSTAMP:20260419T124622
CREATED:20200428T175330Z
LAST-MODIFIED:20250317T141455Z
UID:10001287-1873697400-1873702800@resonateatlanta.org
SUMMARY:Faith Driven Entrepreneur Group
DESCRIPTION:Join us the 3rd Thursday of every month for study\, discussion\, and community for faith-driven entrepreneurs and those passionately pursuing living out their identity in Christ in the workplace. Find more information and online registration at faithdrivenentrepreneur.org\, or simply drop in if you’re interested!
URL:https://resonateatlanta.org/event/faith-driven-entrepreneur-group/2029-05-17/
LOCATION:Opo Coffee Training Lab\, 314 E Howard Ave\, Decatur\, GA\, 30030\, United States
CATEGORIES:Education
ATTACH;FMTTYPE=image/jpeg:https://resonateatlanta.org/wp-content/uploads/2020/04/office.jpg
END:VEVENT
BEGIN:VEVENT
DTSTART;TZID=America/New_York:20290621T073000
DTEND;TZID=America/New_York:20290621T090000
DTSTAMP:20260419T124622
CREATED:20200428T175330Z
LAST-MODIFIED:20250317T141455Z
UID:10001288-1876721400-1876726800@resonateatlanta.org
SUMMARY:Faith Driven Entrepreneur Group
DESCRIPTION:Join us the 3rd Thursday of every month for study\, discussion\, and community for faith-driven entrepreneurs and those passionately pursuing living out their identity in Christ in the workplace. Find more information and online registration at faithdrivenentrepreneur.org\, or simply drop in if you’re interested!
URL:https://resonateatlanta.org/event/faith-driven-entrepreneur-group/2029-06-21/
LOCATION:Opo Coffee Training Lab\, 314 E Howard Ave\, Decatur\, GA\, 30030\, United States
CATEGORIES:Education
ATTACH;FMTTYPE=image/jpeg:https://resonateatlanta.org/wp-content/uploads/2020/04/office.jpg
END:VEVENT
BEGIN:VEVENT
DTSTART;TZID=America/New_York:20290719T073000
DTEND;TZID=America/New_York:20290719T090000
DTSTAMP:20260419T124622
CREATED:20200428T175330Z
LAST-MODIFIED:20250317T141455Z
UID:10001289-1879140600-1879146000@resonateatlanta.org
SUMMARY:Faith Driven Entrepreneur Group
DESCRIPTION:Join us the 3rd Thursday of every month for study\, discussion\, and community for faith-driven entrepreneurs and those passionately pursuing living out their identity in Christ in the workplace. Find more information and online registration at faithdrivenentrepreneur.org\, or simply drop in if you’re interested!
URL:https://resonateatlanta.org/event/faith-driven-entrepreneur-group/2029-07-19/
LOCATION:Opo Coffee Training Lab\, 314 E Howard Ave\, Decatur\, GA\, 30030\, United States
CATEGORIES:Education
ATTACH;FMTTYPE=image/jpeg:https://resonateatlanta.org/wp-content/uploads/2020/04/office.jpg
END:VEVENT
BEGIN:VEVENT
DTSTART;TZID=America/New_York:20290816T073000
DTEND;TZID=America/New_York:20290816T090000
DTSTAMP:20260419T124622
CREATED:20200428T175330Z
LAST-MODIFIED:20250317T141455Z
UID:10001290-1881559800-1881565200@resonateatlanta.org
SUMMARY:Faith Driven Entrepreneur Group
DESCRIPTION:Join us the 3rd Thursday of every month for study\, discussion\, and community for faith-driven entrepreneurs and those passionately pursuing living out their identity in Christ in the workplace. Find more information and online registration at faithdrivenentrepreneur.org\, or simply drop in if you’re interested!
URL:https://resonateatlanta.org/event/faith-driven-entrepreneur-group/2029-08-16/
LOCATION:Opo Coffee Training Lab\, 314 E Howard Ave\, Decatur\, GA\, 30030\, United States
CATEGORIES:Education
ATTACH;FMTTYPE=image/jpeg:https://resonateatlanta.org/wp-content/uploads/2020/04/office.jpg
END:VEVENT
BEGIN:VEVENT
DTSTART;TZID=America/New_York:20290920T073000
DTEND;TZID=America/New_York:20290920T090000
DTSTAMP:20260419T124622
CREATED:20200428T175330Z
LAST-MODIFIED:20250317T141455Z
UID:10001291-1884583800-1884589200@resonateatlanta.org
SUMMARY:Faith Driven Entrepreneur Group
DESCRIPTION:Join us the 3rd Thursday of every month for study\, discussion\, and community for faith-driven entrepreneurs and those passionately pursuing living out their identity in Christ in the workplace. Find more information and online registration at faithdrivenentrepreneur.org\, or simply drop in if you’re interested!
URL:https://resonateatlanta.org/event/faith-driven-entrepreneur-group/2029-09-20/
LOCATION:Opo Coffee Training Lab\, 314 E Howard Ave\, Decatur\, GA\, 30030\, United States
CATEGORIES:Education
ATTACH;FMTTYPE=image/jpeg:https://resonateatlanta.org/wp-content/uploads/2020/04/office.jpg
END:VEVENT
BEGIN:VEVENT
DTSTART;TZID=America/New_York:20291018T073000
DTEND;TZID=America/New_York:20291018T090000
DTSTAMP:20260419T124622
CREATED:20200428T175330Z
LAST-MODIFIED:20250317T141455Z
UID:10001292-1887003000-1887008400@resonateatlanta.org
SUMMARY:Faith Driven Entrepreneur Group
DESCRIPTION:Join us the 3rd Thursday of every month for study\, discussion\, and community for faith-driven entrepreneurs and those passionately pursuing living out their identity in Christ in the workplace. Find more information and online registration at faithdrivenentrepreneur.org\, or simply drop in if you’re interested!
URL:https://resonateatlanta.org/event/faith-driven-entrepreneur-group/2029-10-18/
LOCATION:Opo Coffee Training Lab\, 314 E Howard Ave\, Decatur\, GA\, 30030\, United States
CATEGORIES:Education
ATTACH;FMTTYPE=image/jpeg:https://resonateatlanta.org/wp-content/uploads/2020/04/office.jpg
END:VEVENT
BEGIN:VEVENT
DTSTART;TZID=America/New_York:20291115T073000
DTEND;TZID=America/New_York:20291115T090000
DTSTAMP:20260419T124622
CREATED:20200428T175330Z
LAST-MODIFIED:20250317T141455Z
UID:10001293-1889422200-1889427600@resonateatlanta.org
SUMMARY:Faith Driven Entrepreneur Group
DESCRIPTION:Join us the 3rd Thursday of every month for study\, discussion\, and community for faith-driven entrepreneurs and those passionately pursuing living out their identity in Christ in the workplace. Find more information and online registration at faithdrivenentrepreneur.org\, or simply drop in if you’re interested!
URL:https://resonateatlanta.org/event/faith-driven-entrepreneur-group/2029-11-15/
LOCATION:Opo Coffee Training Lab\, 314 E Howard Ave\, Decatur\, GA\, 30030\, United States
CATEGORIES:Education
ATTACH;FMTTYPE=image/jpeg:https://resonateatlanta.org/wp-content/uploads/2020/04/office.jpg
END:VEVENT
BEGIN:VEVENT
DTSTART;TZID=America/New_York:20291220T073000
DTEND;TZID=America/New_York:20291220T090000
DTSTAMP:20260419T124622
CREATED:20200428T175330Z
LAST-MODIFIED:20250317T141455Z
UID:10001294-1892446200-1892451600@resonateatlanta.org
SUMMARY:Faith Driven Entrepreneur Group
DESCRIPTION:Join us the 3rd Thursday of every month for study\, discussion\, and community for faith-driven entrepreneurs and those passionately pursuing living out their identity in Christ in the workplace. Find more information and online registration at faithdrivenentrepreneur.org\, or simply drop in if you’re interested!
URL:https://resonateatlanta.org/event/faith-driven-entrepreneur-group/2029-12-20/
LOCATION:Opo Coffee Training Lab\, 314 E Howard Ave\, Decatur\, GA\, 30030\, United States
CATEGORIES:Education
ATTACH;FMTTYPE=image/jpeg:https://resonateatlanta.org/wp-content/uploads/2020/04/office.jpg
END:VEVENT
BEGIN:VEVENT
DTSTART;TZID=America/New_York:20300117T073000
DTEND;TZID=America/New_York:20300117T090000
DTSTAMP:20260419T124622
CREATED:20200428T175330Z
LAST-MODIFIED:20250317T141455Z
UID:10001295-1894865400-1894870800@resonateatlanta.org
SUMMARY:Faith Driven Entrepreneur Group
DESCRIPTION:Join us the 3rd Thursday of every month for study\, discussion\, and community for faith-driven entrepreneurs and those passionately pursuing living out their identity in Christ in the workplace. Find more information and online registration at faithdrivenentrepreneur.org\, or simply drop in if you’re interested!
URL:https://resonateatlanta.org/event/faith-driven-entrepreneur-group/2030-01-17/
LOCATION:Opo Coffee Training Lab\, 314 E Howard Ave\, Decatur\, GA\, 30030\, United States
CATEGORIES:Education
ATTACH;FMTTYPE=image/jpeg:https://resonateatlanta.org/wp-content/uploads/2020/04/office.jpg
END:VEVENT
BEGIN:VEVENT
DTSTART;TZID=America/New_York:20300221T073000
DTEND;TZID=America/New_York:20300221T090000
DTSTAMP:20260419T124622
CREATED:20200428T175330Z
LAST-MODIFIED:20250317T141455Z
UID:10001568-1897889400-1897894800@resonateatlanta.org
SUMMARY:Faith Driven Entrepreneur Group
DESCRIPTION:Join us the 3rd Thursday of every month for study\, discussion\, and community for faith-driven entrepreneurs and those passionately pursuing living out their identity in Christ in the workplace. Find more information and online registration at faithdrivenentrepreneur.org\, or simply drop in if you’re interested!
URL:https://resonateatlanta.org/event/faith-driven-entrepreneur-group/2030-02-21/
LOCATION:Opo Coffee Training Lab\, 314 E Howard Ave\, Decatur\, GA\, 30030\, United States
CATEGORIES:Education
ATTACH;FMTTYPE=image/jpeg:https://resonateatlanta.org/wp-content/uploads/2020/04/office.jpg
END:VEVENT
END:VCALENDAR