BEGIN:VCALENDAR
VERSION:2.0
PRODID:-//Resonate Church - ECPv6.15.20//NONSGML v1.0//EN
CALSCALE:GREGORIAN
METHOD:PUBLISH
X-ORIGINAL-URL:https://resonateatlanta.org
X-WR-CALDESC:Events for Resonate Church
REFRESH-INTERVAL;VALUE=DURATION:PT1H
X-Robots-Tag:noindex
X-PUBLISHED-TTL:PT1H
BEGIN:VTIMEZONE
TZID:America/New_York
BEGIN:DAYLIGHT
TZOFFSETFROM:-0500
TZOFFSETTO:-0400
TZNAME:EDT
DTSTART:20220313T070000
END:DAYLIGHT
BEGIN:STANDARD
TZOFFSETFROM:-0400
TZOFFSETTO:-0500
TZNAME:EST
DTSTART:20221106T060000
END:STANDARD
BEGIN:DAYLIGHT
TZOFFSETFROM:-0500
TZOFFSETTO:-0400
TZNAME:EDT
DTSTART:20230312T070000
END:DAYLIGHT
BEGIN:STANDARD
TZOFFSETFROM:-0400
TZOFFSETTO:-0500
TZNAME:EST
DTSTART:20231105T060000
END:STANDARD
BEGIN:DAYLIGHT
TZOFFSETFROM:-0500
TZOFFSETTO:-0400
TZNAME:EDT
DTSTART:20240310T070000
END:DAYLIGHT
BEGIN:STANDARD
TZOFFSETFROM:-0400
TZOFFSETTO:-0500
TZNAME:EST
DTSTART:20241103T060000
END:STANDARD
END:VTIMEZONE
BEGIN:VEVENT
DTSTART;TZID=America/New_York:20231022T090000
DTEND;TZID=America/New_York:20231022T120000
DTSTAMP:20260421T011818
CREATED:20231016T150221Z
LAST-MODIFIED:20231016T150326Z
UID:10001048-1697965200-1697976000@resonateatlanta.org
SUMMARY:Serve Sunday
DESCRIPTION:Join us on October 22 for Serve Sunday where\, instead of our regular services\, we will work with partner organizations across the city on various beautification\, cleaning and service projects. There will be opportunities for adults and kids. As always\, we will be making blessing bags for people experiencing homelessness and will collect items throughout September and October. Childcare will be provided for babies and toddlers. Teams will meet at Resonate\, head to several serve sites in the community\, and then return to Resonate for a time of sharing and celebration. Sign-up in-person on Sundays or email info@resonateatlanta.org.
URL:https://resonateatlanta.org/event/serve-sunday-2/
LOCATION:Resonate Church\, 3433 Memorial Drive\, Decatur\, GA\, 30032\, United States
CATEGORIES:Community,Outreach
ATTACH;FMTTYPE=image/png:https://resonateatlanta.org/wp-content/uploads/2023/08/servesunday2.png
END:VEVENT
END:VCALENDAR