BEGIN:VCALENDAR
VERSION:2.0
PRODID:-//Resonate Church - ECPv6.15.20//NONSGML v1.0//EN
CALSCALE:GREGORIAN
METHOD:PUBLISH
X-ORIGINAL-URL:https://resonateatlanta.org
X-WR-CALDESC:Events for Resonate Church
REFRESH-INTERVAL;VALUE=DURATION:PT1H
X-Robots-Tag:noindex
X-PUBLISHED-TTL:PT1H
BEGIN:VTIMEZONE
TZID:America/New_York
BEGIN:DAYLIGHT
TZOFFSETFROM:-0500
TZOFFSETTO:-0400
TZNAME:EDT
DTSTART:20240310T070000
END:DAYLIGHT
BEGIN:STANDARD
TZOFFSETFROM:-0400
TZOFFSETTO:-0500
TZNAME:EST
DTSTART:20241103T060000
END:STANDARD
BEGIN:DAYLIGHT
TZOFFSETFROM:-0500
TZOFFSETTO:-0400
TZNAME:EDT
DTSTART:20250309T070000
END:DAYLIGHT
BEGIN:STANDARD
TZOFFSETFROM:-0400
TZOFFSETTO:-0500
TZNAME:EST
DTSTART:20251102T060000
END:STANDARD
BEGIN:DAYLIGHT
TZOFFSETFROM:-0500
TZOFFSETTO:-0400
TZNAME:EDT
DTSTART:20260308T070000
END:DAYLIGHT
BEGIN:STANDARD
TZOFFSETFROM:-0400
TZOFFSETTO:-0500
TZNAME:EST
DTSTART:20261101T060000
END:STANDARD
BEGIN:DAYLIGHT
TZOFFSETFROM:-0500
TZOFFSETTO:-0400
TZNAME:EDT
DTSTART:20270314T070000
END:DAYLIGHT
BEGIN:STANDARD
TZOFFSETFROM:-0400
TZOFFSETTO:-0500
TZNAME:EST
DTSTART:20271107T060000
END:STANDARD
END:VTIMEZONE
BEGIN:VEVENT
DTSTART;TZID=America/New_York:20260126T120000
DTEND;TZID=America/New_York:20260126T130000
DTSTAMP:20260420T092724
CREATED:20250212T194752Z
LAST-MODIFIED:20251218T015630Z
UID:10001348-1769428800-1769432400@resonateatlanta.org
SUMMARY:Outreach Hour
DESCRIPTION:Mondays at lunch is Outreach Hour at Resonate Church! Our lobby is wide open to neighbors in need with a meal and a welcome from Jesus Christ. We listen\, build relationships\, pray\, bear burdens\, and connect people with local resources. Sign up on Meal Train to provide lunch or soup for 20 people. You can drop off the meal on Sunday and we’ll warm it up Monday morning. If you’d like to volunteer\, contact Noah Nemnihttps://www.mealtrain.com/trains/73kr4n/
URL:https://resonateatlanta.org/event/outreach-hour/2026-01-26/
LOCATION:Resonate Church\, 3433 Memorial Drive\, Decatur\, GA\, 30032\, United States
CATEGORIES:Outreach
END:VEVENT
BEGIN:VEVENT
DTSTART;TZID=America/New_York:20260119T120000
DTEND;TZID=America/New_York:20260119T130000
DTSTAMP:20260420T092724
CREATED:20250212T194752Z
LAST-MODIFIED:20251218T015630Z
UID:10001347-1768824000-1768827600@resonateatlanta.org
SUMMARY:Outreach Hour
DESCRIPTION:Mondays at lunch is Outreach Hour at Resonate Church! Our lobby is wide open to neighbors in need with a meal and a welcome from Jesus Christ. We listen\, build relationships\, pray\, bear burdens\, and connect people with local resources. Sign up on Meal Train to provide lunch or soup for 20 people. You can drop off the meal on Sunday and we’ll warm it up Monday morning. If you’d like to volunteer\, contact Noah Nemnihttps://www.mealtrain.com/trains/73kr4n/
URL:https://resonateatlanta.org/event/outreach-hour/2026-01-19/
LOCATION:Resonate Church\, 3433 Memorial Drive\, Decatur\, GA\, 30032\, United States
CATEGORIES:Outreach
END:VEVENT
BEGIN:VEVENT
DTSTART;TZID=America/New_York:20260112T120000
DTEND;TZID=America/New_York:20260112T130000
DTSTAMP:20260420T092724
CREATED:20250212T194752Z
LAST-MODIFIED:20251218T015630Z
UID:10001346-1768219200-1768222800@resonateatlanta.org
SUMMARY:Outreach Hour
DESCRIPTION:Mondays at lunch is Outreach Hour at Resonate Church! Our lobby is wide open to neighbors in need with a meal and a welcome from Jesus Christ. We listen\, build relationships\, pray\, bear burdens\, and connect people with local resources. Sign up on Meal Train to provide lunch or soup for 20 people. You can drop off the meal on Sunday and we’ll warm it up Monday morning. If you’d like to volunteer\, contact Noah Nemnihttps://www.mealtrain.com/trains/73kr4n/
URL:https://resonateatlanta.org/event/outreach-hour/2026-01-12/
LOCATION:Resonate Church\, 3433 Memorial Drive\, Decatur\, GA\, 30032\, United States
CATEGORIES:Outreach
END:VEVENT
BEGIN:VEVENT
DTSTART;TZID=America/New_York:20260105T120000
DTEND;TZID=America/New_York:20260105T130000
DTSTAMP:20260420T092724
CREATED:20250212T194752Z
LAST-MODIFIED:20251218T015630Z
UID:10001345-1767614400-1767618000@resonateatlanta.org
SUMMARY:Outreach Hour
DESCRIPTION:Mondays at lunch is Outreach Hour at Resonate Church! Our lobby is wide open to neighbors in need with a meal and a welcome from Jesus Christ. We listen\, build relationships\, pray\, bear burdens\, and connect people with local resources. Sign up on Meal Train to provide lunch or soup for 20 people. You can drop off the meal on Sunday and we’ll warm it up Monday morning. If you’d like to volunteer\, contact Noah Nemnihttps://www.mealtrain.com/trains/73kr4n/
URL:https://resonateatlanta.org/event/outreach-hour/2026-01-05/
LOCATION:Resonate Church\, 3433 Memorial Drive\, Decatur\, GA\, 30032\, United States
CATEGORIES:Outreach
END:VEVENT
BEGIN:VEVENT
DTSTART;TZID=America/New_York:20251222T120000
DTEND;TZID=America/New_York:20251222T130000
DTSTAMP:20260420T092724
CREATED:20250212T194752Z
LAST-MODIFIED:20251218T015630Z
UID:10001343-1766404800-1766408400@resonateatlanta.org
SUMMARY:Outreach Hour
DESCRIPTION:Mondays at lunch is Outreach Hour at Resonate Church! Our lobby is wide open to neighbors in need with a meal and a welcome from Jesus Christ. We listen\, build relationships\, pray\, bear burdens\, and connect people with local resources. Sign up on Meal Train to provide lunch or soup for 20 people. You can drop off the meal on Sunday and we’ll warm it up Monday morning. If you’d like to volunteer\, contact Noah Nemnihttps://www.mealtrain.com/trains/73kr4n/
URL:https://resonateatlanta.org/event/outreach-hour/2025-12-22/
LOCATION:Resonate Church\, 3433 Memorial Drive\, Decatur\, GA\, 30032\, United States
CATEGORIES:Outreach
END:VEVENT
BEGIN:VEVENT
DTSTART;TZID=America/New_York:20251215T120000
DTEND;TZID=America/New_York:20251215T130000
DTSTAMP:20260420T092724
CREATED:20250212T194752Z
LAST-MODIFIED:20251218T015630Z
UID:10001342-1765800000-1765803600@resonateatlanta.org
SUMMARY:Outreach Hour
DESCRIPTION:Mondays at lunch is Outreach Hour at Resonate Church! Our lobby is wide open to neighbors in need with a meal and a welcome from Jesus Christ. We listen\, build relationships\, pray\, bear burdens\, and connect people with local resources. Sign up on Meal Train to provide lunch or soup for 20 people. You can drop off the meal on Sunday and we’ll warm it up Monday morning. If you’d like to volunteer\, contact Noah Nemnihttps://www.mealtrain.com/trains/73kr4n/
URL:https://resonateatlanta.org/event/outreach-hour/2025-12-15/
LOCATION:Resonate Church\, 3433 Memorial Drive\, Decatur\, GA\, 30032\, United States
CATEGORIES:Outreach
END:VEVENT
BEGIN:VEVENT
DTSTART;TZID=America/New_York:20251214T120000
DTEND;TZID=America/New_York:20251214T150000
DTSTAMP:20260420T092724
CREATED:20251207T142746Z
LAST-MODIFIED:20251207T144209Z
UID:10001712-1765713600-1765724400@resonateatlanta.org
SUMMARY:The Gathering: Social Impact Event
DESCRIPTION:Join us in the courtyard after service for our second Gathering Social Impact Event! Our Gathering Team is hosting an afternoon of food\, fun\, and helpful local resources—a simple way for us to connect with neighbors and practice hospitality together. \nBring your family\, meet someone new\, and help us extend the welcome of Christ to our community.We can’t wait to see you there! \nSetup: 10:30am · Event: 12–3pm\nLocation: Resonate Church Courtyard
URL:https://resonateatlanta.org/event/the-gathering-social-impact-event/
LOCATION:Resonate Church\, 3433 Memorial Drive\, Decatur\, GA\, 30032\, United States
CATEGORIES:Outreach
ORGANIZER;CN="Noah Nemni":MAILTO:noah@resonateatlanta.org
END:VEVENT
BEGIN:VEVENT
DTSTART;TZID=America/New_York:20251208T120000
DTEND;TZID=America/New_York:20251208T130000
DTSTAMP:20260420T092724
CREATED:20250212T194752Z
LAST-MODIFIED:20251218T015630Z
UID:10001341-1765195200-1765198800@resonateatlanta.org
SUMMARY:Outreach Hour
DESCRIPTION:Mondays at lunch is Outreach Hour at Resonate Church! Our lobby is wide open to neighbors in need with a meal and a welcome from Jesus Christ. We listen\, build relationships\, pray\, bear burdens\, and connect people with local resources. Sign up on Meal Train to provide lunch or soup for 20 people. You can drop off the meal on Sunday and we’ll warm it up Monday morning. If you’d like to volunteer\, contact Noah Nemnihttps://www.mealtrain.com/trains/73kr4n/
URL:https://resonateatlanta.org/event/outreach-hour/2025-12-08/
LOCATION:Resonate Church\, 3433 Memorial Drive\, Decatur\, GA\, 30032\, United States
CATEGORIES:Outreach
END:VEVENT
BEGIN:VEVENT
DTSTART;TZID=America/New_York:20251201T120000
DTEND;TZID=America/New_York:20251201T130000
DTSTAMP:20260420T092724
CREATED:20250212T194752Z
LAST-MODIFIED:20251218T015630Z
UID:10001340-1764590400-1764594000@resonateatlanta.org
SUMMARY:Outreach Hour
DESCRIPTION:Mondays at lunch is Outreach Hour at Resonate Church! Our lobby is wide open to neighbors in need with a meal and a welcome from Jesus Christ. We listen\, build relationships\, pray\, bear burdens\, and connect people with local resources. Sign up on Meal Train to provide lunch or soup for 20 people. You can drop off the meal on Sunday and we’ll warm it up Monday morning. If you’d like to volunteer\, contact Noah Nemnihttps://www.mealtrain.com/trains/73kr4n/
URL:https://resonateatlanta.org/event/outreach-hour/2025-12-01/
LOCATION:Resonate Church\, 3433 Memorial Drive\, Decatur\, GA\, 30032\, United States
CATEGORIES:Outreach
END:VEVENT
BEGIN:VEVENT
DTSTART;TZID=America/New_York:20251124T120000
DTEND;TZID=America/New_York:20251124T130000
DTSTAMP:20260420T092724
CREATED:20250212T194752Z
LAST-MODIFIED:20251218T015630Z
UID:10001339-1763985600-1763989200@resonateatlanta.org
SUMMARY:Outreach Hour
DESCRIPTION:Mondays at lunch is Outreach Hour at Resonate Church! Our lobby is wide open to neighbors in need with a meal and a welcome from Jesus Christ. We listen\, build relationships\, pray\, bear burdens\, and connect people with local resources. Sign up on Meal Train to provide lunch or soup for 20 people. You can drop off the meal on Sunday and we’ll warm it up Monday morning. If you’d like to volunteer\, contact Noah Nemnihttps://www.mealtrain.com/trains/73kr4n/
URL:https://resonateatlanta.org/event/outreach-hour/2025-11-24/
LOCATION:Resonate Church\, 3433 Memorial Drive\, Decatur\, GA\, 30032\, United States
CATEGORIES:Outreach
END:VEVENT
BEGIN:VEVENT
DTSTART;TZID=America/New_York:20251117T120000
DTEND;TZID=America/New_York:20251117T130000
DTSTAMP:20260420T092724
CREATED:20250212T194752Z
LAST-MODIFIED:20251218T015630Z
UID:10001338-1763380800-1763384400@resonateatlanta.org
SUMMARY:Outreach Hour
DESCRIPTION:Mondays at lunch is Outreach Hour at Resonate Church! Our lobby is wide open to neighbors in need with a meal and a welcome from Jesus Christ. We listen\, build relationships\, pray\, bear burdens\, and connect people with local resources. Sign up on Meal Train to provide lunch or soup for 20 people. You can drop off the meal on Sunday and we’ll warm it up Monday morning. If you’d like to volunteer\, contact Noah Nemnihttps://www.mealtrain.com/trains/73kr4n/
URL:https://resonateatlanta.org/event/outreach-hour/2025-11-17/
LOCATION:Resonate Church\, 3433 Memorial Drive\, Decatur\, GA\, 30032\, United States
CATEGORIES:Outreach
END:VEVENT
BEGIN:VEVENT
DTSTART;TZID=America/New_York:20251110T120000
DTEND;TZID=America/New_York:20251110T130000
DTSTAMP:20260420T092724
CREATED:20250212T194752Z
LAST-MODIFIED:20251218T015630Z
UID:10001337-1762776000-1762779600@resonateatlanta.org
SUMMARY:Outreach Hour
DESCRIPTION:Mondays at lunch is Outreach Hour at Resonate Church! Our lobby is wide open to neighbors in need with a meal and a welcome from Jesus Christ. We listen\, build relationships\, pray\, bear burdens\, and connect people with local resources. Sign up on Meal Train to provide lunch or soup for 20 people. You can drop off the meal on Sunday and we’ll warm it up Monday morning. If you’d like to volunteer\, contact Noah Nemnihttps://www.mealtrain.com/trains/73kr4n/
URL:https://resonateatlanta.org/event/outreach-hour/2025-11-10/
LOCATION:Resonate Church\, 3433 Memorial Drive\, Decatur\, GA\, 30032\, United States
CATEGORIES:Outreach
END:VEVENT
BEGIN:VEVENT
DTSTART;TZID=America/New_York:20251103T120000
DTEND;TZID=America/New_York:20251103T130000
DTSTAMP:20260420T092724
CREATED:20250212T194752Z
LAST-MODIFIED:20251218T015630Z
UID:10001336-1762171200-1762174800@resonateatlanta.org
SUMMARY:Outreach Hour
DESCRIPTION:Mondays at lunch is Outreach Hour at Resonate Church! Our lobby is wide open to neighbors in need with a meal and a welcome from Jesus Christ. We listen\, build relationships\, pray\, bear burdens\, and connect people with local resources. Sign up on Meal Train to provide lunch or soup for 20 people. You can drop off the meal on Sunday and we’ll warm it up Monday morning. If you’d like to volunteer\, contact Noah Nemnihttps://www.mealtrain.com/trains/73kr4n/
URL:https://resonateatlanta.org/event/outreach-hour/2025-11-03/
LOCATION:Resonate Church\, 3433 Memorial Drive\, Decatur\, GA\, 30032\, United States
CATEGORIES:Outreach
END:VEVENT
BEGIN:VEVENT
DTSTART;TZID=America/New_York:20251102T090000
DTEND;TZID=America/New_York:20251102T133000
DTSTAMP:20260420T092724
CREATED:20251010T014204Z
LAST-MODIFIED:20251019T123217Z
UID:10001706-1762074000-1762090200@resonateatlanta.org
SUMMARY:Serve Sunday
DESCRIPTION:Join us for Serve Sunday\, a day when we step outside our normal worship gathering to love and serve our city. Instead of meeting for a traditional service\, our church family will scatter across Atlanta to partner with local organizations and meet tangible needs in our community. \nThere will be a variety of service projects for all ages and abilities. Families are encouraged to serve together\, and childcare will be available at the church for children up to age 5. \nCome be part of what God is doing through acts of compassion and service.Sign-up today! Click here.
URL:https://resonateatlanta.org/event/serve-sunday-3/
LOCATION:Resonate Church\, 3433 Memorial Drive\, Decatur\, GA\, 30032\, United States
CATEGORIES:Community,Outreach
ATTACH;FMTTYPE=image/png:https://resonateatlanta.org/wp-content/uploads/2025/10/serve-sunday.png
END:VEVENT
BEGIN:VEVENT
DTSTART;TZID=America/New_York:20251027T120000
DTEND;TZID=America/New_York:20251027T130000
DTSTAMP:20260420T092724
CREATED:20250212T194752Z
LAST-MODIFIED:20251218T015630Z
UID:10001335-1761566400-1761570000@resonateatlanta.org
SUMMARY:Outreach Hour
DESCRIPTION:Mondays at lunch is Outreach Hour at Resonate Church! Our lobby is wide open to neighbors in need with a meal and a welcome from Jesus Christ. We listen\, build relationships\, pray\, bear burdens\, and connect people with local resources. Sign up on Meal Train to provide lunch or soup for 20 people. You can drop off the meal on Sunday and we’ll warm it up Monday morning. If you’d like to volunteer\, contact Noah Nemnihttps://www.mealtrain.com/trains/73kr4n/
URL:https://resonateatlanta.org/event/outreach-hour/2025-10-27/
LOCATION:Resonate Church\, 3433 Memorial Drive\, Decatur\, GA\, 30032\, United States
CATEGORIES:Outreach
END:VEVENT
BEGIN:VEVENT
DTSTART;TZID=America/New_York:20251020T120000
DTEND;TZID=America/New_York:20251020T130000
DTSTAMP:20260420T092724
CREATED:20250212T194752Z
LAST-MODIFIED:20251218T015630Z
UID:10001334-1760961600-1760965200@resonateatlanta.org
SUMMARY:Outreach Hour
DESCRIPTION:Mondays at lunch is Outreach Hour at Resonate Church! Our lobby is wide open to neighbors in need with a meal and a welcome from Jesus Christ. We listen\, build relationships\, pray\, bear burdens\, and connect people with local resources. Sign up on Meal Train to provide lunch or soup for 20 people. You can drop off the meal on Sunday and we’ll warm it up Monday morning. If you’d like to volunteer\, contact Noah Nemnihttps://www.mealtrain.com/trains/73kr4n/
URL:https://resonateatlanta.org/event/outreach-hour/2025-10-20/
LOCATION:Resonate Church\, 3433 Memorial Drive\, Decatur\, GA\, 30032\, United States
CATEGORIES:Outreach
END:VEVENT
BEGIN:VEVENT
DTSTART;TZID=America/New_York:20251013T120000
DTEND;TZID=America/New_York:20251013T130000
DTSTAMP:20260420T092724
CREATED:20250212T194752Z
LAST-MODIFIED:20251218T015630Z
UID:10001333-1760356800-1760360400@resonateatlanta.org
SUMMARY:Outreach Hour
DESCRIPTION:Mondays at lunch is Outreach Hour at Resonate Church! Our lobby is wide open to neighbors in need with a meal and a welcome from Jesus Christ. We listen\, build relationships\, pray\, bear burdens\, and connect people with local resources. Sign up on Meal Train to provide lunch or soup for 20 people. You can drop off the meal on Sunday and we’ll warm it up Monday morning. If you’d like to volunteer\, contact Noah Nemnihttps://www.mealtrain.com/trains/73kr4n/
URL:https://resonateatlanta.org/event/outreach-hour/2025-10-13/
LOCATION:Resonate Church\, 3433 Memorial Drive\, Decatur\, GA\, 30032\, United States
CATEGORIES:Outreach
END:VEVENT
BEGIN:VEVENT
DTSTART;TZID=America/New_York:20251006T120000
DTEND;TZID=America/New_York:20251006T130000
DTSTAMP:20260420T092724
CREATED:20250212T194752Z
LAST-MODIFIED:20251218T015630Z
UID:10001332-1759752000-1759755600@resonateatlanta.org
SUMMARY:Outreach Hour
DESCRIPTION:Mondays at lunch is Outreach Hour at Resonate Church! Our lobby is wide open to neighbors in need with a meal and a welcome from Jesus Christ. We listen\, build relationships\, pray\, bear burdens\, and connect people with local resources. Sign up on Meal Train to provide lunch or soup for 20 people. You can drop off the meal on Sunday and we’ll warm it up Monday morning. If you’d like to volunteer\, contact Noah Nemnihttps://www.mealtrain.com/trains/73kr4n/
URL:https://resonateatlanta.org/event/outreach-hour/2025-10-06/
LOCATION:Resonate Church\, 3433 Memorial Drive\, Decatur\, GA\, 30032\, United States
CATEGORIES:Outreach
END:VEVENT
BEGIN:VEVENT
DTSTART;TZID=America/New_York:20250929T120000
DTEND;TZID=America/New_York:20250929T130000
DTSTAMP:20260420T092724
CREATED:20250212T194752Z
LAST-MODIFIED:20251218T015630Z
UID:10001331-1759147200-1759150800@resonateatlanta.org
SUMMARY:Outreach Hour
DESCRIPTION:Mondays at lunch is Outreach Hour at Resonate Church! Our lobby is wide open to neighbors in need with a meal and a welcome from Jesus Christ. We listen\, build relationships\, pray\, bear burdens\, and connect people with local resources. Sign up on Meal Train to provide lunch or soup for 20 people. You can drop off the meal on Sunday and we’ll warm it up Monday morning. If you’d like to volunteer\, contact Noah Nemnihttps://www.mealtrain.com/trains/73kr4n/
URL:https://resonateatlanta.org/event/outreach-hour/2025-09-29/
LOCATION:Resonate Church\, 3433 Memorial Drive\, Decatur\, GA\, 30032\, United States
CATEGORIES:Outreach
END:VEVENT
BEGIN:VEVENT
DTSTART;TZID=America/New_York:20250922T120000
DTEND;TZID=America/New_York:20250922T130000
DTSTAMP:20260420T092724
CREATED:20250212T194752Z
LAST-MODIFIED:20251218T015630Z
UID:10001330-1758542400-1758546000@resonateatlanta.org
SUMMARY:Outreach Hour
DESCRIPTION:Mondays at lunch is Outreach Hour at Resonate Church! Our lobby is wide open to neighbors in need with a meal and a welcome from Jesus Christ. We listen\, build relationships\, pray\, bear burdens\, and connect people with local resources. Sign up on Meal Train to provide lunch or soup for 20 people. You can drop off the meal on Sunday and we’ll warm it up Monday morning. If you’d like to volunteer\, contact Noah Nemnihttps://www.mealtrain.com/trains/73kr4n/
URL:https://resonateatlanta.org/event/outreach-hour/2025-09-22/
LOCATION:Resonate Church\, 3433 Memorial Drive\, Decatur\, GA\, 30032\, United States
CATEGORIES:Outreach
END:VEVENT
BEGIN:VEVENT
DTSTART;TZID=America/New_York:20250915T120000
DTEND;TZID=America/New_York:20250915T130000
DTSTAMP:20260420T092724
CREATED:20250212T194752Z
LAST-MODIFIED:20251218T015630Z
UID:10001329-1757937600-1757941200@resonateatlanta.org
SUMMARY:Outreach Hour
DESCRIPTION:Mondays at lunch is Outreach Hour at Resonate Church! Our lobby is wide open to neighbors in need with a meal and a welcome from Jesus Christ. We listen\, build relationships\, pray\, bear burdens\, and connect people with local resources. Sign up on Meal Train to provide lunch or soup for 20 people. You can drop off the meal on Sunday and we’ll warm it up Monday morning. If you’d like to volunteer\, contact Noah Nemnihttps://www.mealtrain.com/trains/73kr4n/
URL:https://resonateatlanta.org/event/outreach-hour/2025-09-15/
LOCATION:Resonate Church\, 3433 Memorial Drive\, Decatur\, GA\, 30032\, United States
CATEGORIES:Outreach
END:VEVENT
BEGIN:VEVENT
DTSTART;TZID=America/New_York:20250908T120000
DTEND;TZID=America/New_York:20250908T130000
DTSTAMP:20260420T092724
CREATED:20250212T194752Z
LAST-MODIFIED:20251218T015630Z
UID:10001328-1757332800-1757336400@resonateatlanta.org
SUMMARY:Outreach Hour
DESCRIPTION:Mondays at lunch is Outreach Hour at Resonate Church! Our lobby is wide open to neighbors in need with a meal and a welcome from Jesus Christ. We listen\, build relationships\, pray\, bear burdens\, and connect people with local resources. Sign up on Meal Train to provide lunch or soup for 20 people. You can drop off the meal on Sunday and we’ll warm it up Monday morning. If you’d like to volunteer\, contact Noah Nemnihttps://www.mealtrain.com/trains/73kr4n/
URL:https://resonateatlanta.org/event/outreach-hour/2025-09-08/
LOCATION:Resonate Church\, 3433 Memorial Drive\, Decatur\, GA\, 30032\, United States
CATEGORIES:Outreach
END:VEVENT
BEGIN:VEVENT
DTSTART;TZID=America/New_York:20250901T120000
DTEND;TZID=America/New_York:20250901T130000
DTSTAMP:20260420T092724
CREATED:20250212T194752Z
LAST-MODIFIED:20251218T015630Z
UID:10001327-1756728000-1756731600@resonateatlanta.org
SUMMARY:Outreach Hour
DESCRIPTION:Mondays at lunch is Outreach Hour at Resonate Church! Our lobby is wide open to neighbors in need with a meal and a welcome from Jesus Christ. We listen\, build relationships\, pray\, bear burdens\, and connect people with local resources. Sign up on Meal Train to provide lunch or soup for 20 people. You can drop off the meal on Sunday and we’ll warm it up Monday morning. If you’d like to volunteer\, contact Noah Nemnihttps://www.mealtrain.com/trains/73kr4n/
URL:https://resonateatlanta.org/event/outreach-hour/2025-09-01/
LOCATION:Resonate Church\, 3433 Memorial Drive\, Decatur\, GA\, 30032\, United States
CATEGORIES:Outreach
END:VEVENT
BEGIN:VEVENT
DTSTART;TZID=America/New_York:20250825T120000
DTEND;TZID=America/New_York:20250825T130000
DTSTAMP:20260420T092724
CREATED:20250212T194752Z
LAST-MODIFIED:20251218T015630Z
UID:10001326-1756123200-1756126800@resonateatlanta.org
SUMMARY:Outreach Hour
DESCRIPTION:Mondays at lunch is Outreach Hour at Resonate Church! Our lobby is wide open to neighbors in need with a meal and a welcome from Jesus Christ. We listen\, build relationships\, pray\, bear burdens\, and connect people with local resources. Sign up on Meal Train to provide lunch or soup for 20 people. You can drop off the meal on Sunday and we’ll warm it up Monday morning. If you’d like to volunteer\, contact Noah Nemnihttps://www.mealtrain.com/trains/73kr4n/
URL:https://resonateatlanta.org/event/outreach-hour/2025-08-25/
LOCATION:Resonate Church\, 3433 Memorial Drive\, Decatur\, GA\, 30032\, United States
CATEGORIES:Outreach
END:VEVENT
BEGIN:VEVENT
DTSTART;TZID=America/New_York:20250818T120000
DTEND;TZID=America/New_York:20250818T130000
DTSTAMP:20260420T092724
CREATED:20250212T194752Z
LAST-MODIFIED:20251218T015630Z
UID:10001325-1755518400-1755522000@resonateatlanta.org
SUMMARY:Outreach Hour
DESCRIPTION:Mondays at lunch is Outreach Hour at Resonate Church! Our lobby is wide open to neighbors in need with a meal and a welcome from Jesus Christ. We listen\, build relationships\, pray\, bear burdens\, and connect people with local resources. Sign up on Meal Train to provide lunch or soup for 20 people. You can drop off the meal on Sunday and we’ll warm it up Monday morning. If you’d like to volunteer\, contact Noah Nemnihttps://www.mealtrain.com/trains/73kr4n/
URL:https://resonateatlanta.org/event/outreach-hour/2025-08-18/
LOCATION:Resonate Church\, 3433 Memorial Drive\, Decatur\, GA\, 30032\, United States
CATEGORIES:Outreach
END:VEVENT
BEGIN:VEVENT
DTSTART;TZID=America/New_York:20250817T123000
DTEND;TZID=America/New_York:20250817T143000
DTSTAMP:20260420T092724
CREATED:20250616T164010Z
LAST-MODIFIED:20250714T220441Z
UID:10001607-1755433800-1755441000@resonateatlanta.org
SUMMARY:Engaging Homelessness: A Class with Allison McGill
DESCRIPTION:How do we engage our neighbors experiencing homelessness with dignity\, empathy\, and hope? Join us for a special class led by Allison McGill\, founder of Lazarus — a ministry dedicated to building kinship with people on the margins and fostering tangible transformation. \nLunch is provided by Resonate.Please RSVP here: https://engaginghomelessnessclass.rsvpify.com/
URL:https://resonateatlanta.org/event/engaging-homelessness-a-class-with-allison-mcgill/
LOCATION:Resonate Church\, 3433 Memorial Drive\, Decatur\, GA\, 30032\, United States
CATEGORIES:Outreach
ATTACH;FMTTYPE=image/png:https://resonateatlanta.org/wp-content/uploads/2025/06/engaginghomelessness-1.png
ORGANIZER;CN="Noah Nemni":MAILTO:noah@resonateatlanta.org
END:VEVENT
BEGIN:VEVENT
DTSTART;TZID=America/New_York:20250811T120000
DTEND;TZID=America/New_York:20250811T130000
DTSTAMP:20260420T092724
CREATED:20250212T194752Z
LAST-MODIFIED:20251218T015630Z
UID:10001324-1754913600-1754917200@resonateatlanta.org
SUMMARY:Outreach Hour
DESCRIPTION:Mondays at lunch is Outreach Hour at Resonate Church! Our lobby is wide open to neighbors in need with a meal and a welcome from Jesus Christ. We listen\, build relationships\, pray\, bear burdens\, and connect people with local resources. Sign up on Meal Train to provide lunch or soup for 20 people. You can drop off the meal on Sunday and we’ll warm it up Monday morning. If you’d like to volunteer\, contact Noah Nemnihttps://www.mealtrain.com/trains/73kr4n/
URL:https://resonateatlanta.org/event/outreach-hour/2025-08-11/
LOCATION:Resonate Church\, 3433 Memorial Drive\, Decatur\, GA\, 30032\, United States
CATEGORIES:Outreach
END:VEVENT
BEGIN:VEVENT
DTSTART;TZID=America/New_York:20250804T120000
DTEND;TZID=America/New_York:20250804T130000
DTSTAMP:20260420T092724
CREATED:20250212T194752Z
LAST-MODIFIED:20251218T015630Z
UID:10001323-1754308800-1754312400@resonateatlanta.org
SUMMARY:Outreach Hour
DESCRIPTION:Mondays at lunch is Outreach Hour at Resonate Church! Our lobby is wide open to neighbors in need with a meal and a welcome from Jesus Christ. We listen\, build relationships\, pray\, bear burdens\, and connect people with local resources. Sign up on Meal Train to provide lunch or soup for 20 people. You can drop off the meal on Sunday and we’ll warm it up Monday morning. If you’d like to volunteer\, contact Noah Nemnihttps://www.mealtrain.com/trains/73kr4n/
URL:https://resonateatlanta.org/event/outreach-hour/2025-08-04/
LOCATION:Resonate Church\, 3433 Memorial Drive\, Decatur\, GA\, 30032\, United States
CATEGORIES:Outreach
END:VEVENT
BEGIN:VEVENT
DTSTART;TZID=America/New_York:20250728T120000
DTEND;TZID=America/New_York:20250728T130000
DTSTAMP:20260420T092724
CREATED:20250212T194752Z
LAST-MODIFIED:20251218T015630Z
UID:10001322-1753704000-1753707600@resonateatlanta.org
SUMMARY:Outreach Hour
DESCRIPTION:Mondays at lunch is Outreach Hour at Resonate Church! Our lobby is wide open to neighbors in need with a meal and a welcome from Jesus Christ. We listen\, build relationships\, pray\, bear burdens\, and connect people with local resources. Sign up on Meal Train to provide lunch or soup for 20 people. You can drop off the meal on Sunday and we’ll warm it up Monday morning. If you’d like to volunteer\, contact Noah Nemnihttps://www.mealtrain.com/trains/73kr4n/
URL:https://resonateatlanta.org/event/outreach-hour/2025-07-28/
LOCATION:Resonate Church\, 3433 Memorial Drive\, Decatur\, GA\, 30032\, United States
CATEGORIES:Outreach
END:VEVENT
BEGIN:VEVENT
DTSTART;TZID=America/New_York:20250721T120000
DTEND;TZID=America/New_York:20250721T130000
DTSTAMP:20260420T092724
CREATED:20250212T194752Z
LAST-MODIFIED:20251218T015630Z
UID:10001321-1753099200-1753102800@resonateatlanta.org
SUMMARY:Outreach Hour
DESCRIPTION:Mondays at lunch is Outreach Hour at Resonate Church! Our lobby is wide open to neighbors in need with a meal and a welcome from Jesus Christ. We listen\, build relationships\, pray\, bear burdens\, and connect people with local resources. Sign up on Meal Train to provide lunch or soup for 20 people. You can drop off the meal on Sunday and we’ll warm it up Monday morning. If you’d like to volunteer\, contact Noah Nemnihttps://www.mealtrain.com/trains/73kr4n/
URL:https://resonateatlanta.org/event/outreach-hour/2025-07-21/
LOCATION:Resonate Church\, 3433 Memorial Drive\, Decatur\, GA\, 30032\, United States
CATEGORIES:Outreach
END:VEVENT
END:VCALENDAR