BEGIN:VCALENDAR
VERSION:2.0
PRODID:-//Resonate Church - ECPv6.15.20//NONSGML v1.0//EN
CALSCALE:GREGORIAN
METHOD:PUBLISH
X-ORIGINAL-URL:https://resonateatlanta.org
X-WR-CALDESC:Events for Resonate Church
REFRESH-INTERVAL;VALUE=DURATION:PT1H
X-Robots-Tag:noindex
X-PUBLISHED-TTL:PT1H
BEGIN:VTIMEZONE
TZID:America/New_York
BEGIN:DAYLIGHT
TZOFFSETFROM:-0500
TZOFFSETTO:-0400
TZNAME:EDT
DTSTART:20250309T070000
END:DAYLIGHT
BEGIN:STANDARD
TZOFFSETFROM:-0400
TZOFFSETTO:-0500
TZNAME:EST
DTSTART:20251102T060000
END:STANDARD
BEGIN:DAYLIGHT
TZOFFSETFROM:-0500
TZOFFSETTO:-0400
TZNAME:EDT
DTSTART:20260308T070000
END:DAYLIGHT
BEGIN:STANDARD
TZOFFSETFROM:-0400
TZOFFSETTO:-0500
TZNAME:EST
DTSTART:20261101T060000
END:STANDARD
BEGIN:DAYLIGHT
TZOFFSETFROM:-0500
TZOFFSETTO:-0400
TZNAME:EDT
DTSTART:20270314T070000
END:DAYLIGHT
BEGIN:STANDARD
TZOFFSETFROM:-0400
TZOFFSETTO:-0500
TZNAME:EST
DTSTART:20271107T060000
END:STANDARD
BEGIN:DAYLIGHT
TZOFFSETFROM:-0500
TZOFFSETTO:-0400
TZNAME:EDT
DTSTART:20280312T070000
END:DAYLIGHT
BEGIN:STANDARD
TZOFFSETFROM:-0400
TZOFFSETTO:-0500
TZNAME:EST
DTSTART:20281105T060000
END:STANDARD
END:VTIMEZONE
BEGIN:VEVENT
DTSTART;TZID=America/New_York:20260831T120000
DTEND;TZID=America/New_York:20260831T130000
DTSTAMP:20260422T072205
CREATED:20250212T194752Z
LAST-MODIFIED:20251218T015630Z
UID:10001379-1788177600-1788181200@resonateatlanta.org
SUMMARY:Outreach Hour
DESCRIPTION:Mondays at lunch is Outreach Hour at Resonate Church! Our lobby is wide open to neighbors in need with a meal and a welcome from Jesus Christ. We listen\, build relationships\, pray\, bear burdens\, and connect people with local resources. Sign up on Meal Train to provide lunch or soup for 20 people. You can drop off the meal on Sunday and we’ll warm it up Monday morning. If you’d like to volunteer\, contact Noah Nemnihttps://www.mealtrain.com/trains/73kr4n/
URL:https://resonateatlanta.org/event/outreach-hour/2026-08-31/
LOCATION:Resonate Church\, 3433 Memorial Drive\, Decatur\, GA\, 30032\, United States
CATEGORIES:Outreach
END:VEVENT
BEGIN:VEVENT
DTSTART;TZID=America/New_York:20260907T120000
DTEND;TZID=America/New_York:20260907T130000
DTSTAMP:20260422T072205
CREATED:20250212T194752Z
LAST-MODIFIED:20251218T015630Z
UID:10001380-1788782400-1788786000@resonateatlanta.org
SUMMARY:Outreach Hour
DESCRIPTION:Mondays at lunch is Outreach Hour at Resonate Church! Our lobby is wide open to neighbors in need with a meal and a welcome from Jesus Christ. We listen\, build relationships\, pray\, bear burdens\, and connect people with local resources. Sign up on Meal Train to provide lunch or soup for 20 people. You can drop off the meal on Sunday and we’ll warm it up Monday morning. If you’d like to volunteer\, contact Noah Nemnihttps://www.mealtrain.com/trains/73kr4n/
URL:https://resonateatlanta.org/event/outreach-hour/2026-09-07/
LOCATION:Resonate Church\, 3433 Memorial Drive\, Decatur\, GA\, 30032\, United States
CATEGORIES:Outreach
END:VEVENT
BEGIN:VEVENT
DTSTART;TZID=America/New_York:20260914T120000
DTEND;TZID=America/New_York:20260914T130000
DTSTAMP:20260422T072205
CREATED:20250212T194752Z
LAST-MODIFIED:20251218T015630Z
UID:10001381-1789387200-1789390800@resonateatlanta.org
SUMMARY:Outreach Hour
DESCRIPTION:Mondays at lunch is Outreach Hour at Resonate Church! Our lobby is wide open to neighbors in need with a meal and a welcome from Jesus Christ. We listen\, build relationships\, pray\, bear burdens\, and connect people with local resources. Sign up on Meal Train to provide lunch or soup for 20 people. You can drop off the meal on Sunday and we’ll warm it up Monday morning. If you’d like to volunteer\, contact Noah Nemnihttps://www.mealtrain.com/trains/73kr4n/
URL:https://resonateatlanta.org/event/outreach-hour/2026-09-14/
LOCATION:Resonate Church\, 3433 Memorial Drive\, Decatur\, GA\, 30032\, United States
CATEGORIES:Outreach
END:VEVENT
BEGIN:VEVENT
DTSTART;TZID=America/New_York:20260921T120000
DTEND;TZID=America/New_York:20260921T130000
DTSTAMP:20260422T072205
CREATED:20250212T194752Z
LAST-MODIFIED:20251218T015630Z
UID:10001382-1789992000-1789995600@resonateatlanta.org
SUMMARY:Outreach Hour
DESCRIPTION:Mondays at lunch is Outreach Hour at Resonate Church! Our lobby is wide open to neighbors in need with a meal and a welcome from Jesus Christ. We listen\, build relationships\, pray\, bear burdens\, and connect people with local resources. Sign up on Meal Train to provide lunch or soup for 20 people. You can drop off the meal on Sunday and we’ll warm it up Monday morning. If you’d like to volunteer\, contact Noah Nemnihttps://www.mealtrain.com/trains/73kr4n/
URL:https://resonateatlanta.org/event/outreach-hour/2026-09-21/
LOCATION:Resonate Church\, 3433 Memorial Drive\, Decatur\, GA\, 30032\, United States
CATEGORIES:Outreach
END:VEVENT
BEGIN:VEVENT
DTSTART;TZID=America/New_York:20260928T120000
DTEND;TZID=America/New_York:20260928T130000
DTSTAMP:20260422T072205
CREATED:20250212T194752Z
LAST-MODIFIED:20251218T015630Z
UID:10001383-1790596800-1790600400@resonateatlanta.org
SUMMARY:Outreach Hour
DESCRIPTION:Mondays at lunch is Outreach Hour at Resonate Church! Our lobby is wide open to neighbors in need with a meal and a welcome from Jesus Christ. We listen\, build relationships\, pray\, bear burdens\, and connect people with local resources. Sign up on Meal Train to provide lunch or soup for 20 people. You can drop off the meal on Sunday and we’ll warm it up Monday morning. If you’d like to volunteer\, contact Noah Nemnihttps://www.mealtrain.com/trains/73kr4n/
URL:https://resonateatlanta.org/event/outreach-hour/2026-09-28/
LOCATION:Resonate Church\, 3433 Memorial Drive\, Decatur\, GA\, 30032\, United States
CATEGORIES:Outreach
END:VEVENT
BEGIN:VEVENT
DTSTART;TZID=America/New_York:20261005T120000
DTEND;TZID=America/New_York:20261005T130000
DTSTAMP:20260422T072205
CREATED:20250212T194752Z
LAST-MODIFIED:20251218T015630Z
UID:10001384-1791201600-1791205200@resonateatlanta.org
SUMMARY:Outreach Hour
DESCRIPTION:Mondays at lunch is Outreach Hour at Resonate Church! Our lobby is wide open to neighbors in need with a meal and a welcome from Jesus Christ. We listen\, build relationships\, pray\, bear burdens\, and connect people with local resources. Sign up on Meal Train to provide lunch or soup for 20 people. You can drop off the meal on Sunday and we’ll warm it up Monday morning. If you’d like to volunteer\, contact Noah Nemnihttps://www.mealtrain.com/trains/73kr4n/
URL:https://resonateatlanta.org/event/outreach-hour/2026-10-05/
LOCATION:Resonate Church\, 3433 Memorial Drive\, Decatur\, GA\, 30032\, United States
CATEGORIES:Outreach
END:VEVENT
BEGIN:VEVENT
DTSTART;TZID=America/New_York:20261012T120000
DTEND;TZID=America/New_York:20261012T130000
DTSTAMP:20260422T072205
CREATED:20250212T194752Z
LAST-MODIFIED:20251218T015630Z
UID:10001385-1791806400-1791810000@resonateatlanta.org
SUMMARY:Outreach Hour
DESCRIPTION:Mondays at lunch is Outreach Hour at Resonate Church! Our lobby is wide open to neighbors in need with a meal and a welcome from Jesus Christ. We listen\, build relationships\, pray\, bear burdens\, and connect people with local resources. Sign up on Meal Train to provide lunch or soup for 20 people. You can drop off the meal on Sunday and we’ll warm it up Monday morning. If you’d like to volunteer\, contact Noah Nemnihttps://www.mealtrain.com/trains/73kr4n/
URL:https://resonateatlanta.org/event/outreach-hour/2026-10-12/
LOCATION:Resonate Church\, 3433 Memorial Drive\, Decatur\, GA\, 30032\, United States
CATEGORIES:Outreach
END:VEVENT
BEGIN:VEVENT
DTSTART;TZID=America/New_York:20261019T120000
DTEND;TZID=America/New_York:20261019T130000
DTSTAMP:20260422T072205
CREATED:20250212T194752Z
LAST-MODIFIED:20251218T015630Z
UID:10001386-1792411200-1792414800@resonateatlanta.org
SUMMARY:Outreach Hour
DESCRIPTION:Mondays at lunch is Outreach Hour at Resonate Church! Our lobby is wide open to neighbors in need with a meal and a welcome from Jesus Christ. We listen\, build relationships\, pray\, bear burdens\, and connect people with local resources. Sign up on Meal Train to provide lunch or soup for 20 people. You can drop off the meal on Sunday and we’ll warm it up Monday morning. If you’d like to volunteer\, contact Noah Nemnihttps://www.mealtrain.com/trains/73kr4n/
URL:https://resonateatlanta.org/event/outreach-hour/2026-10-19/
LOCATION:Resonate Church\, 3433 Memorial Drive\, Decatur\, GA\, 30032\, United States
CATEGORIES:Outreach
END:VEVENT
BEGIN:VEVENT
DTSTART;TZID=America/New_York:20261026T120000
DTEND;TZID=America/New_York:20261026T130000
DTSTAMP:20260422T072205
CREATED:20250212T194752Z
LAST-MODIFIED:20251218T015630Z
UID:10001387-1793016000-1793019600@resonateatlanta.org
SUMMARY:Outreach Hour
DESCRIPTION:Mondays at lunch is Outreach Hour at Resonate Church! Our lobby is wide open to neighbors in need with a meal and a welcome from Jesus Christ. We listen\, build relationships\, pray\, bear burdens\, and connect people with local resources. Sign up on Meal Train to provide lunch or soup for 20 people. You can drop off the meal on Sunday and we’ll warm it up Monday morning. If you’d like to volunteer\, contact Noah Nemnihttps://www.mealtrain.com/trains/73kr4n/
URL:https://resonateatlanta.org/event/outreach-hour/2026-10-26/
LOCATION:Resonate Church\, 3433 Memorial Drive\, Decatur\, GA\, 30032\, United States
CATEGORIES:Outreach
END:VEVENT
BEGIN:VEVENT
DTSTART;TZID=America/New_York:20261102T120000
DTEND;TZID=America/New_York:20261102T130000
DTSTAMP:20260422T072205
CREATED:20250212T194752Z
LAST-MODIFIED:20251218T015630Z
UID:10001388-1793620800-1793624400@resonateatlanta.org
SUMMARY:Outreach Hour
DESCRIPTION:Mondays at lunch is Outreach Hour at Resonate Church! Our lobby is wide open to neighbors in need with a meal and a welcome from Jesus Christ. We listen\, build relationships\, pray\, bear burdens\, and connect people with local resources. Sign up on Meal Train to provide lunch or soup for 20 people. You can drop off the meal on Sunday and we’ll warm it up Monday morning. If you’d like to volunteer\, contact Noah Nemnihttps://www.mealtrain.com/trains/73kr4n/
URL:https://resonateatlanta.org/event/outreach-hour/2026-11-02/
LOCATION:Resonate Church\, 3433 Memorial Drive\, Decatur\, GA\, 30032\, United States
CATEGORIES:Outreach
END:VEVENT
BEGIN:VEVENT
DTSTART;TZID=America/New_York:20261109T120000
DTEND;TZID=America/New_York:20261109T130000
DTSTAMP:20260422T072205
CREATED:20250212T194752Z
LAST-MODIFIED:20251218T015630Z
UID:10001389-1794225600-1794229200@resonateatlanta.org
SUMMARY:Outreach Hour
DESCRIPTION:Mondays at lunch is Outreach Hour at Resonate Church! Our lobby is wide open to neighbors in need with a meal and a welcome from Jesus Christ. We listen\, build relationships\, pray\, bear burdens\, and connect people with local resources. Sign up on Meal Train to provide lunch or soup for 20 people. You can drop off the meal on Sunday and we’ll warm it up Monday morning. If you’d like to volunteer\, contact Noah Nemnihttps://www.mealtrain.com/trains/73kr4n/
URL:https://resonateatlanta.org/event/outreach-hour/2026-11-09/
LOCATION:Resonate Church\, 3433 Memorial Drive\, Decatur\, GA\, 30032\, United States
CATEGORIES:Outreach
END:VEVENT
BEGIN:VEVENT
DTSTART;TZID=America/New_York:20261116T120000
DTEND;TZID=America/New_York:20261116T130000
DTSTAMP:20260422T072205
CREATED:20250212T194752Z
LAST-MODIFIED:20251218T015630Z
UID:10001390-1794830400-1794834000@resonateatlanta.org
SUMMARY:Outreach Hour
DESCRIPTION:Mondays at lunch is Outreach Hour at Resonate Church! Our lobby is wide open to neighbors in need with a meal and a welcome from Jesus Christ. We listen\, build relationships\, pray\, bear burdens\, and connect people with local resources. Sign up on Meal Train to provide lunch or soup for 20 people. You can drop off the meal on Sunday and we’ll warm it up Monday morning. If you’d like to volunteer\, contact Noah Nemnihttps://www.mealtrain.com/trains/73kr4n/
URL:https://resonateatlanta.org/event/outreach-hour/2026-11-16/
LOCATION:Resonate Church\, 3433 Memorial Drive\, Decatur\, GA\, 30032\, United States
CATEGORIES:Outreach
END:VEVENT
BEGIN:VEVENT
DTSTART;TZID=America/New_York:20261123T120000
DTEND;TZID=America/New_York:20261123T130000
DTSTAMP:20260422T072205
CREATED:20250212T194752Z
LAST-MODIFIED:20251218T015630Z
UID:10001391-1795435200-1795438800@resonateatlanta.org
SUMMARY:Outreach Hour
DESCRIPTION:Mondays at lunch is Outreach Hour at Resonate Church! Our lobby is wide open to neighbors in need with a meal and a welcome from Jesus Christ. We listen\, build relationships\, pray\, bear burdens\, and connect people with local resources. Sign up on Meal Train to provide lunch or soup for 20 people. You can drop off the meal on Sunday and we’ll warm it up Monday morning. If you’d like to volunteer\, contact Noah Nemnihttps://www.mealtrain.com/trains/73kr4n/
URL:https://resonateatlanta.org/event/outreach-hour/2026-11-23/
LOCATION:Resonate Church\, 3433 Memorial Drive\, Decatur\, GA\, 30032\, United States
CATEGORIES:Outreach
END:VEVENT
BEGIN:VEVENT
DTSTART;TZID=America/New_York:20261130T120000
DTEND;TZID=America/New_York:20261130T130000
DTSTAMP:20260422T072205
CREATED:20250212T194752Z
LAST-MODIFIED:20251218T015630Z
UID:10001392-1796040000-1796043600@resonateatlanta.org
SUMMARY:Outreach Hour
DESCRIPTION:Mondays at lunch is Outreach Hour at Resonate Church! Our lobby is wide open to neighbors in need with a meal and a welcome from Jesus Christ. We listen\, build relationships\, pray\, bear burdens\, and connect people with local resources. Sign up on Meal Train to provide lunch or soup for 20 people. You can drop off the meal on Sunday and we’ll warm it up Monday morning. If you’d like to volunteer\, contact Noah Nemnihttps://www.mealtrain.com/trains/73kr4n/
URL:https://resonateatlanta.org/event/outreach-hour/2026-11-30/
LOCATION:Resonate Church\, 3433 Memorial Drive\, Decatur\, GA\, 30032\, United States
CATEGORIES:Outreach
END:VEVENT
BEGIN:VEVENT
DTSTART;TZID=America/New_York:20261207T120000
DTEND;TZID=America/New_York:20261207T130000
DTSTAMP:20260422T072205
CREATED:20250212T194752Z
LAST-MODIFIED:20251218T015630Z
UID:10001393-1796644800-1796648400@resonateatlanta.org
SUMMARY:Outreach Hour
DESCRIPTION:Mondays at lunch is Outreach Hour at Resonate Church! Our lobby is wide open to neighbors in need with a meal and a welcome from Jesus Christ. We listen\, build relationships\, pray\, bear burdens\, and connect people with local resources. Sign up on Meal Train to provide lunch or soup for 20 people. You can drop off the meal on Sunday and we’ll warm it up Monday morning. If you’d like to volunteer\, contact Noah Nemnihttps://www.mealtrain.com/trains/73kr4n/
URL:https://resonateatlanta.org/event/outreach-hour/2026-12-07/
LOCATION:Resonate Church\, 3433 Memorial Drive\, Decatur\, GA\, 30032\, United States
CATEGORIES:Outreach
END:VEVENT
BEGIN:VEVENT
DTSTART;TZID=America/New_York:20261214T120000
DTEND;TZID=America/New_York:20261214T130000
DTSTAMP:20260422T072205
CREATED:20250212T194752Z
LAST-MODIFIED:20251218T015630Z
UID:10001394-1797249600-1797253200@resonateatlanta.org
SUMMARY:Outreach Hour
DESCRIPTION:Mondays at lunch is Outreach Hour at Resonate Church! Our lobby is wide open to neighbors in need with a meal and a welcome from Jesus Christ. We listen\, build relationships\, pray\, bear burdens\, and connect people with local resources. Sign up on Meal Train to provide lunch or soup for 20 people. You can drop off the meal on Sunday and we’ll warm it up Monday morning. If you’d like to volunteer\, contact Noah Nemnihttps://www.mealtrain.com/trains/73kr4n/
URL:https://resonateatlanta.org/event/outreach-hour/2026-12-14/
LOCATION:Resonate Church\, 3433 Memorial Drive\, Decatur\, GA\, 30032\, United States
CATEGORIES:Outreach
END:VEVENT
BEGIN:VEVENT
DTSTART;TZID=America/New_York:20261221T120000
DTEND;TZID=America/New_York:20261221T130000
DTSTAMP:20260422T072205
CREATED:20250212T194752Z
LAST-MODIFIED:20251218T015630Z
UID:10001395-1797854400-1797858000@resonateatlanta.org
SUMMARY:Outreach Hour
DESCRIPTION:Mondays at lunch is Outreach Hour at Resonate Church! Our lobby is wide open to neighbors in need with a meal and a welcome from Jesus Christ. We listen\, build relationships\, pray\, bear burdens\, and connect people with local resources. Sign up on Meal Train to provide lunch or soup for 20 people. You can drop off the meal on Sunday and we’ll warm it up Monday morning. If you’d like to volunteer\, contact Noah Nemnihttps://www.mealtrain.com/trains/73kr4n/
URL:https://resonateatlanta.org/event/outreach-hour/2026-12-21/
LOCATION:Resonate Church\, 3433 Memorial Drive\, Decatur\, GA\, 30032\, United States
CATEGORIES:Outreach
END:VEVENT
BEGIN:VEVENT
DTSTART;TZID=America/New_York:20261228T120000
DTEND;TZID=America/New_York:20261228T130000
DTSTAMP:20260422T072205
CREATED:20250212T194752Z
LAST-MODIFIED:20251218T015630Z
UID:10001396-1798459200-1798462800@resonateatlanta.org
SUMMARY:Outreach Hour
DESCRIPTION:Mondays at lunch is Outreach Hour at Resonate Church! Our lobby is wide open to neighbors in need with a meal and a welcome from Jesus Christ. We listen\, build relationships\, pray\, bear burdens\, and connect people with local resources. Sign up on Meal Train to provide lunch or soup for 20 people. You can drop off the meal on Sunday and we’ll warm it up Monday morning. If you’d like to volunteer\, contact Noah Nemnihttps://www.mealtrain.com/trains/73kr4n/
URL:https://resonateatlanta.org/event/outreach-hour/2026-12-28/
LOCATION:Resonate Church\, 3433 Memorial Drive\, Decatur\, GA\, 30032\, United States
CATEGORIES:Outreach
END:VEVENT
BEGIN:VEVENT
DTSTART;TZID=America/New_York:20270104T120000
DTEND;TZID=America/New_York:20270104T130000
DTSTAMP:20260422T072205
CREATED:20250212T194752Z
LAST-MODIFIED:20251218T015630Z
UID:10001397-1799064000-1799067600@resonateatlanta.org
SUMMARY:Outreach Hour
DESCRIPTION:Mondays at lunch is Outreach Hour at Resonate Church! Our lobby is wide open to neighbors in need with a meal and a welcome from Jesus Christ. We listen\, build relationships\, pray\, bear burdens\, and connect people with local resources. Sign up on Meal Train to provide lunch or soup for 20 people. You can drop off the meal on Sunday and we’ll warm it up Monday morning. If you’d like to volunteer\, contact Noah Nemnihttps://www.mealtrain.com/trains/73kr4n/
URL:https://resonateatlanta.org/event/outreach-hour/2027-01-04/
LOCATION:Resonate Church\, 3433 Memorial Drive\, Decatur\, GA\, 30032\, United States
CATEGORIES:Outreach
END:VEVENT
BEGIN:VEVENT
DTSTART;TZID=America/New_York:20270111T120000
DTEND;TZID=America/New_York:20270111T130000
DTSTAMP:20260422T072205
CREATED:20250212T194752Z
LAST-MODIFIED:20251218T015630Z
UID:10001398-1799668800-1799672400@resonateatlanta.org
SUMMARY:Outreach Hour
DESCRIPTION:Mondays at lunch is Outreach Hour at Resonate Church! Our lobby is wide open to neighbors in need with a meal and a welcome from Jesus Christ. We listen\, build relationships\, pray\, bear burdens\, and connect people with local resources. Sign up on Meal Train to provide lunch or soup for 20 people. You can drop off the meal on Sunday and we’ll warm it up Monday morning. If you’d like to volunteer\, contact Noah Nemnihttps://www.mealtrain.com/trains/73kr4n/
URL:https://resonateatlanta.org/event/outreach-hour/2027-01-11/
LOCATION:Resonate Church\, 3433 Memorial Drive\, Decatur\, GA\, 30032\, United States
CATEGORIES:Outreach
END:VEVENT
BEGIN:VEVENT
DTSTART;TZID=America/New_York:20270118T120000
DTEND;TZID=America/New_York:20270118T130000
DTSTAMP:20260422T072205
CREATED:20250212T194752Z
LAST-MODIFIED:20251218T015630Z
UID:10001399-1800273600-1800277200@resonateatlanta.org
SUMMARY:Outreach Hour
DESCRIPTION:Mondays at lunch is Outreach Hour at Resonate Church! Our lobby is wide open to neighbors in need with a meal and a welcome from Jesus Christ. We listen\, build relationships\, pray\, bear burdens\, and connect people with local resources. Sign up on Meal Train to provide lunch or soup for 20 people. You can drop off the meal on Sunday and we’ll warm it up Monday morning. If you’d like to volunteer\, contact Noah Nemnihttps://www.mealtrain.com/trains/73kr4n/
URL:https://resonateatlanta.org/event/outreach-hour/2027-01-18/
LOCATION:Resonate Church\, 3433 Memorial Drive\, Decatur\, GA\, 30032\, United States
CATEGORIES:Outreach
END:VEVENT
BEGIN:VEVENT
DTSTART;TZID=America/New_York:20270125T120000
DTEND;TZID=America/New_York:20270125T130000
DTSTAMP:20260422T072205
CREATED:20250212T194752Z
LAST-MODIFIED:20251218T015630Z
UID:10001400-1800878400-1800882000@resonateatlanta.org
SUMMARY:Outreach Hour
DESCRIPTION:Mondays at lunch is Outreach Hour at Resonate Church! Our lobby is wide open to neighbors in need with a meal and a welcome from Jesus Christ. We listen\, build relationships\, pray\, bear burdens\, and connect people with local resources. Sign up on Meal Train to provide lunch or soup for 20 people. You can drop off the meal on Sunday and we’ll warm it up Monday morning. If you’d like to volunteer\, contact Noah Nemnihttps://www.mealtrain.com/trains/73kr4n/
URL:https://resonateatlanta.org/event/outreach-hour/2027-01-25/
LOCATION:Resonate Church\, 3433 Memorial Drive\, Decatur\, GA\, 30032\, United States
CATEGORIES:Outreach
END:VEVENT
BEGIN:VEVENT
DTSTART;TZID=America/New_York:20270201T120000
DTEND;TZID=America/New_York:20270201T130000
DTSTAMP:20260422T072205
CREATED:20250212T194752Z
LAST-MODIFIED:20251218T015630Z
UID:10001401-1801483200-1801486800@resonateatlanta.org
SUMMARY:Outreach Hour
DESCRIPTION:Mondays at lunch is Outreach Hour at Resonate Church! Our lobby is wide open to neighbors in need with a meal and a welcome from Jesus Christ. We listen\, build relationships\, pray\, bear burdens\, and connect people with local resources. Sign up on Meal Train to provide lunch or soup for 20 people. You can drop off the meal on Sunday and we’ll warm it up Monday morning. If you’d like to volunteer\, contact Noah Nemnihttps://www.mealtrain.com/trains/73kr4n/
URL:https://resonateatlanta.org/event/outreach-hour/2027-02-01/
LOCATION:Resonate Church\, 3433 Memorial Drive\, Decatur\, GA\, 30032\, United States
CATEGORIES:Outreach
END:VEVENT
BEGIN:VEVENT
DTSTART;TZID=America/New_York:20270208T120000
DTEND;TZID=America/New_York:20270208T130000
DTSTAMP:20260422T072205
CREATED:20250212T194752Z
LAST-MODIFIED:20251218T015630Z
UID:10001402-1802088000-1802091600@resonateatlanta.org
SUMMARY:Outreach Hour
DESCRIPTION:Mondays at lunch is Outreach Hour at Resonate Church! Our lobby is wide open to neighbors in need with a meal and a welcome from Jesus Christ. We listen\, build relationships\, pray\, bear burdens\, and connect people with local resources. Sign up on Meal Train to provide lunch or soup for 20 people. You can drop off the meal on Sunday and we’ll warm it up Monday morning. If you’d like to volunteer\, contact Noah Nemnihttps://www.mealtrain.com/trains/73kr4n/
URL:https://resonateatlanta.org/event/outreach-hour/2027-02-08/
LOCATION:Resonate Church\, 3433 Memorial Drive\, Decatur\, GA\, 30032\, United States
CATEGORIES:Outreach
END:VEVENT
BEGIN:VEVENT
DTSTART;TZID=America/New_York:20270215T120000
DTEND;TZID=America/New_York:20270215T130000
DTSTAMP:20260422T072205
CREATED:20250212T194752Z
LAST-MODIFIED:20251218T015630Z
UID:10001403-1802692800-1802696400@resonateatlanta.org
SUMMARY:Outreach Hour
DESCRIPTION:Mondays at lunch is Outreach Hour at Resonate Church! Our lobby is wide open to neighbors in need with a meal and a welcome from Jesus Christ. We listen\, build relationships\, pray\, bear burdens\, and connect people with local resources. Sign up on Meal Train to provide lunch or soup for 20 people. You can drop off the meal on Sunday and we’ll warm it up Monday morning. If you’d like to volunteer\, contact Noah Nemnihttps://www.mealtrain.com/trains/73kr4n/
URL:https://resonateatlanta.org/event/outreach-hour/2027-02-15/
LOCATION:Resonate Church\, 3433 Memorial Drive\, Decatur\, GA\, 30032\, United States
CATEGORIES:Outreach
END:VEVENT
BEGIN:VEVENT
DTSTART;TZID=America/New_York:20270222T120000
DTEND;TZID=America/New_York:20270222T130000
DTSTAMP:20260422T072205
CREATED:20250212T194752Z
LAST-MODIFIED:20251218T015630Z
UID:10001404-1803297600-1803301200@resonateatlanta.org
SUMMARY:Outreach Hour
DESCRIPTION:Mondays at lunch is Outreach Hour at Resonate Church! Our lobby is wide open to neighbors in need with a meal and a welcome from Jesus Christ. We listen\, build relationships\, pray\, bear burdens\, and connect people with local resources. Sign up on Meal Train to provide lunch or soup for 20 people. You can drop off the meal on Sunday and we’ll warm it up Monday morning. If you’d like to volunteer\, contact Noah Nemnihttps://www.mealtrain.com/trains/73kr4n/
URL:https://resonateatlanta.org/event/outreach-hour/2027-02-22/
LOCATION:Resonate Church\, 3433 Memorial Drive\, Decatur\, GA\, 30032\, United States
CATEGORIES:Outreach
END:VEVENT
BEGIN:VEVENT
DTSTART;TZID=America/New_York:20270301T120000
DTEND;TZID=America/New_York:20270301T130000
DTSTAMP:20260422T072205
CREATED:20250212T194752Z
LAST-MODIFIED:20251218T015630Z
UID:10001405-1803902400-1803906000@resonateatlanta.org
SUMMARY:Outreach Hour
DESCRIPTION:Mondays at lunch is Outreach Hour at Resonate Church! Our lobby is wide open to neighbors in need with a meal and a welcome from Jesus Christ. We listen\, build relationships\, pray\, bear burdens\, and connect people with local resources. Sign up on Meal Train to provide lunch or soup for 20 people. You can drop off the meal on Sunday and we’ll warm it up Monday morning. If you’d like to volunteer\, contact Noah Nemnihttps://www.mealtrain.com/trains/73kr4n/
URL:https://resonateatlanta.org/event/outreach-hour/2027-03-01/
LOCATION:Resonate Church\, 3433 Memorial Drive\, Decatur\, GA\, 30032\, United States
CATEGORIES:Outreach
END:VEVENT
BEGIN:VEVENT
DTSTART;TZID=America/New_York:20270308T120000
DTEND;TZID=America/New_York:20270308T130000
DTSTAMP:20260422T072205
CREATED:20250212T194752Z
LAST-MODIFIED:20251218T015630Z
UID:10001406-1804507200-1804510800@resonateatlanta.org
SUMMARY:Outreach Hour
DESCRIPTION:Mondays at lunch is Outreach Hour at Resonate Church! Our lobby is wide open to neighbors in need with a meal and a welcome from Jesus Christ. We listen\, build relationships\, pray\, bear burdens\, and connect people with local resources. Sign up on Meal Train to provide lunch or soup for 20 people. You can drop off the meal on Sunday and we’ll warm it up Monday morning. If you’d like to volunteer\, contact Noah Nemnihttps://www.mealtrain.com/trains/73kr4n/
URL:https://resonateatlanta.org/event/outreach-hour/2027-03-08/
LOCATION:Resonate Church\, 3433 Memorial Drive\, Decatur\, GA\, 30032\, United States
CATEGORIES:Outreach
END:VEVENT
BEGIN:VEVENT
DTSTART;TZID=America/New_York:20270315T120000
DTEND;TZID=America/New_York:20270315T130000
DTSTAMP:20260422T072205
CREATED:20250212T194752Z
LAST-MODIFIED:20251218T015630Z
UID:10001407-1805112000-1805115600@resonateatlanta.org
SUMMARY:Outreach Hour
DESCRIPTION:Mondays at lunch is Outreach Hour at Resonate Church! Our lobby is wide open to neighbors in need with a meal and a welcome from Jesus Christ. We listen\, build relationships\, pray\, bear burdens\, and connect people with local resources. Sign up on Meal Train to provide lunch or soup for 20 people. You can drop off the meal on Sunday and we’ll warm it up Monday morning. If you’d like to volunteer\, contact Noah Nemnihttps://www.mealtrain.com/trains/73kr4n/
URL:https://resonateatlanta.org/event/outreach-hour/2027-03-15/
LOCATION:Resonate Church\, 3433 Memorial Drive\, Decatur\, GA\, 30032\, United States
CATEGORIES:Outreach
END:VEVENT
BEGIN:VEVENT
DTSTART;TZID=America/New_York:20270322T120000
DTEND;TZID=America/New_York:20270322T130000
DTSTAMP:20260422T072205
CREATED:20250212T194752Z
LAST-MODIFIED:20251218T015630Z
UID:10001408-1805716800-1805720400@resonateatlanta.org
SUMMARY:Outreach Hour
DESCRIPTION:Mondays at lunch is Outreach Hour at Resonate Church! Our lobby is wide open to neighbors in need with a meal and a welcome from Jesus Christ. We listen\, build relationships\, pray\, bear burdens\, and connect people with local resources. Sign up on Meal Train to provide lunch or soup for 20 people. You can drop off the meal on Sunday and we’ll warm it up Monday morning. If you’d like to volunteer\, contact Noah Nemnihttps://www.mealtrain.com/trains/73kr4n/
URL:https://resonateatlanta.org/event/outreach-hour/2027-03-22/
LOCATION:Resonate Church\, 3433 Memorial Drive\, Decatur\, GA\, 30032\, United States
CATEGORIES:Outreach
END:VEVENT
END:VCALENDAR