BEGIN:VCALENDAR
VERSION:2.0
PRODID:-//Resonate Church - ECPv6.15.20//NONSGML v1.0//EN
CALSCALE:GREGORIAN
METHOD:PUBLISH
X-WR-CALNAME:Resonate Church
X-ORIGINAL-URL:https://resonateatlanta.org
X-WR-CALDESC:Events for Resonate Church
REFRESH-INTERVAL;VALUE=DURATION:PT1H
X-Robots-Tag:noindex
X-PUBLISHED-TTL:PT1H
BEGIN:VTIMEZONE
TZID:America/New_York
BEGIN:DAYLIGHT
TZOFFSETFROM:-0500
TZOFFSETTO:-0400
TZNAME:EDT
DTSTART:20220313T070000
END:DAYLIGHT
BEGIN:STANDARD
TZOFFSETFROM:-0400
TZOFFSETTO:-0500
TZNAME:EST
DTSTART:20221106T060000
END:STANDARD
BEGIN:DAYLIGHT
TZOFFSETFROM:-0500
TZOFFSETTO:-0400
TZNAME:EDT
DTSTART:20230312T070000
END:DAYLIGHT
BEGIN:STANDARD
TZOFFSETFROM:-0400
TZOFFSETTO:-0500
TZNAME:EST
DTSTART:20231105T060000
END:STANDARD
BEGIN:DAYLIGHT
TZOFFSETFROM:-0500
TZOFFSETTO:-0400
TZNAME:EDT
DTSTART:20240310T070000
END:DAYLIGHT
BEGIN:STANDARD
TZOFFSETFROM:-0400
TZOFFSETTO:-0500
TZNAME:EST
DTSTART:20241103T060000
END:STANDARD
BEGIN:DAYLIGHT
TZOFFSETFROM:-0500
TZOFFSETTO:-0400
TZNAME:EDT
DTSTART:20250309T070000
END:DAYLIGHT
BEGIN:STANDARD
TZOFFSETFROM:-0400
TZOFFSETTO:-0500
TZNAME:EST
DTSTART:20251102T060000
END:STANDARD
BEGIN:DAYLIGHT
TZOFFSETFROM:-0500
TZOFFSETTO:-0400
TZNAME:EDT
DTSTART:20260308T070000
END:DAYLIGHT
BEGIN:STANDARD
TZOFFSETFROM:-0400
TZOFFSETTO:-0500
TZNAME:EST
DTSTART:20261101T060000
END:STANDARD
END:VTIMEZONE
BEGIN:VEVENT
DTSTART;TZID=America/New_York:20250612T173000
DTEND;TZID=America/New_York:20250612T203000
DTSTAMP:20260420T183817
CREATED:20250422T160232Z
LAST-MODIFIED:20250422T163249Z
UID:10001580-1749749400-1749760200@resonateatlanta.org
SUMMARY:VBS 2025: Sports and Arts Camp
DESCRIPTION:Looking for a fun and meaningful way for your kids to kick off the summer?Resonate’s Sports & Arts Camp is the perfect mix of energy\, creativity\, and community! Each evening\, kids will explore new skills in both sports and arts\, enjoy a delicious dinner\, and hear an encouraging message about God’s love. \nThis camp is designed for rising 1st–6th grade students and is led by trusted\, trained volunteers from our Resonate Kids and Student Ministries. Join us June 9–12\, from 5:30–8:30 PM. \nWhat to Expect:\n\n🏃 High-energy games and sports\n🎨 Hands-on art projects\n🍽️ Dinner provided every night\n💬 Small group time and Bible teaching\n🤸‍♀️ A fun\, safe\, and welcoming environment\n\nSpace is limited\, so sign up soon!\n👉 Register Now \nHave questions? Reach out to danielle@resonateatlanta.org. \n 
URL:https://resonateatlanta.org/event/vbs/2025-06-12/
LOCATION:Resonate Church\, 3433 Memorial Drive\, Decatur\, GA\, 30032\, United States
CATEGORIES:Outreach,Youth + Kids
ATTACH;FMTTYPE=image/jpeg:https://resonateatlanta.org/wp-content/uploads/2025/04/header.jpg
ORGANIZER;CN="Danielle Boultinghouse":MAILTO:danielle@resonateatlanta.org
END:VEVENT
BEGIN:VEVENT
DTSTART;TZID=America/New_York:20250611T173000
DTEND;TZID=America/New_York:20250611T203000
DTSTAMP:20260420T183817
CREATED:20250422T160232Z
LAST-MODIFIED:20250422T163249Z
UID:10001579-1749663000-1749673800@resonateatlanta.org
SUMMARY:VBS 2025: Sports and Arts Camp
DESCRIPTION:Looking for a fun and meaningful way for your kids to kick off the summer?Resonate’s Sports & Arts Camp is the perfect mix of energy\, creativity\, and community! Each evening\, kids will explore new skills in both sports and arts\, enjoy a delicious dinner\, and hear an encouraging message about God’s love. \nThis camp is designed for rising 1st–6th grade students and is led by trusted\, trained volunteers from our Resonate Kids and Student Ministries. Join us June 9–12\, from 5:30–8:30 PM. \nWhat to Expect:\n\n🏃 High-energy games and sports\n🎨 Hands-on art projects\n🍽️ Dinner provided every night\n💬 Small group time and Bible teaching\n🤸‍♀️ A fun\, safe\, and welcoming environment\n\nSpace is limited\, so sign up soon!\n👉 Register Now \nHave questions? Reach out to danielle@resonateatlanta.org. \n 
URL:https://resonateatlanta.org/event/vbs/2025-06-11/
LOCATION:Resonate Church\, 3433 Memorial Drive\, Decatur\, GA\, 30032\, United States
CATEGORIES:Outreach,Youth + Kids
ATTACH;FMTTYPE=image/jpeg:https://resonateatlanta.org/wp-content/uploads/2025/04/header.jpg
ORGANIZER;CN="Danielle Boultinghouse":MAILTO:danielle@resonateatlanta.org
END:VEVENT
BEGIN:VEVENT
DTSTART;TZID=America/New_York:20250610T173000
DTEND;TZID=America/New_York:20250610T203000
DTSTAMP:20260420T183817
CREATED:20250422T160232Z
LAST-MODIFIED:20250422T163249Z
UID:10001578-1749576600-1749587400@resonateatlanta.org
SUMMARY:VBS 2025: Sports and Arts Camp
DESCRIPTION:Looking for a fun and meaningful way for your kids to kick off the summer?Resonate’s Sports & Arts Camp is the perfect mix of energy\, creativity\, and community! Each evening\, kids will explore new skills in both sports and arts\, enjoy a delicious dinner\, and hear an encouraging message about God’s love. \nThis camp is designed for rising 1st–6th grade students and is led by trusted\, trained volunteers from our Resonate Kids and Student Ministries. Join us June 9–12\, from 5:30–8:30 PM. \nWhat to Expect:\n\n🏃 High-energy games and sports\n🎨 Hands-on art projects\n🍽️ Dinner provided every night\n💬 Small group time and Bible teaching\n🤸‍♀️ A fun\, safe\, and welcoming environment\n\nSpace is limited\, so sign up soon!\n👉 Register Now \nHave questions? Reach out to danielle@resonateatlanta.org. \n 
URL:https://resonateatlanta.org/event/vbs/2025-06-10/
LOCATION:Resonate Church\, 3433 Memorial Drive\, Decatur\, GA\, 30032\, United States
CATEGORIES:Outreach,Youth + Kids
ATTACH;FMTTYPE=image/jpeg:https://resonateatlanta.org/wp-content/uploads/2025/04/header.jpg
ORGANIZER;CN="Danielle Boultinghouse":MAILTO:danielle@resonateatlanta.org
END:VEVENT
BEGIN:VEVENT
DTSTART;TZID=America/New_York:20250609T173000
DTEND;TZID=America/New_York:20250609T203000
DTSTAMP:20260420T183817
CREATED:20250422T160232Z
LAST-MODIFIED:20250422T163249Z
UID:10001577-1749490200-1749501000@resonateatlanta.org
SUMMARY:VBS 2025: Sports and Arts Camp
DESCRIPTION:Looking for a fun and meaningful way for your kids to kick off the summer?Resonate’s Sports & Arts Camp is the perfect mix of energy\, creativity\, and community! Each evening\, kids will explore new skills in both sports and arts\, enjoy a delicious dinner\, and hear an encouraging message about God’s love. \nThis camp is designed for rising 1st–6th grade students and is led by trusted\, trained volunteers from our Resonate Kids and Student Ministries. Join us June 9–12\, from 5:30–8:30 PM. \nWhat to Expect:\n\n🏃 High-energy games and sports\n🎨 Hands-on art projects\n🍽️ Dinner provided every night\n💬 Small group time and Bible teaching\n🤸‍♀️ A fun\, safe\, and welcoming environment\n\nSpace is limited\, so sign up soon!\n👉 Register Now \nHave questions? Reach out to danielle@resonateatlanta.org. \n 
URL:https://resonateatlanta.org/event/vbs/2025-06-09/
LOCATION:Resonate Church\, 3433 Memorial Drive\, Decatur\, GA\, 30032\, United States
CATEGORIES:Outreach,Youth + Kids
ATTACH;FMTTYPE=image/jpeg:https://resonateatlanta.org/wp-content/uploads/2025/04/header.jpg
ORGANIZER;CN="Danielle Boultinghouse":MAILTO:danielle@resonateatlanta.org
END:VEVENT
BEGIN:VEVENT
DTSTART;TZID=America/New_York:20250609T120000
DTEND;TZID=America/New_York:20250609T130000
DTSTAMP:20260420T183817
CREATED:20250212T194752Z
LAST-MODIFIED:20251218T015630Z
UID:10001315-1749470400-1749474000@resonateatlanta.org
SUMMARY:Outreach Hour
DESCRIPTION:Mondays at lunch is Outreach Hour at Resonate Church! Our lobby is wide open to neighbors in need with a meal and a welcome from Jesus Christ. We listen\, build relationships\, pray\, bear burdens\, and connect people with local resources. Sign up on Meal Train to provide lunch or soup for 20 people. You can drop off the meal on Sunday and we’ll warm it up Monday morning. If you’d like to volunteer\, contact Noah Nemnihttps://www.mealtrain.com/trains/73kr4n/
URL:https://resonateatlanta.org/event/outreach-hour/2025-06-09/
LOCATION:Resonate Church\, 3433 Memorial Drive\, Decatur\, GA\, 30032\, United States
CATEGORIES:Outreach
END:VEVENT
BEGIN:VEVENT
DTSTART;TZID=America/New_York:20250602T120000
DTEND;TZID=America/New_York:20250602T130000
DTSTAMP:20260420T183817
CREATED:20250212T194752Z
LAST-MODIFIED:20251218T015630Z
UID:10001314-1748865600-1748869200@resonateatlanta.org
SUMMARY:Outreach Hour
DESCRIPTION:Mondays at lunch is Outreach Hour at Resonate Church! Our lobby is wide open to neighbors in need with a meal and a welcome from Jesus Christ. We listen\, build relationships\, pray\, bear burdens\, and connect people with local resources. Sign up on Meal Train to provide lunch or soup for 20 people. You can drop off the meal on Sunday and we’ll warm it up Monday morning. If you’d like to volunteer\, contact Noah Nemnihttps://www.mealtrain.com/trains/73kr4n/
URL:https://resonateatlanta.org/event/outreach-hour/2025-06-02/
LOCATION:Resonate Church\, 3433 Memorial Drive\, Decatur\, GA\, 30032\, United States
CATEGORIES:Outreach
END:VEVENT
BEGIN:VEVENT
DTSTART;TZID=America/New_York:20250526T120000
DTEND;TZID=America/New_York:20250526T130000
DTSTAMP:20260420T183817
CREATED:20250212T194752Z
LAST-MODIFIED:20251218T015630Z
UID:10001313-1748260800-1748264400@resonateatlanta.org
SUMMARY:Outreach Hour
DESCRIPTION:Mondays at lunch is Outreach Hour at Resonate Church! Our lobby is wide open to neighbors in need with a meal and a welcome from Jesus Christ. We listen\, build relationships\, pray\, bear burdens\, and connect people with local resources. Sign up on Meal Train to provide lunch or soup for 20 people. You can drop off the meal on Sunday and we’ll warm it up Monday morning. If you’d like to volunteer\, contact Noah Nemnihttps://www.mealtrain.com/trains/73kr4n/
URL:https://resonateatlanta.org/event/outreach-hour/2025-05-26/
LOCATION:Resonate Church\, 3433 Memorial Drive\, Decatur\, GA\, 30032\, United States
CATEGORIES:Outreach
END:VEVENT
BEGIN:VEVENT
DTSTART;TZID=America/New_York:20250519T120000
DTEND;TZID=America/New_York:20250519T130000
DTSTAMP:20260420T183817
CREATED:20250212T194752Z
LAST-MODIFIED:20251218T015630Z
UID:10001312-1747656000-1747659600@resonateatlanta.org
SUMMARY:Outreach Hour
DESCRIPTION:Mondays at lunch is Outreach Hour at Resonate Church! Our lobby is wide open to neighbors in need with a meal and a welcome from Jesus Christ. We listen\, build relationships\, pray\, bear burdens\, and connect people with local resources. Sign up on Meal Train to provide lunch or soup for 20 people. You can drop off the meal on Sunday and we’ll warm it up Monday morning. If you’d like to volunteer\, contact Noah Nemnihttps://www.mealtrain.com/trains/73kr4n/
URL:https://resonateatlanta.org/event/outreach-hour/2025-05-19/
LOCATION:Resonate Church\, 3433 Memorial Drive\, Decatur\, GA\, 30032\, United States
CATEGORIES:Outreach
END:VEVENT
BEGIN:VEVENT
DTSTART;TZID=America/New_York:20250512T120000
DTEND;TZID=America/New_York:20250512T130000
DTSTAMP:20260420T183817
CREATED:20250212T194752Z
LAST-MODIFIED:20251218T015630Z
UID:10001311-1747051200-1747054800@resonateatlanta.org
SUMMARY:Outreach Hour
DESCRIPTION:Mondays at lunch is Outreach Hour at Resonate Church! Our lobby is wide open to neighbors in need with a meal and a welcome from Jesus Christ. We listen\, build relationships\, pray\, bear burdens\, and connect people with local resources. Sign up on Meal Train to provide lunch or soup for 20 people. You can drop off the meal on Sunday and we’ll warm it up Monday morning. If you’d like to volunteer\, contact Noah Nemnihttps://www.mealtrain.com/trains/73kr4n/
URL:https://resonateatlanta.org/event/outreach-hour/2025-05-12/
LOCATION:Resonate Church\, 3433 Memorial Drive\, Decatur\, GA\, 30032\, United States
CATEGORIES:Outreach
END:VEVENT
BEGIN:VEVENT
DTSTART;TZID=America/New_York:20250509T000000
DTEND;TZID=America/New_York:20250509T235900
DTSTAMP:20260420T183817
CREATED:20250309T032334Z
LAST-MODIFIED:20250504T123700Z
UID:10001567-1746748800-1746835140@resonateatlanta.org
SUMMARY:Annual Baby Shower Support
DESCRIPTION:Resonate Church is partnering with Embrace once again to host a baby shower for expectant refugee mothers\, and we’d love your help to make this special event possible on May 9! \nWe are assembling 10 gift bags for these moms and are collecting new baby essentials\, including: \n\nSleep sacks\nThermometers\nBaby wash\nDiaper cream\nSize 1 diapers\nWipes\nNewborn onesies\nPostpartum feminine pads\n\nYou can donate by checking our wish list\, which allows you to order directly and see what items are still needed. \nDrop-off options:📦 Ship directly to Aislynn & Bryan’s home (2908 Saint Patrick St. SE\, Atlanta\, GA 30317)🏠 Bring donations to church and place them in the collection bin in the lobby \nAdditional Needs: While we are not collecting maternity clothes this year\, Embrace is in need of infant car seats if you’d like to contribute one. \nFor questions\, contact Aislynn at acannon5@gmail.com or 434-229-5113. Thank you for helping us bless these moms! ❤️
URL:https://resonateatlanta.org/event/annual-baby-shower-support/
LOCATION:Private Residence
CATEGORIES:Community,Outreach,Women
ATTACH;FMTTYPE=image/png:https://resonateatlanta.org/wp-content/uploads/2025/03/embrace.png
END:VEVENT
BEGIN:VEVENT
DTSTART;TZID=America/New_York:20250505T120000
DTEND;TZID=America/New_York:20250505T130000
DTSTAMP:20260420T183817
CREATED:20250212T194752Z
LAST-MODIFIED:20251218T015630Z
UID:10001310-1746446400-1746450000@resonateatlanta.org
SUMMARY:Outreach Hour
DESCRIPTION:Mondays at lunch is Outreach Hour at Resonate Church! Our lobby is wide open to neighbors in need with a meal and a welcome from Jesus Christ. We listen\, build relationships\, pray\, bear burdens\, and connect people with local resources. Sign up on Meal Train to provide lunch or soup for 20 people. You can drop off the meal on Sunday and we’ll warm it up Monday morning. If you’d like to volunteer\, contact Noah Nemnihttps://www.mealtrain.com/trains/73kr4n/
URL:https://resonateatlanta.org/event/outreach-hour/2025-05-05/
LOCATION:Resonate Church\, 3433 Memorial Drive\, Decatur\, GA\, 30032\, United States
CATEGORIES:Outreach
END:VEVENT
BEGIN:VEVENT
DTSTART;TZID=America/New_York:20250428T120000
DTEND;TZID=America/New_York:20250428T130000
DTSTAMP:20260420T183817
CREATED:20250212T194752Z
LAST-MODIFIED:20251218T015630Z
UID:10001309-1745841600-1745845200@resonateatlanta.org
SUMMARY:Outreach Hour
DESCRIPTION:Mondays at lunch is Outreach Hour at Resonate Church! Our lobby is wide open to neighbors in need with a meal and a welcome from Jesus Christ. We listen\, build relationships\, pray\, bear burdens\, and connect people with local resources. Sign up on Meal Train to provide lunch or soup for 20 people. You can drop off the meal on Sunday and we’ll warm it up Monday morning. If you’d like to volunteer\, contact Noah Nemnihttps://www.mealtrain.com/trains/73kr4n/
URL:https://resonateatlanta.org/event/outreach-hour/2025-04-28/
LOCATION:Resonate Church\, 3433 Memorial Drive\, Decatur\, GA\, 30032\, United States
CATEGORIES:Outreach
END:VEVENT
BEGIN:VEVENT
DTSTART;TZID=America/New_York:20250421T120000
DTEND;TZID=America/New_York:20250421T130000
DTSTAMP:20260420T183817
CREATED:20250212T194752Z
LAST-MODIFIED:20251218T015630Z
UID:10001308-1745236800-1745240400@resonateatlanta.org
SUMMARY:Outreach Hour
DESCRIPTION:Mondays at lunch is Outreach Hour at Resonate Church! Our lobby is wide open to neighbors in need with a meal and a welcome from Jesus Christ. We listen\, build relationships\, pray\, bear burdens\, and connect people with local resources. Sign up on Meal Train to provide lunch or soup for 20 people. You can drop off the meal on Sunday and we’ll warm it up Monday morning. If you’d like to volunteer\, contact Noah Nemnihttps://www.mealtrain.com/trains/73kr4n/
URL:https://resonateatlanta.org/event/outreach-hour/2025-04-21/
LOCATION:Resonate Church\, 3433 Memorial Drive\, Decatur\, GA\, 30032\, United States
CATEGORIES:Outreach
END:VEVENT
BEGIN:VEVENT
DTSTART;TZID=America/New_York:20250414T120000
DTEND;TZID=America/New_York:20250414T130000
DTSTAMP:20260420T183817
CREATED:20250212T194752Z
LAST-MODIFIED:20251218T015630Z
UID:10001307-1744632000-1744635600@resonateatlanta.org
SUMMARY:Outreach Hour
DESCRIPTION:Mondays at lunch is Outreach Hour at Resonate Church! Our lobby is wide open to neighbors in need with a meal and a welcome from Jesus Christ. We listen\, build relationships\, pray\, bear burdens\, and connect people with local resources. Sign up on Meal Train to provide lunch or soup for 20 people. You can drop off the meal on Sunday and we’ll warm it up Monday morning. If you’d like to volunteer\, contact Noah Nemnihttps://www.mealtrain.com/trains/73kr4n/
URL:https://resonateatlanta.org/event/outreach-hour/2025-04-14/
LOCATION:Resonate Church\, 3433 Memorial Drive\, Decatur\, GA\, 30032\, United States
CATEGORIES:Outreach
END:VEVENT
BEGIN:VEVENT
DTSTART;TZID=America/New_York:20250407T120000
DTEND;TZID=America/New_York:20250407T130000
DTSTAMP:20260420T183817
CREATED:20250212T194752Z
LAST-MODIFIED:20251218T015630Z
UID:10001306-1744027200-1744030800@resonateatlanta.org
SUMMARY:Outreach Hour
DESCRIPTION:Mondays at lunch is Outreach Hour at Resonate Church! Our lobby is wide open to neighbors in need with a meal and a welcome from Jesus Christ. We listen\, build relationships\, pray\, bear burdens\, and connect people with local resources. Sign up on Meal Train to provide lunch or soup for 20 people. You can drop off the meal on Sunday and we’ll warm it up Monday morning. If you’d like to volunteer\, contact Noah Nemnihttps://www.mealtrain.com/trains/73kr4n/
URL:https://resonateatlanta.org/event/outreach-hour/2025-04-07/
LOCATION:Resonate Church\, 3433 Memorial Drive\, Decatur\, GA\, 30032\, United States
CATEGORIES:Outreach
END:VEVENT
BEGIN:VEVENT
DTSTART;TZID=America/New_York:20250331T120000
DTEND;TZID=America/New_York:20250331T130000
DTSTAMP:20260420T183817
CREATED:20250212T194752Z
LAST-MODIFIED:20251218T015630Z
UID:10001305-1743422400-1743426000@resonateatlanta.org
SUMMARY:Outreach Hour
DESCRIPTION:Mondays at lunch is Outreach Hour at Resonate Church! Our lobby is wide open to neighbors in need with a meal and a welcome from Jesus Christ. We listen\, build relationships\, pray\, bear burdens\, and connect people with local resources. Sign up on Meal Train to provide lunch or soup for 20 people. You can drop off the meal on Sunday and we’ll warm it up Monday morning. If you’d like to volunteer\, contact Noah Nemnihttps://www.mealtrain.com/trains/73kr4n/
URL:https://resonateatlanta.org/event/outreach-hour/2025-03-31/
LOCATION:Resonate Church\, 3433 Memorial Drive\, Decatur\, GA\, 30032\, United States
CATEGORIES:Outreach
END:VEVENT
BEGIN:VEVENT
DTSTART;TZID=America/New_York:20250324T120000
DTEND;TZID=America/New_York:20250324T130000
DTSTAMP:20260420T183817
CREATED:20250212T194752Z
LAST-MODIFIED:20251218T015630Z
UID:10001304-1742817600-1742821200@resonateatlanta.org
SUMMARY:Outreach Hour
DESCRIPTION:Mondays at lunch is Outreach Hour at Resonate Church! Our lobby is wide open to neighbors in need with a meal and a welcome from Jesus Christ. We listen\, build relationships\, pray\, bear burdens\, and connect people with local resources. Sign up on Meal Train to provide lunch or soup for 20 people. You can drop off the meal on Sunday and we’ll warm it up Monday morning. If you’d like to volunteer\, contact Noah Nemnihttps://www.mealtrain.com/trains/73kr4n/
URL:https://resonateatlanta.org/event/outreach-hour/2025-03-24/
LOCATION:Resonate Church\, 3433 Memorial Drive\, Decatur\, GA\, 30032\, United States
CATEGORIES:Outreach
END:VEVENT
BEGIN:VEVENT
DTSTART;TZID=America/New_York:20250317T120000
DTEND;TZID=America/New_York:20250317T130000
DTSTAMP:20260420T183817
CREATED:20250212T194752Z
LAST-MODIFIED:20251218T015630Z
UID:10001303-1742212800-1742216400@resonateatlanta.org
SUMMARY:Outreach Hour
DESCRIPTION:Mondays at lunch is Outreach Hour at Resonate Church! Our lobby is wide open to neighbors in need with a meal and a welcome from Jesus Christ. We listen\, build relationships\, pray\, bear burdens\, and connect people with local resources. Sign up on Meal Train to provide lunch or soup for 20 people. You can drop off the meal on Sunday and we’ll warm it up Monday morning. If you’d like to volunteer\, contact Noah Nemnihttps://www.mealtrain.com/trains/73kr4n/
URL:https://resonateatlanta.org/event/outreach-hour/2025-03-17/
LOCATION:Resonate Church\, 3433 Memorial Drive\, Decatur\, GA\, 30032\, United States
CATEGORIES:Outreach
END:VEVENT
BEGIN:VEVENT
DTSTART;TZID=America/New_York:20250310T120000
DTEND;TZID=America/New_York:20250310T130000
DTSTAMP:20260420T183817
CREATED:20250212T194752Z
LAST-MODIFIED:20251218T015630Z
UID:10001302-1741608000-1741611600@resonateatlanta.org
SUMMARY:Outreach Hour
DESCRIPTION:Mondays at lunch is Outreach Hour at Resonate Church! Our lobby is wide open to neighbors in need with a meal and a welcome from Jesus Christ. We listen\, build relationships\, pray\, bear burdens\, and connect people with local resources. Sign up on Meal Train to provide lunch or soup for 20 people. You can drop off the meal on Sunday and we’ll warm it up Monday morning. If you’d like to volunteer\, contact Noah Nemnihttps://www.mealtrain.com/trains/73kr4n/
URL:https://resonateatlanta.org/event/outreach-hour/2025-03-10/
LOCATION:Resonate Church\, 3433 Memorial Drive\, Decatur\, GA\, 30032\, United States
CATEGORIES:Outreach
END:VEVENT
BEGIN:VEVENT
DTSTART;TZID=America/New_York:20250303T120000
DTEND;TZID=America/New_York:20250303T130000
DTSTAMP:20260420T183817
CREATED:20250212T194752Z
LAST-MODIFIED:20251218T015630Z
UID:10001301-1741003200-1741006800@resonateatlanta.org
SUMMARY:Outreach Hour
DESCRIPTION:Mondays at lunch is Outreach Hour at Resonate Church! Our lobby is wide open to neighbors in need with a meal and a welcome from Jesus Christ. We listen\, build relationships\, pray\, bear burdens\, and connect people with local resources. Sign up on Meal Train to provide lunch or soup for 20 people. You can drop off the meal on Sunday and we’ll warm it up Monday morning. If you’d like to volunteer\, contact Noah Nemnihttps://www.mealtrain.com/trains/73kr4n/
URL:https://resonateatlanta.org/event/outreach-hour/2025-03-03/
LOCATION:Resonate Church\, 3433 Memorial Drive\, Decatur\, GA\, 30032\, United States
CATEGORIES:Outreach
END:VEVENT
BEGIN:VEVENT
DTSTART;TZID=America/New_York:20250224T120000
DTEND;TZID=America/New_York:20250224T130000
DTSTAMP:20260420T183817
CREATED:20250212T194752Z
LAST-MODIFIED:20251218T015630Z
UID:10001300-1740398400-1740402000@resonateatlanta.org
SUMMARY:Outreach Hour
DESCRIPTION:Mondays at lunch is Outreach Hour at Resonate Church! Our lobby is wide open to neighbors in need with a meal and a welcome from Jesus Christ. We listen\, build relationships\, pray\, bear burdens\, and connect people with local resources. Sign up on Meal Train to provide lunch or soup for 20 people. You can drop off the meal on Sunday and we’ll warm it up Monday morning. If you’d like to volunteer\, contact Noah Nemnihttps://www.mealtrain.com/trains/73kr4n/
URL:https://resonateatlanta.org/event/outreach-hour/2025-02-24/
LOCATION:Resonate Church\, 3433 Memorial Drive\, Decatur\, GA\, 30032\, United States
CATEGORIES:Outreach
END:VEVENT
BEGIN:VEVENT
DTSTART;TZID=America/New_York:20250217T120000
DTEND;TZID=America/New_York:20250217T130000
DTSTAMP:20260420T183817
CREATED:20250212T194752Z
LAST-MODIFIED:20251218T015630Z
UID:10001299-1739793600-1739797200@resonateatlanta.org
SUMMARY:Outreach Hour
DESCRIPTION:Mondays at lunch is Outreach Hour at Resonate Church! Our lobby is wide open to neighbors in need with a meal and a welcome from Jesus Christ. We listen\, build relationships\, pray\, bear burdens\, and connect people with local resources. Sign up on Meal Train to provide lunch or soup for 20 people. You can drop off the meal on Sunday and we’ll warm it up Monday morning. If you’d like to volunteer\, contact Noah Nemnihttps://www.mealtrain.com/trains/73kr4n/
URL:https://resonateatlanta.org/event/outreach-hour/2025-02-17/
LOCATION:Resonate Church\, 3433 Memorial Drive\, Decatur\, GA\, 30032\, United States
CATEGORIES:Outreach
END:VEVENT
BEGIN:VEVENT
DTSTART;TZID=America/New_York:20241117T180000
DTEND;TZID=America/New_York:20241117T193000
DTSTAMP:20260420T183817
CREATED:20230726T170254Z
LAST-MODIFIED:20241003T154814Z
UID:10000835-1731866400-1731871800@resonateatlanta.org
SUMMARY:Women in the Window Volunteer Interest Meeting
DESCRIPTION:Women in the Window Intl. is a ministry that serves Christian women in the 10/40 window through providing Biblically-based trainings\, both online and in-person. Jenny from Bangladesh will be sharing about her experience teaching and training women in her country. Join us on Sunday evening to learn more about the ministry and how to get involved. Refreshments will be provided.
URL:https://resonateatlanta.org/event/women-in-the-window-volunteer-interest-meeting/
LOCATION:Resonate Church\, 3433 Memorial Drive\, Decatur\, GA\, 30032\, United States
CATEGORIES:Education,Outreach,Women
ATTACH;FMTTYPE=image/png:https://resonateatlanta.org/wp-content/uploads/2023/07/WITW-logo-retina.png
END:VEVENT
BEGIN:VEVENT
DTSTART;TZID=America/New_York:20241020T090000
DTEND;TZID=America/New_York:20241020T120000
DTSTAMP:20260420T183817
CREATED:20230827T175722Z
LAST-MODIFIED:20231015T195017Z
UID:10001062-1729414800-1729425600@resonateatlanta.org
SUMMARY:Serve Sunday
DESCRIPTION:Join us on October 22 for Serve Sunday where\, instead of our regular services\, we will work with partner organizations across the city on various beautification\, cleaning and service projects. There will be opportunities for adults and kids. As always\, we will be making blessing bags for people experiencing homelessness and will collect items throughout September and October. Childcare will be provided for babies and toddlers. Teams will meet at Resonate\, head to several serve sites in the community\, and then return to Resonate for a time of sharing and celebration. Sign-up in-person on Sundays or email info@resonateatlanta.org.
URL:https://resonateatlanta.org/event/serve-sunday/2024-10-20/
LOCATION:Resonate Church\, 3433 Memorial Drive\, Decatur\, GA\, 30032\, United States
CATEGORIES:Community,Outreach
ATTACH;FMTTYPE=image/png:https://resonateatlanta.org/wp-content/uploads/2023/06/serve-others-icon.png
END:VEVENT
BEGIN:VEVENT
DTSTART;TZID=America/New_York:20231022T090000
DTEND;TZID=America/New_York:20231022T120000
DTSTAMP:20260420T183817
CREATED:20231016T150221Z
LAST-MODIFIED:20231016T150326Z
UID:10001048-1697965200-1697976000@resonateatlanta.org
SUMMARY:Serve Sunday
DESCRIPTION:Join us on October 22 for Serve Sunday where\, instead of our regular services\, we will work with partner organizations across the city on various beautification\, cleaning and service projects. There will be opportunities for adults and kids. As always\, we will be making blessing bags for people experiencing homelessness and will collect items throughout September and October. Childcare will be provided for babies and toddlers. Teams will meet at Resonate\, head to several serve sites in the community\, and then return to Resonate for a time of sharing and celebration. Sign-up in-person on Sundays or email info@resonateatlanta.org.
URL:https://resonateatlanta.org/event/serve-sunday-2/
LOCATION:Resonate Church\, 3433 Memorial Drive\, Decatur\, GA\, 30032\, United States
CATEGORIES:Community,Outreach
ATTACH;FMTTYPE=image/png:https://resonateatlanta.org/wp-content/uploads/2023/08/servesunday2.png
END:VEVENT
END:VCALENDAR