BEGIN:VCALENDAR
VERSION:2.0
PRODID:-//Resonate Church - ECPv6.15.20//NONSGML v1.0//EN
CALSCALE:GREGORIAN
METHOD:PUBLISH
X-WR-CALNAME:Resonate Church
X-ORIGINAL-URL:https://resonateatlanta.org
X-WR-CALDESC:Events for Resonate Church
REFRESH-INTERVAL;VALUE=DURATION:PT1H
X-Robots-Tag:noindex
X-PUBLISHED-TTL:PT1H
BEGIN:VTIMEZONE
TZID:America/New_York
BEGIN:DAYLIGHT
TZOFFSETFROM:-0500
TZOFFSETTO:-0400
TZNAME:EDT
DTSTART:20250309T070000
END:DAYLIGHT
BEGIN:STANDARD
TZOFFSETFROM:-0400
TZOFFSETTO:-0500
TZNAME:EST
DTSTART:20251102T060000
END:STANDARD
BEGIN:DAYLIGHT
TZOFFSETFROM:-0500
TZOFFSETTO:-0400
TZNAME:EDT
DTSTART:20260308T070000
END:DAYLIGHT
BEGIN:STANDARD
TZOFFSETFROM:-0400
TZOFFSETTO:-0500
TZNAME:EST
DTSTART:20261101T060000
END:STANDARD
BEGIN:DAYLIGHT
TZOFFSETFROM:-0500
TZOFFSETTO:-0400
TZNAME:EDT
DTSTART:20270314T070000
END:DAYLIGHT
BEGIN:STANDARD
TZOFFSETFROM:-0400
TZOFFSETTO:-0500
TZNAME:EST
DTSTART:20271107T060000
END:STANDARD
END:VTIMEZONE
BEGIN:VEVENT
DTSTART;TZID=America/New_York:20260530T150000
DTEND;TZID=America/New_York:20260530T180000
DTSTAMP:20260420T050159
CREATED:20260323T181022Z
LAST-MODIFIED:20260419T123446Z
UID:10002369-1780153200-1780164000@resonateatlanta.org
SUMMARY:Resonate Clothing Swap
DESCRIPTION:Join us for a Clothing Swap on May 30th from 3–6 PM at Resonate Church! \nStart clearing out your closets now and bring gently used\, good-condition clothing to church on May 17 or May 24. We’re accepting men’s\, women’s\, and children’s items—please no stains\, holes\, or overly worn pieces. Please pre-sort your clothes in bags with gender and size. \nWe could also use a few extra items to make the event great—clothing racks\, shoe racks\, hangers\, and more—as well as volunteers. See the link  below for more details and to sign up. \nSign Up \nCome with an appetizer to share and enjoy an afternoon of swapping\, snacks\, and sustainable style!
URL:https://resonateatlanta.org/event/resonate-clothing-swap/
LOCATION:Resonate Church\, 3433 Memorial Drive\, Decatur\, GA\, 30032\, United States
END:VEVENT
BEGIN:VEVENT
DTSTART;TZID=America/New_York:20260710T123000
DTEND;TZID=America/New_York:20260712T120000
DTSTAMP:20260420T050159
CREATED:20260323T180600Z
LAST-MODIFIED:20260419T123431Z
UID:10002368-1783686600-1783857600@resonateatlanta.org
SUMMARY:Shout Retreat
DESCRIPTION:Come make memories and connect with God and each other on our second annual Shout Retreat! Activities will include new team building experiences\, teaching and small group discussions\, and a lot of fun! For current 6-12th grade students.
URL:https://resonateatlanta.org/event/shout-retreat-2/
LOCATION:GA
END:VEVENT
END:VCALENDAR