BEGIN:VCALENDAR
VERSION:2.0
PRODID:-//Resonate Church - ECPv6.15.20//NONSGML v1.0//EN
CALSCALE:GREGORIAN
METHOD:PUBLISH
X-WR-CALNAME:Resonate Church
X-ORIGINAL-URL:https://resonateatlanta.org
X-WR-CALDESC:Events for Resonate Church
REFRESH-INTERVAL;VALUE=DURATION:PT1H
X-Robots-Tag:noindex
X-PUBLISHED-TTL:PT1H
BEGIN:VTIMEZONE
TZID:America/New_York
BEGIN:DAYLIGHT
TZOFFSETFROM:-0500
TZOFFSETTO:-0400
TZNAME:EDT
DTSTART:20280312T070000
END:DAYLIGHT
BEGIN:STANDARD
TZOFFSETFROM:-0400
TZOFFSETTO:-0500
TZNAME:EST
DTSTART:20281105T060000
END:STANDARD
BEGIN:DAYLIGHT
TZOFFSETFROM:-0500
TZOFFSETTO:-0400
TZNAME:EDT
DTSTART:20290311T070000
END:DAYLIGHT
BEGIN:STANDARD
TZOFFSETFROM:-0400
TZOFFSETTO:-0500
TZNAME:EST
DTSTART:20291104T060000
END:STANDARD
BEGIN:DAYLIGHT
TZOFFSETFROM:-0500
TZOFFSETTO:-0400
TZNAME:EDT
DTSTART:20300310T070000
END:DAYLIGHT
BEGIN:STANDARD
TZOFFSETFROM:-0400
TZOFFSETTO:-0500
TZNAME:EST
DTSTART:20301103T060000
END:STANDARD
END:VTIMEZONE
BEGIN:VEVENT
DTSTART;TZID=America/New_York:20290304T090000
DTEND;TZID=America/New_York:20290304T103000
DTSTAMP:20260420T165251
CREATED:20260122T201654Z
LAST-MODIFIED:20260122T201655Z
UID:10001909-1867309200-1867314600@resonateatlanta.org
SUMMARY:Worship Service – 9:00am
DESCRIPTION:Join us for our 9:00am worship gathering as we come together to worship Jesus\, open the Scriptures\, and practice community. Kids ministry is available for infants through 5th grade during this service.A livestream is available at live.resonateatlanta.org.
URL:https://resonateatlanta.org/event/worship-service-900am-2/2029-03-04/
LOCATION:Resonate Church\, 3433 Memorial Drive\, Decatur\, GA\, 30032\, United States
CATEGORIES:Community,Newcomers
END:VEVENT
BEGIN:VEVENT
DTSTART;TZID=America/New_York:20290304T104500
DTEND;TZID=America/New_York:20290304T121500
DTSTAMP:20260420T165251
CREATED:20251211T161627Z
LAST-MODIFIED:20251211T161627Z
UID:10002169-1867315500-1867320900@resonateatlanta.org
SUMMARY:Worship Service – 10:45am
DESCRIPTION:Join us for our 10:45am worship gathering as we come together to worship Jesus\, open the Scriptures\, and practice community. Kids ministry is available for infants through 5th grade during this service.A livestream is available at live.resonateatlanta.org.
URL:https://resonateatlanta.org/event/worship-service-1045am/2029-03-04/
LOCATION:Resonate Church\, 3433 Memorial Drive\, Decatur\, GA\, 30032\, United States
CATEGORIES:Community,Newcomers
END:VEVENT
BEGIN:VEVENT
DTSTART;TZID=America/New_York:20290305T120000
DTEND;TZID=America/New_York:20290305T130000
DTSTAMP:20260420T165251
CREATED:20250212T194752Z
LAST-MODIFIED:20251218T015630Z
UID:10001510-1867406400-1867410000@resonateatlanta.org
SUMMARY:Outreach Hour
DESCRIPTION:Mondays at lunch is Outreach Hour at Resonate Church! Our lobby is wide open to neighbors in need with a meal and a welcome from Jesus Christ. We listen\, build relationships\, pray\, bear burdens\, and connect people with local resources. Sign up on Meal Train to provide lunch or soup for 20 people. You can drop off the meal on Sunday and we’ll warm it up Monday morning. If you’d like to volunteer\, contact Noah Nemnihttps://www.mealtrain.com/trains/73kr4n/
URL:https://resonateatlanta.org/event/outreach-hour/2029-03-05/
LOCATION:Resonate Church\, 3433 Memorial Drive\, Decatur\, GA\, 30032\, United States
CATEGORIES:Outreach
END:VEVENT
BEGIN:VEVENT
DTSTART;TZID=America/New_York:20290311T090000
DTEND;TZID=America/New_York:20290311T103000
DTSTAMP:20260420T165251
CREATED:20260122T201654Z
LAST-MODIFIED:20260122T201655Z
UID:10001910-1867914000-1867919400@resonateatlanta.org
SUMMARY:Worship Service – 9:00am
DESCRIPTION:Join us for our 9:00am worship gathering as we come together to worship Jesus\, open the Scriptures\, and practice community. Kids ministry is available for infants through 5th grade during this service.A livestream is available at live.resonateatlanta.org.
URL:https://resonateatlanta.org/event/worship-service-900am-2/2029-03-11/
LOCATION:Resonate Church\, 3433 Memorial Drive\, Decatur\, GA\, 30032\, United States
CATEGORIES:Community,Newcomers
END:VEVENT
BEGIN:VEVENT
DTSTART;TZID=America/New_York:20290311T104500
DTEND;TZID=America/New_York:20290311T121500
DTSTAMP:20260420T165251
CREATED:20251211T161627Z
LAST-MODIFIED:20251211T161627Z
UID:10002170-1867920300-1867925700@resonateatlanta.org
SUMMARY:Worship Service – 10:45am
DESCRIPTION:Join us for our 10:45am worship gathering as we come together to worship Jesus\, open the Scriptures\, and practice community. Kids ministry is available for infants through 5th grade during this service.A livestream is available at live.resonateatlanta.org.
URL:https://resonateatlanta.org/event/worship-service-1045am/2029-03-11/
LOCATION:Resonate Church\, 3433 Memorial Drive\, Decatur\, GA\, 30032\, United States
CATEGORIES:Community,Newcomers
END:VEVENT
BEGIN:VEVENT
DTSTART;TZID=America/New_York:20290312T120000
DTEND;TZID=America/New_York:20290312T130000
DTSTAMP:20260420T165251
CREATED:20250212T194752Z
LAST-MODIFIED:20251218T015630Z
UID:10001511-1868011200-1868014800@resonateatlanta.org
SUMMARY:Outreach Hour
DESCRIPTION:Mondays at lunch is Outreach Hour at Resonate Church! Our lobby is wide open to neighbors in need with a meal and a welcome from Jesus Christ. We listen\, build relationships\, pray\, bear burdens\, and connect people with local resources. Sign up on Meal Train to provide lunch or soup for 20 people. You can drop off the meal on Sunday and we’ll warm it up Monday morning. If you’d like to volunteer\, contact Noah Nemnihttps://www.mealtrain.com/trains/73kr4n/
URL:https://resonateatlanta.org/event/outreach-hour/2029-03-12/
LOCATION:Resonate Church\, 3433 Memorial Drive\, Decatur\, GA\, 30032\, United States
CATEGORIES:Outreach
END:VEVENT
BEGIN:VEVENT
DTSTART;TZID=America/New_York:20290315T073000
DTEND;TZID=America/New_York:20290315T090000
DTSTAMP:20260420T165251
CREATED:20200428T175330Z
LAST-MODIFIED:20250317T141455Z
UID:10001285-1868254200-1868259600@resonateatlanta.org
SUMMARY:Faith Driven Entrepreneur Group
DESCRIPTION:Join us the 3rd Thursday of every month for study\, discussion\, and community for faith-driven entrepreneurs and those passionately pursuing living out their identity in Christ in the workplace. Find more information and online registration at faithdrivenentrepreneur.org\, or simply drop in if you’re interested!
URL:https://resonateatlanta.org/event/faith-driven-entrepreneur-group/2029-03-15/
LOCATION:Opo Coffee Training Lab\, 314 E Howard Ave\, Decatur\, GA\, 30030\, United States
CATEGORIES:Education
ATTACH;FMTTYPE=image/jpeg:https://resonateatlanta.org/wp-content/uploads/2020/04/office.jpg
END:VEVENT
BEGIN:VEVENT
DTSTART;TZID=America/New_York:20290318T090000
DTEND;TZID=America/New_York:20290318T103000
DTSTAMP:20260420T165251
CREATED:20260122T201654Z
LAST-MODIFIED:20260122T201655Z
UID:10001911-1868518800-1868524200@resonateatlanta.org
SUMMARY:Worship Service – 9:00am
DESCRIPTION:Join us for our 9:00am worship gathering as we come together to worship Jesus\, open the Scriptures\, and practice community. Kids ministry is available for infants through 5th grade during this service.A livestream is available at live.resonateatlanta.org.
URL:https://resonateatlanta.org/event/worship-service-900am-2/2029-03-18/
LOCATION:Resonate Church\, 3433 Memorial Drive\, Decatur\, GA\, 30032\, United States
CATEGORIES:Community,Newcomers
END:VEVENT
BEGIN:VEVENT
DTSTART;TZID=America/New_York:20290318T104500
DTEND;TZID=America/New_York:20290318T121500
DTSTAMP:20260420T165251
CREATED:20251211T161627Z
LAST-MODIFIED:20251211T161627Z
UID:10002171-1868525100-1868530500@resonateatlanta.org
SUMMARY:Worship Service – 10:45am
DESCRIPTION:Join us for our 10:45am worship gathering as we come together to worship Jesus\, open the Scriptures\, and practice community. Kids ministry is available for infants through 5th grade during this service.A livestream is available at live.resonateatlanta.org.
URL:https://resonateatlanta.org/event/worship-service-1045am/2029-03-18/
LOCATION:Resonate Church\, 3433 Memorial Drive\, Decatur\, GA\, 30032\, United States
CATEGORIES:Community,Newcomers
END:VEVENT
BEGIN:VEVENT
DTSTART;TZID=America/New_York:20290319T120000
DTEND;TZID=America/New_York:20290319T130000
DTSTAMP:20260420T165251
CREATED:20250212T194752Z
LAST-MODIFIED:20251218T015630Z
UID:10001512-1868616000-1868619600@resonateatlanta.org
SUMMARY:Outreach Hour
DESCRIPTION:Mondays at lunch is Outreach Hour at Resonate Church! Our lobby is wide open to neighbors in need with a meal and a welcome from Jesus Christ. We listen\, build relationships\, pray\, bear burdens\, and connect people with local resources. Sign up on Meal Train to provide lunch or soup for 20 people. You can drop off the meal on Sunday and we’ll warm it up Monday morning. If you’d like to volunteer\, contact Noah Nemnihttps://www.mealtrain.com/trains/73kr4n/
URL:https://resonateatlanta.org/event/outreach-hour/2029-03-19/
LOCATION:Resonate Church\, 3433 Memorial Drive\, Decatur\, GA\, 30032\, United States
CATEGORIES:Outreach
END:VEVENT
BEGIN:VEVENT
DTSTART;TZID=America/New_York:20290325T090000
DTEND;TZID=America/New_York:20290325T103000
DTSTAMP:20260420T165251
CREATED:20260122T201654Z
LAST-MODIFIED:20260122T201655Z
UID:10001912-1869123600-1869129000@resonateatlanta.org
SUMMARY:Worship Service – 9:00am
DESCRIPTION:Join us for our 9:00am worship gathering as we come together to worship Jesus\, open the Scriptures\, and practice community. Kids ministry is available for infants through 5th grade during this service.A livestream is available at live.resonateatlanta.org.
URL:https://resonateatlanta.org/event/worship-service-900am-2/2029-03-25/
LOCATION:Resonate Church\, 3433 Memorial Drive\, Decatur\, GA\, 30032\, United States
CATEGORIES:Community,Newcomers
END:VEVENT
BEGIN:VEVENT
DTSTART;TZID=America/New_York:20290325T104500
DTEND;TZID=America/New_York:20290325T121500
DTSTAMP:20260420T165251
CREATED:20251211T161627Z
LAST-MODIFIED:20251211T161627Z
UID:10002172-1869129900-1869135300@resonateatlanta.org
SUMMARY:Worship Service – 10:45am
DESCRIPTION:Join us for our 10:45am worship gathering as we come together to worship Jesus\, open the Scriptures\, and practice community. Kids ministry is available for infants through 5th grade during this service.A livestream is available at live.resonateatlanta.org.
URL:https://resonateatlanta.org/event/worship-service-1045am/2029-03-25/
LOCATION:Resonate Church\, 3433 Memorial Drive\, Decatur\, GA\, 30032\, United States
CATEGORIES:Community,Newcomers
END:VEVENT
BEGIN:VEVENT
DTSTART;TZID=America/New_York:20290326T120000
DTEND;TZID=America/New_York:20290326T130000
DTSTAMP:20260420T165251
CREATED:20250212T194752Z
LAST-MODIFIED:20251218T015630Z
UID:10001513-1869220800-1869224400@resonateatlanta.org
SUMMARY:Outreach Hour
DESCRIPTION:Mondays at lunch is Outreach Hour at Resonate Church! Our lobby is wide open to neighbors in need with a meal and a welcome from Jesus Christ. We listen\, build relationships\, pray\, bear burdens\, and connect people with local resources. Sign up on Meal Train to provide lunch or soup for 20 people. You can drop off the meal on Sunday and we’ll warm it up Monday morning. If you’d like to volunteer\, contact Noah Nemnihttps://www.mealtrain.com/trains/73kr4n/
URL:https://resonateatlanta.org/event/outreach-hour/2029-03-26/
LOCATION:Resonate Church\, 3433 Memorial Drive\, Decatur\, GA\, 30032\, United States
CATEGORIES:Outreach
END:VEVENT
BEGIN:VEVENT
DTSTART;TZID=America/New_York:20290401T090000
DTEND;TZID=America/New_York:20290401T103000
DTSTAMP:20260420T165251
CREATED:20260122T201654Z
LAST-MODIFIED:20260122T201655Z
UID:10001913-1869728400-1869733800@resonateatlanta.org
SUMMARY:Worship Service – 9:00am
DESCRIPTION:Join us for our 9:00am worship gathering as we come together to worship Jesus\, open the Scriptures\, and practice community. Kids ministry is available for infants through 5th grade during this service.A livestream is available at live.resonateatlanta.org.
URL:https://resonateatlanta.org/event/worship-service-900am-2/2029-04-01/
LOCATION:Resonate Church\, 3433 Memorial Drive\, Decatur\, GA\, 30032\, United States
CATEGORIES:Community,Newcomers
END:VEVENT
BEGIN:VEVENT
DTSTART;TZID=America/New_York:20290401T104500
DTEND;TZID=America/New_York:20290401T121500
DTSTAMP:20260420T165251
CREATED:20251211T161627Z
LAST-MODIFIED:20251211T161627Z
UID:10002173-1869734700-1869740100@resonateatlanta.org
SUMMARY:Worship Service – 10:45am
DESCRIPTION:Join us for our 10:45am worship gathering as we come together to worship Jesus\, open the Scriptures\, and practice community. Kids ministry is available for infants through 5th grade during this service.A livestream is available at live.resonateatlanta.org.
URL:https://resonateatlanta.org/event/worship-service-1045am/2029-04-01/
LOCATION:Resonate Church\, 3433 Memorial Drive\, Decatur\, GA\, 30032\, United States
CATEGORIES:Community,Newcomers
END:VEVENT
BEGIN:VEVENT
DTSTART;TZID=America/New_York:20290402T120000
DTEND;TZID=America/New_York:20290402T130000
DTSTAMP:20260420T165251
CREATED:20250212T194752Z
LAST-MODIFIED:20251218T015630Z
UID:10001514-1869825600-1869829200@resonateatlanta.org
SUMMARY:Outreach Hour
DESCRIPTION:Mondays at lunch is Outreach Hour at Resonate Church! Our lobby is wide open to neighbors in need with a meal and a welcome from Jesus Christ. We listen\, build relationships\, pray\, bear burdens\, and connect people with local resources. Sign up on Meal Train to provide lunch or soup for 20 people. You can drop off the meal on Sunday and we’ll warm it up Monday morning. If you’d like to volunteer\, contact Noah Nemnihttps://www.mealtrain.com/trains/73kr4n/
URL:https://resonateatlanta.org/event/outreach-hour/2029-04-02/
LOCATION:Resonate Church\, 3433 Memorial Drive\, Decatur\, GA\, 30032\, United States
CATEGORIES:Outreach
END:VEVENT
BEGIN:VEVENT
DTSTART;TZID=America/New_York:20290408T090000
DTEND;TZID=America/New_York:20290408T103000
DTSTAMP:20260420T165251
CREATED:20260122T201654Z
LAST-MODIFIED:20260122T201655Z
UID:10001914-1870333200-1870338600@resonateatlanta.org
SUMMARY:Worship Service – 9:00am
DESCRIPTION:Join us for our 9:00am worship gathering as we come together to worship Jesus\, open the Scriptures\, and practice community. Kids ministry is available for infants through 5th grade during this service.A livestream is available at live.resonateatlanta.org.
URL:https://resonateatlanta.org/event/worship-service-900am-2/2029-04-08/
LOCATION:Resonate Church\, 3433 Memorial Drive\, Decatur\, GA\, 30032\, United States
CATEGORIES:Community,Newcomers
END:VEVENT
BEGIN:VEVENT
DTSTART;TZID=America/New_York:20290408T104500
DTEND;TZID=America/New_York:20290408T121500
DTSTAMP:20260420T165251
CREATED:20251211T161627Z
LAST-MODIFIED:20251211T161627Z
UID:10002174-1870339500-1870344900@resonateatlanta.org
SUMMARY:Worship Service – 10:45am
DESCRIPTION:Join us for our 10:45am worship gathering as we come together to worship Jesus\, open the Scriptures\, and practice community. Kids ministry is available for infants through 5th grade during this service.A livestream is available at live.resonateatlanta.org.
URL:https://resonateatlanta.org/event/worship-service-1045am/2029-04-08/
LOCATION:Resonate Church\, 3433 Memorial Drive\, Decatur\, GA\, 30032\, United States
CATEGORIES:Community,Newcomers
END:VEVENT
BEGIN:VEVENT
DTSTART;TZID=America/New_York:20290409T120000
DTEND;TZID=America/New_York:20290409T130000
DTSTAMP:20260420T165251
CREATED:20250212T194752Z
LAST-MODIFIED:20251218T015630Z
UID:10001515-1870430400-1870434000@resonateatlanta.org
SUMMARY:Outreach Hour
DESCRIPTION:Mondays at lunch is Outreach Hour at Resonate Church! Our lobby is wide open to neighbors in need with a meal and a welcome from Jesus Christ. We listen\, build relationships\, pray\, bear burdens\, and connect people with local resources. Sign up on Meal Train to provide lunch or soup for 20 people. You can drop off the meal on Sunday and we’ll warm it up Monday morning. If you’d like to volunteer\, contact Noah Nemnihttps://www.mealtrain.com/trains/73kr4n/
URL:https://resonateatlanta.org/event/outreach-hour/2029-04-09/
LOCATION:Resonate Church\, 3433 Memorial Drive\, Decatur\, GA\, 30032\, United States
CATEGORIES:Outreach
END:VEVENT
BEGIN:VEVENT
DTSTART;TZID=America/New_York:20290415T090000
DTEND;TZID=America/New_York:20290415T103000
DTSTAMP:20260420T165251
CREATED:20260122T201654Z
LAST-MODIFIED:20260122T201655Z
UID:10001915-1870938000-1870943400@resonateatlanta.org
SUMMARY:Worship Service – 9:00am
DESCRIPTION:Join us for our 9:00am worship gathering as we come together to worship Jesus\, open the Scriptures\, and practice community. Kids ministry is available for infants through 5th grade during this service.A livestream is available at live.resonateatlanta.org.
URL:https://resonateatlanta.org/event/worship-service-900am-2/2029-04-15/
LOCATION:Resonate Church\, 3433 Memorial Drive\, Decatur\, GA\, 30032\, United States
CATEGORIES:Community,Newcomers
END:VEVENT
BEGIN:VEVENT
DTSTART;TZID=America/New_York:20290415T104500
DTEND;TZID=America/New_York:20290415T121500
DTSTAMP:20260420T165251
CREATED:20251211T161627Z
LAST-MODIFIED:20251211T161627Z
UID:10002175-1870944300-1870949700@resonateatlanta.org
SUMMARY:Worship Service – 10:45am
DESCRIPTION:Join us for our 10:45am worship gathering as we come together to worship Jesus\, open the Scriptures\, and practice community. Kids ministry is available for infants through 5th grade during this service.A livestream is available at live.resonateatlanta.org.
URL:https://resonateatlanta.org/event/worship-service-1045am/2029-04-15/
LOCATION:Resonate Church\, 3433 Memorial Drive\, Decatur\, GA\, 30032\, United States
CATEGORIES:Community,Newcomers
END:VEVENT
BEGIN:VEVENT
DTSTART;TZID=America/New_York:20290416T120000
DTEND;TZID=America/New_York:20290416T130000
DTSTAMP:20260420T165251
CREATED:20250212T194752Z
LAST-MODIFIED:20251218T015630Z
UID:10001516-1871035200-1871038800@resonateatlanta.org
SUMMARY:Outreach Hour
DESCRIPTION:Mondays at lunch is Outreach Hour at Resonate Church! Our lobby is wide open to neighbors in need with a meal and a welcome from Jesus Christ. We listen\, build relationships\, pray\, bear burdens\, and connect people with local resources. Sign up on Meal Train to provide lunch or soup for 20 people. You can drop off the meal on Sunday and we’ll warm it up Monday morning. If you’d like to volunteer\, contact Noah Nemnihttps://www.mealtrain.com/trains/73kr4n/
URL:https://resonateatlanta.org/event/outreach-hour/2029-04-16/
LOCATION:Resonate Church\, 3433 Memorial Drive\, Decatur\, GA\, 30032\, United States
CATEGORIES:Outreach
END:VEVENT
BEGIN:VEVENT
DTSTART;TZID=America/New_York:20290419T073000
DTEND;TZID=America/New_York:20290419T090000
DTSTAMP:20260420T165251
CREATED:20200428T175330Z
LAST-MODIFIED:20250317T141455Z
UID:10001286-1871278200-1871283600@resonateatlanta.org
SUMMARY:Faith Driven Entrepreneur Group
DESCRIPTION:Join us the 3rd Thursday of every month for study\, discussion\, and community for faith-driven entrepreneurs and those passionately pursuing living out their identity in Christ in the workplace. Find more information and online registration at faithdrivenentrepreneur.org\, or simply drop in if you’re interested!
URL:https://resonateatlanta.org/event/faith-driven-entrepreneur-group/2029-04-19/
LOCATION:Opo Coffee Training Lab\, 314 E Howard Ave\, Decatur\, GA\, 30030\, United States
CATEGORIES:Education
ATTACH;FMTTYPE=image/jpeg:https://resonateatlanta.org/wp-content/uploads/2020/04/office.jpg
END:VEVENT
BEGIN:VEVENT
DTSTART;TZID=America/New_York:20290422T090000
DTEND;TZID=America/New_York:20290422T103000
DTSTAMP:20260420T165251
CREATED:20260122T201654Z
LAST-MODIFIED:20260122T201655Z
UID:10001916-1871542800-1871548200@resonateatlanta.org
SUMMARY:Worship Service – 9:00am
DESCRIPTION:Join us for our 9:00am worship gathering as we come together to worship Jesus\, open the Scriptures\, and practice community. Kids ministry is available for infants through 5th grade during this service.A livestream is available at live.resonateatlanta.org.
URL:https://resonateatlanta.org/event/worship-service-900am-2/2029-04-22/
LOCATION:Resonate Church\, 3433 Memorial Drive\, Decatur\, GA\, 30032\, United States
CATEGORIES:Community,Newcomers
END:VEVENT
BEGIN:VEVENT
DTSTART;TZID=America/New_York:20290422T104500
DTEND;TZID=America/New_York:20290422T121500
DTSTAMP:20260420T165251
CREATED:20251211T161627Z
LAST-MODIFIED:20251211T161627Z
UID:10002176-1871549100-1871554500@resonateatlanta.org
SUMMARY:Worship Service – 10:45am
DESCRIPTION:Join us for our 10:45am worship gathering as we come together to worship Jesus\, open the Scriptures\, and practice community. Kids ministry is available for infants through 5th grade during this service.A livestream is available at live.resonateatlanta.org.
URL:https://resonateatlanta.org/event/worship-service-1045am/2029-04-22/
LOCATION:Resonate Church\, 3433 Memorial Drive\, Decatur\, GA\, 30032\, United States
CATEGORIES:Community,Newcomers
END:VEVENT
BEGIN:VEVENT
DTSTART;TZID=America/New_York:20290423T120000
DTEND;TZID=America/New_York:20290423T130000
DTSTAMP:20260420T165251
CREATED:20250212T194752Z
LAST-MODIFIED:20251218T015630Z
UID:10001517-1871640000-1871643600@resonateatlanta.org
SUMMARY:Outreach Hour
DESCRIPTION:Mondays at lunch is Outreach Hour at Resonate Church! Our lobby is wide open to neighbors in need with a meal and a welcome from Jesus Christ. We listen\, build relationships\, pray\, bear burdens\, and connect people with local resources. Sign up on Meal Train to provide lunch or soup for 20 people. You can drop off the meal on Sunday and we’ll warm it up Monday morning. If you’d like to volunteer\, contact Noah Nemnihttps://www.mealtrain.com/trains/73kr4n/
URL:https://resonateatlanta.org/event/outreach-hour/2029-04-23/
LOCATION:Resonate Church\, 3433 Memorial Drive\, Decatur\, GA\, 30032\, United States
CATEGORIES:Outreach
END:VEVENT
BEGIN:VEVENT
DTSTART;TZID=America/New_York:20290429T090000
DTEND;TZID=America/New_York:20290429T103000
DTSTAMP:20260420T165251
CREATED:20260122T201654Z
LAST-MODIFIED:20260122T201655Z
UID:10001917-1872147600-1872153000@resonateatlanta.org
SUMMARY:Worship Service – 9:00am
DESCRIPTION:Join us for our 9:00am worship gathering as we come together to worship Jesus\, open the Scriptures\, and practice community. Kids ministry is available for infants through 5th grade during this service.A livestream is available at live.resonateatlanta.org.
URL:https://resonateatlanta.org/event/worship-service-900am-2/2029-04-29/
LOCATION:Resonate Church\, 3433 Memorial Drive\, Decatur\, GA\, 30032\, United States
CATEGORIES:Community,Newcomers
END:VEVENT
BEGIN:VEVENT
DTSTART;TZID=America/New_York:20290429T104500
DTEND;TZID=America/New_York:20290429T121500
DTSTAMP:20260420T165251
CREATED:20251211T161627Z
LAST-MODIFIED:20251211T161627Z
UID:10002177-1872153900-1872159300@resonateatlanta.org
SUMMARY:Worship Service – 10:45am
DESCRIPTION:Join us for our 10:45am worship gathering as we come together to worship Jesus\, open the Scriptures\, and practice community. Kids ministry is available for infants through 5th grade during this service.A livestream is available at live.resonateatlanta.org.
URL:https://resonateatlanta.org/event/worship-service-1045am/2029-04-29/
LOCATION:Resonate Church\, 3433 Memorial Drive\, Decatur\, GA\, 30032\, United States
CATEGORIES:Community,Newcomers
END:VEVENT
BEGIN:VEVENT
DTSTART;TZID=America/New_York:20290430T120000
DTEND;TZID=America/New_York:20290430T130000
DTSTAMP:20260420T165251
CREATED:20250212T194752Z
LAST-MODIFIED:20251218T015630Z
UID:10001518-1872244800-1872248400@resonateatlanta.org
SUMMARY:Outreach Hour
DESCRIPTION:Mondays at lunch is Outreach Hour at Resonate Church! Our lobby is wide open to neighbors in need with a meal and a welcome from Jesus Christ. We listen\, build relationships\, pray\, bear burdens\, and connect people with local resources. Sign up on Meal Train to provide lunch or soup for 20 people. You can drop off the meal on Sunday and we’ll warm it up Monday morning. If you’d like to volunteer\, contact Noah Nemnihttps://www.mealtrain.com/trains/73kr4n/
URL:https://resonateatlanta.org/event/outreach-hour/2029-04-30/
LOCATION:Resonate Church\, 3433 Memorial Drive\, Decatur\, GA\, 30032\, United States
CATEGORIES:Outreach
END:VEVENT
BEGIN:VEVENT
DTSTART;TZID=America/New_York:20290506T090000
DTEND;TZID=America/New_York:20290506T103000
DTSTAMP:20260420T165251
CREATED:20260122T201654Z
LAST-MODIFIED:20260122T201655Z
UID:10001918-1872752400-1872757800@resonateatlanta.org
SUMMARY:Worship Service – 9:00am
DESCRIPTION:Join us for our 9:00am worship gathering as we come together to worship Jesus\, open the Scriptures\, and practice community. Kids ministry is available for infants through 5th grade during this service.A livestream is available at live.resonateatlanta.org.
URL:https://resonateatlanta.org/event/worship-service-900am-2/2029-05-06/
LOCATION:Resonate Church\, 3433 Memorial Drive\, Decatur\, GA\, 30032\, United States
CATEGORIES:Community,Newcomers
END:VEVENT
END:VCALENDAR