BEGIN:VCALENDAR
VERSION:2.0
PRODID:-//Resonate Church - ECPv6.15.20//NONSGML v1.0//EN
CALSCALE:GREGORIAN
METHOD:PUBLISH
X-WR-CALNAME:Resonate Church
X-ORIGINAL-URL:https://resonateatlanta.org
X-WR-CALDESC:Events for Resonate Church
REFRESH-INTERVAL;VALUE=DURATION:PT1H
X-Robots-Tag:noindex
X-PUBLISHED-TTL:PT1H
BEGIN:VTIMEZONE
TZID:America/New_York
BEGIN:DAYLIGHT
TZOFFSETFROM:-0500
TZOFFSETTO:-0400
TZNAME:EDT
DTSTART:20280312T070000
END:DAYLIGHT
BEGIN:STANDARD
TZOFFSETFROM:-0400
TZOFFSETTO:-0500
TZNAME:EST
DTSTART:20281105T060000
END:STANDARD
BEGIN:DAYLIGHT
TZOFFSETFROM:-0500
TZOFFSETTO:-0400
TZNAME:EDT
DTSTART:20290311T070000
END:DAYLIGHT
BEGIN:STANDARD
TZOFFSETFROM:-0400
TZOFFSETTO:-0500
TZNAME:EST
DTSTART:20291104T060000
END:STANDARD
BEGIN:DAYLIGHT
TZOFFSETFROM:-0500
TZOFFSETTO:-0400
TZNAME:EDT
DTSTART:20300310T070000
END:DAYLIGHT
BEGIN:STANDARD
TZOFFSETFROM:-0400
TZOFFSETTO:-0500
TZNAME:EST
DTSTART:20301103T060000
END:STANDARD
END:VTIMEZONE
BEGIN:VEVENT
DTSTART;TZID=America/New_York:20290409T120000
DTEND;TZID=America/New_York:20290409T130000
DTSTAMP:20260420T221203
CREATED:20250212T194752Z
LAST-MODIFIED:20251218T015630Z
UID:10001515-1870430400-1870434000@resonateatlanta.org
SUMMARY:Outreach Hour
DESCRIPTION:Mondays at lunch is Outreach Hour at Resonate Church! Our lobby is wide open to neighbors in need with a meal and a welcome from Jesus Christ. We listen\, build relationships\, pray\, bear burdens\, and connect people with local resources. Sign up on Meal Train to provide lunch or soup for 20 people. You can drop off the meal on Sunday and we’ll warm it up Monday morning. If you’d like to volunteer\, contact Noah Nemnihttps://www.mealtrain.com/trains/73kr4n/
URL:https://resonateatlanta.org/event/outreach-hour/2029-04-09/
LOCATION:Resonate Church\, 3433 Memorial Drive\, Decatur\, GA\, 30032\, United States
CATEGORIES:Outreach
END:VEVENT
BEGIN:VEVENT
DTSTART;TZID=America/New_York:20290415T090000
DTEND;TZID=America/New_York:20290415T103000
DTSTAMP:20260420T221203
CREATED:20260122T201654Z
LAST-MODIFIED:20260122T201655Z
UID:10001915-1870938000-1870943400@resonateatlanta.org
SUMMARY:Worship Service – 9:00am
DESCRIPTION:Join us for our 9:00am worship gathering as we come together to worship Jesus\, open the Scriptures\, and practice community. Kids ministry is available for infants through 5th grade during this service.A livestream is available at live.resonateatlanta.org.
URL:https://resonateatlanta.org/event/worship-service-900am-2/2029-04-15/
LOCATION:Resonate Church\, 3433 Memorial Drive\, Decatur\, GA\, 30032\, United States
CATEGORIES:Community,Newcomers
END:VEVENT
BEGIN:VEVENT
DTSTART;TZID=America/New_York:20290415T104500
DTEND;TZID=America/New_York:20290415T121500
DTSTAMP:20260420T221203
CREATED:20251211T161627Z
LAST-MODIFIED:20251211T161627Z
UID:10002175-1870944300-1870949700@resonateatlanta.org
SUMMARY:Worship Service – 10:45am
DESCRIPTION:Join us for our 10:45am worship gathering as we come together to worship Jesus\, open the Scriptures\, and practice community. Kids ministry is available for infants through 5th grade during this service.A livestream is available at live.resonateatlanta.org.
URL:https://resonateatlanta.org/event/worship-service-1045am/2029-04-15/
LOCATION:Resonate Church\, 3433 Memorial Drive\, Decatur\, GA\, 30032\, United States
CATEGORIES:Community,Newcomers
END:VEVENT
BEGIN:VEVENT
DTSTART;TZID=America/New_York:20290416T120000
DTEND;TZID=America/New_York:20290416T130000
DTSTAMP:20260420T221203
CREATED:20250212T194752Z
LAST-MODIFIED:20251218T015630Z
UID:10001516-1871035200-1871038800@resonateatlanta.org
SUMMARY:Outreach Hour
DESCRIPTION:Mondays at lunch is Outreach Hour at Resonate Church! Our lobby is wide open to neighbors in need with a meal and a welcome from Jesus Christ. We listen\, build relationships\, pray\, bear burdens\, and connect people with local resources. Sign up on Meal Train to provide lunch or soup for 20 people. You can drop off the meal on Sunday and we’ll warm it up Monday morning. If you’d like to volunteer\, contact Noah Nemnihttps://www.mealtrain.com/trains/73kr4n/
URL:https://resonateatlanta.org/event/outreach-hour/2029-04-16/
LOCATION:Resonate Church\, 3433 Memorial Drive\, Decatur\, GA\, 30032\, United States
CATEGORIES:Outreach
END:VEVENT
BEGIN:VEVENT
DTSTART;TZID=America/New_York:20290419T073000
DTEND;TZID=America/New_York:20290419T090000
DTSTAMP:20260420T221203
CREATED:20200428T175330Z
LAST-MODIFIED:20250317T141455Z
UID:10001286-1871278200-1871283600@resonateatlanta.org
SUMMARY:Faith Driven Entrepreneur Group
DESCRIPTION:Join us the 3rd Thursday of every month for study\, discussion\, and community for faith-driven entrepreneurs and those passionately pursuing living out their identity in Christ in the workplace. Find more information and online registration at faithdrivenentrepreneur.org\, or simply drop in if you’re interested!
URL:https://resonateatlanta.org/event/faith-driven-entrepreneur-group/2029-04-19/
LOCATION:Opo Coffee Training Lab\, 314 E Howard Ave\, Decatur\, GA\, 30030\, United States
CATEGORIES:Education
ATTACH;FMTTYPE=image/jpeg:https://resonateatlanta.org/wp-content/uploads/2020/04/office.jpg
END:VEVENT
BEGIN:VEVENT
DTSTART;TZID=America/New_York:20290422T090000
DTEND;TZID=America/New_York:20290422T103000
DTSTAMP:20260420T221203
CREATED:20260122T201654Z
LAST-MODIFIED:20260122T201655Z
UID:10001916-1871542800-1871548200@resonateatlanta.org
SUMMARY:Worship Service – 9:00am
DESCRIPTION:Join us for our 9:00am worship gathering as we come together to worship Jesus\, open the Scriptures\, and practice community. Kids ministry is available for infants through 5th grade during this service.A livestream is available at live.resonateatlanta.org.
URL:https://resonateatlanta.org/event/worship-service-900am-2/2029-04-22/
LOCATION:Resonate Church\, 3433 Memorial Drive\, Decatur\, GA\, 30032\, United States
CATEGORIES:Community,Newcomers
END:VEVENT
BEGIN:VEVENT
DTSTART;TZID=America/New_York:20290422T104500
DTEND;TZID=America/New_York:20290422T121500
DTSTAMP:20260420T221203
CREATED:20251211T161627Z
LAST-MODIFIED:20251211T161627Z
UID:10002176-1871549100-1871554500@resonateatlanta.org
SUMMARY:Worship Service – 10:45am
DESCRIPTION:Join us for our 10:45am worship gathering as we come together to worship Jesus\, open the Scriptures\, and practice community. Kids ministry is available for infants through 5th grade during this service.A livestream is available at live.resonateatlanta.org.
URL:https://resonateatlanta.org/event/worship-service-1045am/2029-04-22/
LOCATION:Resonate Church\, 3433 Memorial Drive\, Decatur\, GA\, 30032\, United States
CATEGORIES:Community,Newcomers
END:VEVENT
BEGIN:VEVENT
DTSTART;TZID=America/New_York:20290423T120000
DTEND;TZID=America/New_York:20290423T130000
DTSTAMP:20260420T221203
CREATED:20250212T194752Z
LAST-MODIFIED:20251218T015630Z
UID:10001517-1871640000-1871643600@resonateatlanta.org
SUMMARY:Outreach Hour
DESCRIPTION:Mondays at lunch is Outreach Hour at Resonate Church! Our lobby is wide open to neighbors in need with a meal and a welcome from Jesus Christ. We listen\, build relationships\, pray\, bear burdens\, and connect people with local resources. Sign up on Meal Train to provide lunch or soup for 20 people. You can drop off the meal on Sunday and we’ll warm it up Monday morning. If you’d like to volunteer\, contact Noah Nemnihttps://www.mealtrain.com/trains/73kr4n/
URL:https://resonateatlanta.org/event/outreach-hour/2029-04-23/
LOCATION:Resonate Church\, 3433 Memorial Drive\, Decatur\, GA\, 30032\, United States
CATEGORIES:Outreach
END:VEVENT
BEGIN:VEVENT
DTSTART;TZID=America/New_York:20290429T090000
DTEND;TZID=America/New_York:20290429T103000
DTSTAMP:20260420T221203
CREATED:20260122T201654Z
LAST-MODIFIED:20260122T201655Z
UID:10001917-1872147600-1872153000@resonateatlanta.org
SUMMARY:Worship Service – 9:00am
DESCRIPTION:Join us for our 9:00am worship gathering as we come together to worship Jesus\, open the Scriptures\, and practice community. Kids ministry is available for infants through 5th grade during this service.A livestream is available at live.resonateatlanta.org.
URL:https://resonateatlanta.org/event/worship-service-900am-2/2029-04-29/
LOCATION:Resonate Church\, 3433 Memorial Drive\, Decatur\, GA\, 30032\, United States
CATEGORIES:Community,Newcomers
END:VEVENT
BEGIN:VEVENT
DTSTART;TZID=America/New_York:20290429T104500
DTEND;TZID=America/New_York:20290429T121500
DTSTAMP:20260420T221203
CREATED:20251211T161627Z
LAST-MODIFIED:20251211T161627Z
UID:10002177-1872153900-1872159300@resonateatlanta.org
SUMMARY:Worship Service – 10:45am
DESCRIPTION:Join us for our 10:45am worship gathering as we come together to worship Jesus\, open the Scriptures\, and practice community. Kids ministry is available for infants through 5th grade during this service.A livestream is available at live.resonateatlanta.org.
URL:https://resonateatlanta.org/event/worship-service-1045am/2029-04-29/
LOCATION:Resonate Church\, 3433 Memorial Drive\, Decatur\, GA\, 30032\, United States
CATEGORIES:Community,Newcomers
END:VEVENT
BEGIN:VEVENT
DTSTART;TZID=America/New_York:20290430T120000
DTEND;TZID=America/New_York:20290430T130000
DTSTAMP:20260420T221203
CREATED:20250212T194752Z
LAST-MODIFIED:20251218T015630Z
UID:10001518-1872244800-1872248400@resonateatlanta.org
SUMMARY:Outreach Hour
DESCRIPTION:Mondays at lunch is Outreach Hour at Resonate Church! Our lobby is wide open to neighbors in need with a meal and a welcome from Jesus Christ. We listen\, build relationships\, pray\, bear burdens\, and connect people with local resources. Sign up on Meal Train to provide lunch or soup for 20 people. You can drop off the meal on Sunday and we’ll warm it up Monday morning. If you’d like to volunteer\, contact Noah Nemnihttps://www.mealtrain.com/trains/73kr4n/
URL:https://resonateatlanta.org/event/outreach-hour/2029-04-30/
LOCATION:Resonate Church\, 3433 Memorial Drive\, Decatur\, GA\, 30032\, United States
CATEGORIES:Outreach
END:VEVENT
BEGIN:VEVENT
DTSTART;TZID=America/New_York:20290506T090000
DTEND;TZID=America/New_York:20290506T103000
DTSTAMP:20260420T221203
CREATED:20260122T201654Z
LAST-MODIFIED:20260122T201655Z
UID:10001918-1872752400-1872757800@resonateatlanta.org
SUMMARY:Worship Service – 9:00am
DESCRIPTION:Join us for our 9:00am worship gathering as we come together to worship Jesus\, open the Scriptures\, and practice community. Kids ministry is available for infants through 5th grade during this service.A livestream is available at live.resonateatlanta.org.
URL:https://resonateatlanta.org/event/worship-service-900am-2/2029-05-06/
LOCATION:Resonate Church\, 3433 Memorial Drive\, Decatur\, GA\, 30032\, United States
CATEGORIES:Community,Newcomers
END:VEVENT
BEGIN:VEVENT
DTSTART;TZID=America/New_York:20290506T104500
DTEND;TZID=America/New_York:20290506T121500
DTSTAMP:20260420T221203
CREATED:20251211T161627Z
LAST-MODIFIED:20251211T161627Z
UID:10002178-1872758700-1872764100@resonateatlanta.org
SUMMARY:Worship Service – 10:45am
DESCRIPTION:Join us for our 10:45am worship gathering as we come together to worship Jesus\, open the Scriptures\, and practice community. Kids ministry is available for infants through 5th grade during this service.A livestream is available at live.resonateatlanta.org.
URL:https://resonateatlanta.org/event/worship-service-1045am/2029-05-06/
LOCATION:Resonate Church\, 3433 Memorial Drive\, Decatur\, GA\, 30032\, United States
CATEGORIES:Community,Newcomers
END:VEVENT
BEGIN:VEVENT
DTSTART;TZID=America/New_York:20290507T120000
DTEND;TZID=America/New_York:20290507T130000
DTSTAMP:20260420T221203
CREATED:20250212T194752Z
LAST-MODIFIED:20251218T015630Z
UID:10001519-1872849600-1872853200@resonateatlanta.org
SUMMARY:Outreach Hour
DESCRIPTION:Mondays at lunch is Outreach Hour at Resonate Church! Our lobby is wide open to neighbors in need with a meal and a welcome from Jesus Christ. We listen\, build relationships\, pray\, bear burdens\, and connect people with local resources. Sign up on Meal Train to provide lunch or soup for 20 people. You can drop off the meal on Sunday and we’ll warm it up Monday morning. If you’d like to volunteer\, contact Noah Nemnihttps://www.mealtrain.com/trains/73kr4n/
URL:https://resonateatlanta.org/event/outreach-hour/2029-05-07/
LOCATION:Resonate Church\, 3433 Memorial Drive\, Decatur\, GA\, 30032\, United States
CATEGORIES:Outreach
END:VEVENT
BEGIN:VEVENT
DTSTART;TZID=America/New_York:20290513T090000
DTEND;TZID=America/New_York:20290513T103000
DTSTAMP:20260420T221203
CREATED:20260122T201654Z
LAST-MODIFIED:20260122T201655Z
UID:10001919-1873357200-1873362600@resonateatlanta.org
SUMMARY:Worship Service – 9:00am
DESCRIPTION:Join us for our 9:00am worship gathering as we come together to worship Jesus\, open the Scriptures\, and practice community. Kids ministry is available for infants through 5th grade during this service.A livestream is available at live.resonateatlanta.org.
URL:https://resonateatlanta.org/event/worship-service-900am-2/2029-05-13/
LOCATION:Resonate Church\, 3433 Memorial Drive\, Decatur\, GA\, 30032\, United States
CATEGORIES:Community,Newcomers
END:VEVENT
BEGIN:VEVENT
DTSTART;TZID=America/New_York:20290513T104500
DTEND;TZID=America/New_York:20290513T121500
DTSTAMP:20260420T221203
CREATED:20251211T161627Z
LAST-MODIFIED:20251211T161627Z
UID:10002179-1873363500-1873368900@resonateatlanta.org
SUMMARY:Worship Service – 10:45am
DESCRIPTION:Join us for our 10:45am worship gathering as we come together to worship Jesus\, open the Scriptures\, and practice community. Kids ministry is available for infants through 5th grade during this service.A livestream is available at live.resonateatlanta.org.
URL:https://resonateatlanta.org/event/worship-service-1045am/2029-05-13/
LOCATION:Resonate Church\, 3433 Memorial Drive\, Decatur\, GA\, 30032\, United States
CATEGORIES:Community,Newcomers
END:VEVENT
BEGIN:VEVENT
DTSTART;TZID=America/New_York:20290514T120000
DTEND;TZID=America/New_York:20290514T130000
DTSTAMP:20260420T221203
CREATED:20250212T194752Z
LAST-MODIFIED:20251218T015630Z
UID:10001520-1873454400-1873458000@resonateatlanta.org
SUMMARY:Outreach Hour
DESCRIPTION:Mondays at lunch is Outreach Hour at Resonate Church! Our lobby is wide open to neighbors in need with a meal and a welcome from Jesus Christ. We listen\, build relationships\, pray\, bear burdens\, and connect people with local resources. Sign up on Meal Train to provide lunch or soup for 20 people. You can drop off the meal on Sunday and we’ll warm it up Monday morning. If you’d like to volunteer\, contact Noah Nemnihttps://www.mealtrain.com/trains/73kr4n/
URL:https://resonateatlanta.org/event/outreach-hour/2029-05-14/
LOCATION:Resonate Church\, 3433 Memorial Drive\, Decatur\, GA\, 30032\, United States
CATEGORIES:Outreach
END:VEVENT
BEGIN:VEVENT
DTSTART;TZID=America/New_York:20290517T073000
DTEND;TZID=America/New_York:20290517T090000
DTSTAMP:20260420T221203
CREATED:20200428T175330Z
LAST-MODIFIED:20250317T141455Z
UID:10001287-1873697400-1873702800@resonateatlanta.org
SUMMARY:Faith Driven Entrepreneur Group
DESCRIPTION:Join us the 3rd Thursday of every month for study\, discussion\, and community for faith-driven entrepreneurs and those passionately pursuing living out their identity in Christ in the workplace. Find more information and online registration at faithdrivenentrepreneur.org\, or simply drop in if you’re interested!
URL:https://resonateatlanta.org/event/faith-driven-entrepreneur-group/2029-05-17/
LOCATION:Opo Coffee Training Lab\, 314 E Howard Ave\, Decatur\, GA\, 30030\, United States
CATEGORIES:Education
ATTACH;FMTTYPE=image/jpeg:https://resonateatlanta.org/wp-content/uploads/2020/04/office.jpg
END:VEVENT
BEGIN:VEVENT
DTSTART;TZID=America/New_York:20290520T090000
DTEND;TZID=America/New_York:20290520T103000
DTSTAMP:20260420T221203
CREATED:20260122T201654Z
LAST-MODIFIED:20260122T201655Z
UID:10001920-1873962000-1873967400@resonateatlanta.org
SUMMARY:Worship Service – 9:00am
DESCRIPTION:Join us for our 9:00am worship gathering as we come together to worship Jesus\, open the Scriptures\, and practice community. Kids ministry is available for infants through 5th grade during this service.A livestream is available at live.resonateatlanta.org.
URL:https://resonateatlanta.org/event/worship-service-900am-2/2029-05-20/
LOCATION:Resonate Church\, 3433 Memorial Drive\, Decatur\, GA\, 30032\, United States
CATEGORIES:Community,Newcomers
END:VEVENT
BEGIN:VEVENT
DTSTART;TZID=America/New_York:20290520T104500
DTEND;TZID=America/New_York:20290520T121500
DTSTAMP:20260420T221203
CREATED:20251211T161627Z
LAST-MODIFIED:20251211T161627Z
UID:10002180-1873968300-1873973700@resonateatlanta.org
SUMMARY:Worship Service – 10:45am
DESCRIPTION:Join us for our 10:45am worship gathering as we come together to worship Jesus\, open the Scriptures\, and practice community. Kids ministry is available for infants through 5th grade during this service.A livestream is available at live.resonateatlanta.org.
URL:https://resonateatlanta.org/event/worship-service-1045am/2029-05-20/
LOCATION:Resonate Church\, 3433 Memorial Drive\, Decatur\, GA\, 30032\, United States
CATEGORIES:Community,Newcomers
END:VEVENT
BEGIN:VEVENT
DTSTART;TZID=America/New_York:20290521T120000
DTEND;TZID=America/New_York:20290521T130000
DTSTAMP:20260420T221203
CREATED:20250212T194752Z
LAST-MODIFIED:20251218T015630Z
UID:10001521-1874059200-1874062800@resonateatlanta.org
SUMMARY:Outreach Hour
DESCRIPTION:Mondays at lunch is Outreach Hour at Resonate Church! Our lobby is wide open to neighbors in need with a meal and a welcome from Jesus Christ. We listen\, build relationships\, pray\, bear burdens\, and connect people with local resources. Sign up on Meal Train to provide lunch or soup for 20 people. You can drop off the meal on Sunday and we’ll warm it up Monday morning. If you’d like to volunteer\, contact Noah Nemnihttps://www.mealtrain.com/trains/73kr4n/
URL:https://resonateatlanta.org/event/outreach-hour/2029-05-21/
LOCATION:Resonate Church\, 3433 Memorial Drive\, Decatur\, GA\, 30032\, United States
CATEGORIES:Outreach
END:VEVENT
BEGIN:VEVENT
DTSTART;TZID=America/New_York:20290527T090000
DTEND;TZID=America/New_York:20290527T103000
DTSTAMP:20260420T221203
CREATED:20260122T201654Z
LAST-MODIFIED:20260122T201655Z
UID:10001921-1874566800-1874572200@resonateatlanta.org
SUMMARY:Worship Service – 9:00am
DESCRIPTION:Join us for our 9:00am worship gathering as we come together to worship Jesus\, open the Scriptures\, and practice community. Kids ministry is available for infants through 5th grade during this service.A livestream is available at live.resonateatlanta.org.
URL:https://resonateatlanta.org/event/worship-service-900am-2/2029-05-27/
LOCATION:Resonate Church\, 3433 Memorial Drive\, Decatur\, GA\, 30032\, United States
CATEGORIES:Community,Newcomers
END:VEVENT
BEGIN:VEVENT
DTSTART;TZID=America/New_York:20290527T104500
DTEND;TZID=America/New_York:20290527T121500
DTSTAMP:20260420T221203
CREATED:20251211T161627Z
LAST-MODIFIED:20251211T161627Z
UID:10002181-1874573100-1874578500@resonateatlanta.org
SUMMARY:Worship Service – 10:45am
DESCRIPTION:Join us for our 10:45am worship gathering as we come together to worship Jesus\, open the Scriptures\, and practice community. Kids ministry is available for infants through 5th grade during this service.A livestream is available at live.resonateatlanta.org.
URL:https://resonateatlanta.org/event/worship-service-1045am/2029-05-27/
LOCATION:Resonate Church\, 3433 Memorial Drive\, Decatur\, GA\, 30032\, United States
CATEGORIES:Community,Newcomers
END:VEVENT
BEGIN:VEVENT
DTSTART;TZID=America/New_York:20290528T120000
DTEND;TZID=America/New_York:20290528T130000
DTSTAMP:20260420T221203
CREATED:20250212T194752Z
LAST-MODIFIED:20251218T015630Z
UID:10001522-1874664000-1874667600@resonateatlanta.org
SUMMARY:Outreach Hour
DESCRIPTION:Mondays at lunch is Outreach Hour at Resonate Church! Our lobby is wide open to neighbors in need with a meal and a welcome from Jesus Christ. We listen\, build relationships\, pray\, bear burdens\, and connect people with local resources. Sign up on Meal Train to provide lunch or soup for 20 people. You can drop off the meal on Sunday and we’ll warm it up Monday morning. If you’d like to volunteer\, contact Noah Nemnihttps://www.mealtrain.com/trains/73kr4n/
URL:https://resonateatlanta.org/event/outreach-hour/2029-05-28/
LOCATION:Resonate Church\, 3433 Memorial Drive\, Decatur\, GA\, 30032\, United States
CATEGORIES:Outreach
END:VEVENT
BEGIN:VEVENT
DTSTART;TZID=America/New_York:20290603T090000
DTEND;TZID=America/New_York:20290603T103000
DTSTAMP:20260420T221203
CREATED:20260122T201654Z
LAST-MODIFIED:20260122T201655Z
UID:10001922-1875171600-1875177000@resonateatlanta.org
SUMMARY:Worship Service – 9:00am
DESCRIPTION:Join us for our 9:00am worship gathering as we come together to worship Jesus\, open the Scriptures\, and practice community. Kids ministry is available for infants through 5th grade during this service.A livestream is available at live.resonateatlanta.org.
URL:https://resonateatlanta.org/event/worship-service-900am-2/2029-06-03/
LOCATION:Resonate Church\, 3433 Memorial Drive\, Decatur\, GA\, 30032\, United States
CATEGORIES:Community,Newcomers
END:VEVENT
BEGIN:VEVENT
DTSTART;TZID=America/New_York:20290603T104500
DTEND;TZID=America/New_York:20290603T121500
DTSTAMP:20260420T221203
CREATED:20251211T161627Z
LAST-MODIFIED:20251211T161627Z
UID:10002182-1875177900-1875183300@resonateatlanta.org
SUMMARY:Worship Service – 10:45am
DESCRIPTION:Join us for our 10:45am worship gathering as we come together to worship Jesus\, open the Scriptures\, and practice community. Kids ministry is available for infants through 5th grade during this service.A livestream is available at live.resonateatlanta.org.
URL:https://resonateatlanta.org/event/worship-service-1045am/2029-06-03/
LOCATION:Resonate Church\, 3433 Memorial Drive\, Decatur\, GA\, 30032\, United States
CATEGORIES:Community,Newcomers
END:VEVENT
BEGIN:VEVENT
DTSTART;TZID=America/New_York:20290604T120000
DTEND;TZID=America/New_York:20290604T130000
DTSTAMP:20260420T221203
CREATED:20250212T194752Z
LAST-MODIFIED:20251218T015630Z
UID:10001523-1875268800-1875272400@resonateatlanta.org
SUMMARY:Outreach Hour
DESCRIPTION:Mondays at lunch is Outreach Hour at Resonate Church! Our lobby is wide open to neighbors in need with a meal and a welcome from Jesus Christ. We listen\, build relationships\, pray\, bear burdens\, and connect people with local resources. Sign up on Meal Train to provide lunch or soup for 20 people. You can drop off the meal on Sunday and we’ll warm it up Monday morning. If you’d like to volunteer\, contact Noah Nemnihttps://www.mealtrain.com/trains/73kr4n/
URL:https://resonateatlanta.org/event/outreach-hour/2029-06-04/
LOCATION:Resonate Church\, 3433 Memorial Drive\, Decatur\, GA\, 30032\, United States
CATEGORIES:Outreach
END:VEVENT
BEGIN:VEVENT
DTSTART;TZID=America/New_York:20290610T090000
DTEND;TZID=America/New_York:20290610T103000
DTSTAMP:20260420T221203
CREATED:20260122T201654Z
LAST-MODIFIED:20260122T201655Z
UID:10001923-1875776400-1875781800@resonateatlanta.org
SUMMARY:Worship Service – 9:00am
DESCRIPTION:Join us for our 9:00am worship gathering as we come together to worship Jesus\, open the Scriptures\, and practice community. Kids ministry is available for infants through 5th grade during this service.A livestream is available at live.resonateatlanta.org.
URL:https://resonateatlanta.org/event/worship-service-900am-2/2029-06-10/
LOCATION:Resonate Church\, 3433 Memorial Drive\, Decatur\, GA\, 30032\, United States
CATEGORIES:Community,Newcomers
END:VEVENT
BEGIN:VEVENT
DTSTART;TZID=America/New_York:20290610T104500
DTEND;TZID=America/New_York:20290610T121500
DTSTAMP:20260420T221203
CREATED:20251211T161627Z
LAST-MODIFIED:20251211T161627Z
UID:10002183-1875782700-1875788100@resonateatlanta.org
SUMMARY:Worship Service – 10:45am
DESCRIPTION:Join us for our 10:45am worship gathering as we come together to worship Jesus\, open the Scriptures\, and practice community. Kids ministry is available for infants through 5th grade during this service.A livestream is available at live.resonateatlanta.org.
URL:https://resonateatlanta.org/event/worship-service-1045am/2029-06-10/
LOCATION:Resonate Church\, 3433 Memorial Drive\, Decatur\, GA\, 30032\, United States
CATEGORIES:Community,Newcomers
END:VEVENT
BEGIN:VEVENT
DTSTART;TZID=America/New_York:20290611T120000
DTEND;TZID=America/New_York:20290611T130000
DTSTAMP:20260420T221203
CREATED:20250212T194752Z
LAST-MODIFIED:20251218T015630Z
UID:10001524-1875873600-1875877200@resonateatlanta.org
SUMMARY:Outreach Hour
DESCRIPTION:Mondays at lunch is Outreach Hour at Resonate Church! Our lobby is wide open to neighbors in need with a meal and a welcome from Jesus Christ. We listen\, build relationships\, pray\, bear burdens\, and connect people with local resources. Sign up on Meal Train to provide lunch or soup for 20 people. You can drop off the meal on Sunday and we’ll warm it up Monday morning. If you’d like to volunteer\, contact Noah Nemnihttps://www.mealtrain.com/trains/73kr4n/
URL:https://resonateatlanta.org/event/outreach-hour/2029-06-11/
LOCATION:Resonate Church\, 3433 Memorial Drive\, Decatur\, GA\, 30032\, United States
CATEGORIES:Outreach
END:VEVENT
END:VCALENDAR