BEGIN:VCALENDAR
VERSION:2.0
PRODID:-//Resonate Church - ECPv6.15.20//NONSGML v1.0//EN
CALSCALE:GREGORIAN
METHOD:PUBLISH
X-WR-CALNAME:Resonate Church
X-ORIGINAL-URL:https://resonateatlanta.org
X-WR-CALDESC:Events for Resonate Church
REFRESH-INTERVAL;VALUE=DURATION:PT1H
X-Robots-Tag:noindex
X-PUBLISHED-TTL:PT1H
BEGIN:VTIMEZONE
TZID:America/New_York
BEGIN:DAYLIGHT
TZOFFSETFROM:-0500
TZOFFSETTO:-0400
TZNAME:EDT
DTSTART:20280312T070000
END:DAYLIGHT
BEGIN:STANDARD
TZOFFSETFROM:-0400
TZOFFSETTO:-0500
TZNAME:EST
DTSTART:20281105T060000
END:STANDARD
BEGIN:DAYLIGHT
TZOFFSETFROM:-0500
TZOFFSETTO:-0400
TZNAME:EDT
DTSTART:20290311T070000
END:DAYLIGHT
BEGIN:STANDARD
TZOFFSETFROM:-0400
TZOFFSETTO:-0500
TZNAME:EST
DTSTART:20291104T060000
END:STANDARD
BEGIN:DAYLIGHT
TZOFFSETFROM:-0500
TZOFFSETTO:-0400
TZNAME:EDT
DTSTART:20300310T070000
END:DAYLIGHT
BEGIN:STANDARD
TZOFFSETFROM:-0400
TZOFFSETTO:-0500
TZNAME:EST
DTSTART:20301103T060000
END:STANDARD
END:VTIMEZONE
BEGIN:VEVENT
DTSTART;TZID=America/New_York:20290722T104500
DTEND;TZID=America/New_York:20290722T121500
DTSTAMP:20260421T100236
CREATED:20251211T161627Z
LAST-MODIFIED:20251211T161627Z
UID:10002189-1879411500-1879416900@resonateatlanta.org
SUMMARY:Worship Service – 10:45am
DESCRIPTION:Join us for our 10:45am worship gathering as we come together to worship Jesus\, open the Scriptures\, and practice community. Kids ministry is available for infants through 5th grade during this service.A livestream is available at live.resonateatlanta.org.
URL:https://resonateatlanta.org/event/worship-service-1045am/2029-07-22/
LOCATION:Resonate Church\, 3433 Memorial Drive\, Decatur\, GA\, 30032\, United States
CATEGORIES:Community,Newcomers
END:VEVENT
BEGIN:VEVENT
DTSTART;TZID=America/New_York:20290723T120000
DTEND;TZID=America/New_York:20290723T130000
DTSTAMP:20260421T100236
CREATED:20250212T194752Z
LAST-MODIFIED:20251218T015630Z
UID:10001530-1879502400-1879506000@resonateatlanta.org
SUMMARY:Outreach Hour
DESCRIPTION:Mondays at lunch is Outreach Hour at Resonate Church! Our lobby is wide open to neighbors in need with a meal and a welcome from Jesus Christ. We listen\, build relationships\, pray\, bear burdens\, and connect people with local resources. Sign up on Meal Train to provide lunch or soup for 20 people. You can drop off the meal on Sunday and we’ll warm it up Monday morning. If you’d like to volunteer\, contact Noah Nemnihttps://www.mealtrain.com/trains/73kr4n/
URL:https://resonateatlanta.org/event/outreach-hour/2029-07-23/
LOCATION:Resonate Church\, 3433 Memorial Drive\, Decatur\, GA\, 30032\, United States
CATEGORIES:Outreach
END:VEVENT
BEGIN:VEVENT
DTSTART;TZID=America/New_York:20290729T090000
DTEND;TZID=America/New_York:20290729T103000
DTSTAMP:20260421T100236
CREATED:20260122T201654Z
LAST-MODIFIED:20260122T201655Z
UID:10001930-1880010000-1880015400@resonateatlanta.org
SUMMARY:Worship Service – 9:00am
DESCRIPTION:Join us for our 9:00am worship gathering as we come together to worship Jesus\, open the Scriptures\, and practice community. Kids ministry is available for infants through 5th grade during this service.A livestream is available at live.resonateatlanta.org.
URL:https://resonateatlanta.org/event/worship-service-900am-2/2029-07-29/
LOCATION:Resonate Church\, 3433 Memorial Drive\, Decatur\, GA\, 30032\, United States
CATEGORIES:Community,Newcomers
END:VEVENT
BEGIN:VEVENT
DTSTART;TZID=America/New_York:20290729T104500
DTEND;TZID=America/New_York:20290729T121500
DTSTAMP:20260421T100236
CREATED:20251211T161627Z
LAST-MODIFIED:20251211T161627Z
UID:10002190-1880016300-1880021700@resonateatlanta.org
SUMMARY:Worship Service – 10:45am
DESCRIPTION:Join us for our 10:45am worship gathering as we come together to worship Jesus\, open the Scriptures\, and practice community. Kids ministry is available for infants through 5th grade during this service.A livestream is available at live.resonateatlanta.org.
URL:https://resonateatlanta.org/event/worship-service-1045am/2029-07-29/
LOCATION:Resonate Church\, 3433 Memorial Drive\, Decatur\, GA\, 30032\, United States
CATEGORIES:Community,Newcomers
END:VEVENT
BEGIN:VEVENT
DTSTART;TZID=America/New_York:20290730T120000
DTEND;TZID=America/New_York:20290730T130000
DTSTAMP:20260421T100236
CREATED:20250212T194752Z
LAST-MODIFIED:20251218T015630Z
UID:10001531-1880107200-1880110800@resonateatlanta.org
SUMMARY:Outreach Hour
DESCRIPTION:Mondays at lunch is Outreach Hour at Resonate Church! Our lobby is wide open to neighbors in need with a meal and a welcome from Jesus Christ. We listen\, build relationships\, pray\, bear burdens\, and connect people with local resources. Sign up on Meal Train to provide lunch or soup for 20 people. You can drop off the meal on Sunday and we’ll warm it up Monday morning. If you’d like to volunteer\, contact Noah Nemnihttps://www.mealtrain.com/trains/73kr4n/
URL:https://resonateatlanta.org/event/outreach-hour/2029-07-30/
LOCATION:Resonate Church\, 3433 Memorial Drive\, Decatur\, GA\, 30032\, United States
CATEGORIES:Outreach
END:VEVENT
BEGIN:VEVENT
DTSTART;TZID=America/New_York:20290805T090000
DTEND;TZID=America/New_York:20290805T103000
DTSTAMP:20260421T100236
CREATED:20260122T201654Z
LAST-MODIFIED:20260122T201655Z
UID:10001931-1880614800-1880620200@resonateatlanta.org
SUMMARY:Worship Service – 9:00am
DESCRIPTION:Join us for our 9:00am worship gathering as we come together to worship Jesus\, open the Scriptures\, and practice community. Kids ministry is available for infants through 5th grade during this service.A livestream is available at live.resonateatlanta.org.
URL:https://resonateatlanta.org/event/worship-service-900am-2/2029-08-05/
LOCATION:Resonate Church\, 3433 Memorial Drive\, Decatur\, GA\, 30032\, United States
CATEGORIES:Community,Newcomers
END:VEVENT
BEGIN:VEVENT
DTSTART;TZID=America/New_York:20290805T104500
DTEND;TZID=America/New_York:20290805T121500
DTSTAMP:20260421T100236
CREATED:20251211T161627Z
LAST-MODIFIED:20251211T161627Z
UID:10002191-1880621100-1880626500@resonateatlanta.org
SUMMARY:Worship Service – 10:45am
DESCRIPTION:Join us for our 10:45am worship gathering as we come together to worship Jesus\, open the Scriptures\, and practice community. Kids ministry is available for infants through 5th grade during this service.A livestream is available at live.resonateatlanta.org.
URL:https://resonateatlanta.org/event/worship-service-1045am/2029-08-05/
LOCATION:Resonate Church\, 3433 Memorial Drive\, Decatur\, GA\, 30032\, United States
CATEGORIES:Community,Newcomers
END:VEVENT
BEGIN:VEVENT
DTSTART;TZID=America/New_York:20290806T120000
DTEND;TZID=America/New_York:20290806T130000
DTSTAMP:20260421T100236
CREATED:20250212T194752Z
LAST-MODIFIED:20251218T015630Z
UID:10001532-1880712000-1880715600@resonateatlanta.org
SUMMARY:Outreach Hour
DESCRIPTION:Mondays at lunch is Outreach Hour at Resonate Church! Our lobby is wide open to neighbors in need with a meal and a welcome from Jesus Christ. We listen\, build relationships\, pray\, bear burdens\, and connect people with local resources. Sign up on Meal Train to provide lunch or soup for 20 people. You can drop off the meal on Sunday and we’ll warm it up Monday morning. If you’d like to volunteer\, contact Noah Nemnihttps://www.mealtrain.com/trains/73kr4n/
URL:https://resonateatlanta.org/event/outreach-hour/2029-08-06/
LOCATION:Resonate Church\, 3433 Memorial Drive\, Decatur\, GA\, 30032\, United States
CATEGORIES:Outreach
END:VEVENT
BEGIN:VEVENT
DTSTART;TZID=America/New_York:20290812T090000
DTEND;TZID=America/New_York:20290812T103000
DTSTAMP:20260421T100236
CREATED:20260122T201654Z
LAST-MODIFIED:20260122T201655Z
UID:10001932-1881219600-1881225000@resonateatlanta.org
SUMMARY:Worship Service – 9:00am
DESCRIPTION:Join us for our 9:00am worship gathering as we come together to worship Jesus\, open the Scriptures\, and practice community. Kids ministry is available for infants through 5th grade during this service.A livestream is available at live.resonateatlanta.org.
URL:https://resonateatlanta.org/event/worship-service-900am-2/2029-08-12/
LOCATION:Resonate Church\, 3433 Memorial Drive\, Decatur\, GA\, 30032\, United States
CATEGORIES:Community,Newcomers
END:VEVENT
BEGIN:VEVENT
DTSTART;TZID=America/New_York:20290812T104500
DTEND;TZID=America/New_York:20290812T121500
DTSTAMP:20260421T100236
CREATED:20251211T161627Z
LAST-MODIFIED:20251211T161627Z
UID:10002192-1881225900-1881231300@resonateatlanta.org
SUMMARY:Worship Service – 10:45am
DESCRIPTION:Join us for our 10:45am worship gathering as we come together to worship Jesus\, open the Scriptures\, and practice community. Kids ministry is available for infants through 5th grade during this service.A livestream is available at live.resonateatlanta.org.
URL:https://resonateatlanta.org/event/worship-service-1045am/2029-08-12/
LOCATION:Resonate Church\, 3433 Memorial Drive\, Decatur\, GA\, 30032\, United States
CATEGORIES:Community,Newcomers
END:VEVENT
BEGIN:VEVENT
DTSTART;TZID=America/New_York:20290813T120000
DTEND;TZID=America/New_York:20290813T130000
DTSTAMP:20260421T100236
CREATED:20250212T194752Z
LAST-MODIFIED:20251218T015630Z
UID:10001533-1881316800-1881320400@resonateatlanta.org
SUMMARY:Outreach Hour
DESCRIPTION:Mondays at lunch is Outreach Hour at Resonate Church! Our lobby is wide open to neighbors in need with a meal and a welcome from Jesus Christ. We listen\, build relationships\, pray\, bear burdens\, and connect people with local resources. Sign up on Meal Train to provide lunch or soup for 20 people. You can drop off the meal on Sunday and we’ll warm it up Monday morning. If you’d like to volunteer\, contact Noah Nemnihttps://www.mealtrain.com/trains/73kr4n/
URL:https://resonateatlanta.org/event/outreach-hour/2029-08-13/
LOCATION:Resonate Church\, 3433 Memorial Drive\, Decatur\, GA\, 30032\, United States
CATEGORIES:Outreach
END:VEVENT
BEGIN:VEVENT
DTSTART;TZID=America/New_York:20290816T073000
DTEND;TZID=America/New_York:20290816T090000
DTSTAMP:20260421T100236
CREATED:20200428T175330Z
LAST-MODIFIED:20250317T141455Z
UID:10001290-1881559800-1881565200@resonateatlanta.org
SUMMARY:Faith Driven Entrepreneur Group
DESCRIPTION:Join us the 3rd Thursday of every month for study\, discussion\, and community for faith-driven entrepreneurs and those passionately pursuing living out their identity in Christ in the workplace. Find more information and online registration at faithdrivenentrepreneur.org\, or simply drop in if you’re interested!
URL:https://resonateatlanta.org/event/faith-driven-entrepreneur-group/2029-08-16/
LOCATION:Opo Coffee Training Lab\, 314 E Howard Ave\, Decatur\, GA\, 30030\, United States
CATEGORIES:Education
ATTACH;FMTTYPE=image/jpeg:https://resonateatlanta.org/wp-content/uploads/2020/04/office.jpg
END:VEVENT
BEGIN:VEVENT
DTSTART;TZID=America/New_York:20290819T090000
DTEND;TZID=America/New_York:20290819T103000
DTSTAMP:20260421T100236
CREATED:20260122T201654Z
LAST-MODIFIED:20260122T201655Z
UID:10001933-1881824400-1881829800@resonateatlanta.org
SUMMARY:Worship Service – 9:00am
DESCRIPTION:Join us for our 9:00am worship gathering as we come together to worship Jesus\, open the Scriptures\, and practice community. Kids ministry is available for infants through 5th grade during this service.A livestream is available at live.resonateatlanta.org.
URL:https://resonateatlanta.org/event/worship-service-900am-2/2029-08-19/
LOCATION:Resonate Church\, 3433 Memorial Drive\, Decatur\, GA\, 30032\, United States
CATEGORIES:Community,Newcomers
END:VEVENT
BEGIN:VEVENT
DTSTART;TZID=America/New_York:20290819T104500
DTEND;TZID=America/New_York:20290819T121500
DTSTAMP:20260421T100236
CREATED:20251211T161627Z
LAST-MODIFIED:20251211T161627Z
UID:10002193-1881830700-1881836100@resonateatlanta.org
SUMMARY:Worship Service – 10:45am
DESCRIPTION:Join us for our 10:45am worship gathering as we come together to worship Jesus\, open the Scriptures\, and practice community. Kids ministry is available for infants through 5th grade during this service.A livestream is available at live.resonateatlanta.org.
URL:https://resonateatlanta.org/event/worship-service-1045am/2029-08-19/
LOCATION:Resonate Church\, 3433 Memorial Drive\, Decatur\, GA\, 30032\, United States
CATEGORIES:Community,Newcomers
END:VEVENT
BEGIN:VEVENT
DTSTART;TZID=America/New_York:20290820T120000
DTEND;TZID=America/New_York:20290820T130000
DTSTAMP:20260421T100236
CREATED:20250212T194752Z
LAST-MODIFIED:20251218T015630Z
UID:10001534-1881921600-1881925200@resonateatlanta.org
SUMMARY:Outreach Hour
DESCRIPTION:Mondays at lunch is Outreach Hour at Resonate Church! Our lobby is wide open to neighbors in need with a meal and a welcome from Jesus Christ. We listen\, build relationships\, pray\, bear burdens\, and connect people with local resources. Sign up on Meal Train to provide lunch or soup for 20 people. You can drop off the meal on Sunday and we’ll warm it up Monday morning. If you’d like to volunteer\, contact Noah Nemnihttps://www.mealtrain.com/trains/73kr4n/
URL:https://resonateatlanta.org/event/outreach-hour/2029-08-20/
LOCATION:Resonate Church\, 3433 Memorial Drive\, Decatur\, GA\, 30032\, United States
CATEGORIES:Outreach
END:VEVENT
BEGIN:VEVENT
DTSTART;TZID=America/New_York:20290826T090000
DTEND;TZID=America/New_York:20290826T103000
DTSTAMP:20260421T100236
CREATED:20260122T201654Z
LAST-MODIFIED:20260122T201655Z
UID:10001934-1882429200-1882434600@resonateatlanta.org
SUMMARY:Worship Service – 9:00am
DESCRIPTION:Join us for our 9:00am worship gathering as we come together to worship Jesus\, open the Scriptures\, and practice community. Kids ministry is available for infants through 5th grade during this service.A livestream is available at live.resonateatlanta.org.
URL:https://resonateatlanta.org/event/worship-service-900am-2/2029-08-26/
LOCATION:Resonate Church\, 3433 Memorial Drive\, Decatur\, GA\, 30032\, United States
CATEGORIES:Community,Newcomers
END:VEVENT
BEGIN:VEVENT
DTSTART;TZID=America/New_York:20290826T104500
DTEND;TZID=America/New_York:20290826T121500
DTSTAMP:20260421T100236
CREATED:20251211T161627Z
LAST-MODIFIED:20251211T161627Z
UID:10002194-1882435500-1882440900@resonateatlanta.org
SUMMARY:Worship Service – 10:45am
DESCRIPTION:Join us for our 10:45am worship gathering as we come together to worship Jesus\, open the Scriptures\, and practice community. Kids ministry is available for infants through 5th grade during this service.A livestream is available at live.resonateatlanta.org.
URL:https://resonateatlanta.org/event/worship-service-1045am/2029-08-26/
LOCATION:Resonate Church\, 3433 Memorial Drive\, Decatur\, GA\, 30032\, United States
CATEGORIES:Community,Newcomers
END:VEVENT
BEGIN:VEVENT
DTSTART;TZID=America/New_York:20290827T120000
DTEND;TZID=America/New_York:20290827T130000
DTSTAMP:20260421T100236
CREATED:20250212T194752Z
LAST-MODIFIED:20251218T015630Z
UID:10001535-1882526400-1882530000@resonateatlanta.org
SUMMARY:Outreach Hour
DESCRIPTION:Mondays at lunch is Outreach Hour at Resonate Church! Our lobby is wide open to neighbors in need with a meal and a welcome from Jesus Christ. We listen\, build relationships\, pray\, bear burdens\, and connect people with local resources. Sign up on Meal Train to provide lunch or soup for 20 people. You can drop off the meal on Sunday and we’ll warm it up Monday morning. If you’d like to volunteer\, contact Noah Nemnihttps://www.mealtrain.com/trains/73kr4n/
URL:https://resonateatlanta.org/event/outreach-hour/2029-08-27/
LOCATION:Resonate Church\, 3433 Memorial Drive\, Decatur\, GA\, 30032\, United States
CATEGORIES:Outreach
END:VEVENT
BEGIN:VEVENT
DTSTART;TZID=America/New_York:20290902T090000
DTEND;TZID=America/New_York:20290902T103000
DTSTAMP:20260421T100236
CREATED:20260122T201654Z
LAST-MODIFIED:20260122T201655Z
UID:10001935-1883034000-1883039400@resonateatlanta.org
SUMMARY:Worship Service – 9:00am
DESCRIPTION:Join us for our 9:00am worship gathering as we come together to worship Jesus\, open the Scriptures\, and practice community. Kids ministry is available for infants through 5th grade during this service.A livestream is available at live.resonateatlanta.org.
URL:https://resonateatlanta.org/event/worship-service-900am-2/2029-09-02/
LOCATION:Resonate Church\, 3433 Memorial Drive\, Decatur\, GA\, 30032\, United States
CATEGORIES:Community,Newcomers
END:VEVENT
BEGIN:VEVENT
DTSTART;TZID=America/New_York:20290902T104500
DTEND;TZID=America/New_York:20290902T121500
DTSTAMP:20260421T100236
CREATED:20251211T161627Z
LAST-MODIFIED:20251211T161627Z
UID:10002195-1883040300-1883045700@resonateatlanta.org
SUMMARY:Worship Service – 10:45am
DESCRIPTION:Join us for our 10:45am worship gathering as we come together to worship Jesus\, open the Scriptures\, and practice community. Kids ministry is available for infants through 5th grade during this service.A livestream is available at live.resonateatlanta.org.
URL:https://resonateatlanta.org/event/worship-service-1045am/2029-09-02/
LOCATION:Resonate Church\, 3433 Memorial Drive\, Decatur\, GA\, 30032\, United States
CATEGORIES:Community,Newcomers
END:VEVENT
BEGIN:VEVENT
DTSTART;TZID=America/New_York:20290903T120000
DTEND;TZID=America/New_York:20290903T130000
DTSTAMP:20260421T100236
CREATED:20250212T194752Z
LAST-MODIFIED:20251218T015630Z
UID:10001536-1883131200-1883134800@resonateatlanta.org
SUMMARY:Outreach Hour
DESCRIPTION:Mondays at lunch is Outreach Hour at Resonate Church! Our lobby is wide open to neighbors in need with a meal and a welcome from Jesus Christ. We listen\, build relationships\, pray\, bear burdens\, and connect people with local resources. Sign up on Meal Train to provide lunch or soup for 20 people. You can drop off the meal on Sunday and we’ll warm it up Monday morning. If you’d like to volunteer\, contact Noah Nemnihttps://www.mealtrain.com/trains/73kr4n/
URL:https://resonateatlanta.org/event/outreach-hour/2029-09-03/
LOCATION:Resonate Church\, 3433 Memorial Drive\, Decatur\, GA\, 30032\, United States
CATEGORIES:Outreach
END:VEVENT
BEGIN:VEVENT
DTSTART;TZID=America/New_York:20290909T090000
DTEND;TZID=America/New_York:20290909T103000
DTSTAMP:20260421T100236
CREATED:20260122T201654Z
LAST-MODIFIED:20260122T201655Z
UID:10001936-1883638800-1883644200@resonateatlanta.org
SUMMARY:Worship Service – 9:00am
DESCRIPTION:Join us for our 9:00am worship gathering as we come together to worship Jesus\, open the Scriptures\, and practice community. Kids ministry is available for infants through 5th grade during this service.A livestream is available at live.resonateatlanta.org.
URL:https://resonateatlanta.org/event/worship-service-900am-2/2029-09-09/
LOCATION:Resonate Church\, 3433 Memorial Drive\, Decatur\, GA\, 30032\, United States
CATEGORIES:Community,Newcomers
END:VEVENT
BEGIN:VEVENT
DTSTART;TZID=America/New_York:20290909T104500
DTEND;TZID=America/New_York:20290909T121500
DTSTAMP:20260421T100236
CREATED:20251211T161627Z
LAST-MODIFIED:20251211T161627Z
UID:10002196-1883645100-1883650500@resonateatlanta.org
SUMMARY:Worship Service – 10:45am
DESCRIPTION:Join us for our 10:45am worship gathering as we come together to worship Jesus\, open the Scriptures\, and practice community. Kids ministry is available for infants through 5th grade during this service.A livestream is available at live.resonateatlanta.org.
URL:https://resonateatlanta.org/event/worship-service-1045am/2029-09-09/
LOCATION:Resonate Church\, 3433 Memorial Drive\, Decatur\, GA\, 30032\, United States
CATEGORIES:Community,Newcomers
END:VEVENT
BEGIN:VEVENT
DTSTART;TZID=America/New_York:20290910T120000
DTEND;TZID=America/New_York:20290910T130000
DTSTAMP:20260421T100236
CREATED:20250212T194752Z
LAST-MODIFIED:20251218T015630Z
UID:10001537-1883736000-1883739600@resonateatlanta.org
SUMMARY:Outreach Hour
DESCRIPTION:Mondays at lunch is Outreach Hour at Resonate Church! Our lobby is wide open to neighbors in need with a meal and a welcome from Jesus Christ. We listen\, build relationships\, pray\, bear burdens\, and connect people with local resources. Sign up on Meal Train to provide lunch or soup for 20 people. You can drop off the meal on Sunday and we’ll warm it up Monday morning. If you’d like to volunteer\, contact Noah Nemnihttps://www.mealtrain.com/trains/73kr4n/
URL:https://resonateatlanta.org/event/outreach-hour/2029-09-10/
LOCATION:Resonate Church\, 3433 Memorial Drive\, Decatur\, GA\, 30032\, United States
CATEGORIES:Outreach
END:VEVENT
BEGIN:VEVENT
DTSTART;TZID=America/New_York:20290916T090000
DTEND;TZID=America/New_York:20290916T103000
DTSTAMP:20260421T100236
CREATED:20260122T201654Z
LAST-MODIFIED:20260122T201655Z
UID:10001937-1884243600-1884249000@resonateatlanta.org
SUMMARY:Worship Service – 9:00am
DESCRIPTION:Join us for our 9:00am worship gathering as we come together to worship Jesus\, open the Scriptures\, and practice community. Kids ministry is available for infants through 5th grade during this service.A livestream is available at live.resonateatlanta.org.
URL:https://resonateatlanta.org/event/worship-service-900am-2/2029-09-16/
LOCATION:Resonate Church\, 3433 Memorial Drive\, Decatur\, GA\, 30032\, United States
CATEGORIES:Community,Newcomers
END:VEVENT
BEGIN:VEVENT
DTSTART;TZID=America/New_York:20290916T104500
DTEND;TZID=America/New_York:20290916T121500
DTSTAMP:20260421T100236
CREATED:20251211T161627Z
LAST-MODIFIED:20251211T161627Z
UID:10002197-1884249900-1884255300@resonateatlanta.org
SUMMARY:Worship Service – 10:45am
DESCRIPTION:Join us for our 10:45am worship gathering as we come together to worship Jesus\, open the Scriptures\, and practice community. Kids ministry is available for infants through 5th grade during this service.A livestream is available at live.resonateatlanta.org.
URL:https://resonateatlanta.org/event/worship-service-1045am/2029-09-16/
LOCATION:Resonate Church\, 3433 Memorial Drive\, Decatur\, GA\, 30032\, United States
CATEGORIES:Community,Newcomers
END:VEVENT
BEGIN:VEVENT
DTSTART;TZID=America/New_York:20290917T120000
DTEND;TZID=America/New_York:20290917T130000
DTSTAMP:20260421T100236
CREATED:20250212T194752Z
LAST-MODIFIED:20251218T015630Z
UID:10001538-1884340800-1884344400@resonateatlanta.org
SUMMARY:Outreach Hour
DESCRIPTION:Mondays at lunch is Outreach Hour at Resonate Church! Our lobby is wide open to neighbors in need with a meal and a welcome from Jesus Christ. We listen\, build relationships\, pray\, bear burdens\, and connect people with local resources. Sign up on Meal Train to provide lunch or soup for 20 people. You can drop off the meal on Sunday and we’ll warm it up Monday morning. If you’d like to volunteer\, contact Noah Nemnihttps://www.mealtrain.com/trains/73kr4n/
URL:https://resonateatlanta.org/event/outreach-hour/2029-09-17/
LOCATION:Resonate Church\, 3433 Memorial Drive\, Decatur\, GA\, 30032\, United States
CATEGORIES:Outreach
END:VEVENT
BEGIN:VEVENT
DTSTART;TZID=America/New_York:20290920T073000
DTEND;TZID=America/New_York:20290920T090000
DTSTAMP:20260421T100236
CREATED:20200428T175330Z
LAST-MODIFIED:20250317T141455Z
UID:10001291-1884583800-1884589200@resonateatlanta.org
SUMMARY:Faith Driven Entrepreneur Group
DESCRIPTION:Join us the 3rd Thursday of every month for study\, discussion\, and community for faith-driven entrepreneurs and those passionately pursuing living out their identity in Christ in the workplace. Find more information and online registration at faithdrivenentrepreneur.org\, or simply drop in if you’re interested!
URL:https://resonateatlanta.org/event/faith-driven-entrepreneur-group/2029-09-20/
LOCATION:Opo Coffee Training Lab\, 314 E Howard Ave\, Decatur\, GA\, 30030\, United States
CATEGORIES:Education
ATTACH;FMTTYPE=image/jpeg:https://resonateatlanta.org/wp-content/uploads/2020/04/office.jpg
END:VEVENT
BEGIN:VEVENT
DTSTART;TZID=America/New_York:20290923T090000
DTEND;TZID=America/New_York:20290923T103000
DTSTAMP:20260421T100236
CREATED:20260122T201654Z
LAST-MODIFIED:20260122T201655Z
UID:10001938-1884848400-1884853800@resonateatlanta.org
SUMMARY:Worship Service – 9:00am
DESCRIPTION:Join us for our 9:00am worship gathering as we come together to worship Jesus\, open the Scriptures\, and practice community. Kids ministry is available for infants through 5th grade during this service.A livestream is available at live.resonateatlanta.org.
URL:https://resonateatlanta.org/event/worship-service-900am-2/2029-09-23/
LOCATION:Resonate Church\, 3433 Memorial Drive\, Decatur\, GA\, 30032\, United States
CATEGORIES:Community,Newcomers
END:VEVENT
BEGIN:VEVENT
DTSTART;TZID=America/New_York:20290923T104500
DTEND;TZID=America/New_York:20290923T121500
DTSTAMP:20260421T100236
CREATED:20251211T161627Z
LAST-MODIFIED:20251211T161627Z
UID:10002198-1884854700-1884860100@resonateatlanta.org
SUMMARY:Worship Service – 10:45am
DESCRIPTION:Join us for our 10:45am worship gathering as we come together to worship Jesus\, open the Scriptures\, and practice community. Kids ministry is available for infants through 5th grade during this service.A livestream is available at live.resonateatlanta.org.
URL:https://resonateatlanta.org/event/worship-service-1045am/2029-09-23/
LOCATION:Resonate Church\, 3433 Memorial Drive\, Decatur\, GA\, 30032\, United States
CATEGORIES:Community,Newcomers
END:VEVENT
END:VCALENDAR