BEGIN:VCALENDAR
VERSION:2.0
PRODID:-//Resonate Church - ECPv6.15.20//NONSGML v1.0//EN
CALSCALE:GREGORIAN
METHOD:PUBLISH
X-WR-CALNAME:Resonate Church
X-ORIGINAL-URL:https://resonateatlanta.org
X-WR-CALDESC:Events for Resonate Church
REFRESH-INTERVAL;VALUE=DURATION:PT1H
X-Robots-Tag:noindex
X-PUBLISHED-TTL:PT1H
BEGIN:VTIMEZONE
TZID:America/New_York
BEGIN:DAYLIGHT
TZOFFSETFROM:-0500
TZOFFSETTO:-0400
TZNAME:EDT
DTSTART:20290311T070000
END:DAYLIGHT
BEGIN:STANDARD
TZOFFSETFROM:-0400
TZOFFSETTO:-0500
TZNAME:EST
DTSTART:20291104T060000
END:STANDARD
BEGIN:DAYLIGHT
TZOFFSETFROM:-0500
TZOFFSETTO:-0400
TZNAME:EDT
DTSTART:20300310T070000
END:DAYLIGHT
BEGIN:STANDARD
TZOFFSETFROM:-0400
TZOFFSETTO:-0500
TZNAME:EST
DTSTART:20301103T060000
END:STANDARD
BEGIN:DAYLIGHT
TZOFFSETFROM:-0500
TZOFFSETTO:-0400
TZNAME:EDT
DTSTART:20310309T070000
END:DAYLIGHT
BEGIN:STANDARD
TZOFFSETFROM:-0400
TZOFFSETTO:-0500
TZNAME:EST
DTSTART:20311102T060000
END:STANDARD
END:VTIMEZONE
BEGIN:VEVENT
DTSTART;TZID=America/New_York:20300929T104500
DTEND;TZID=America/New_York:20300929T121500
DTSTAMP:20260420T135326
CREATED:20251211T161627Z
LAST-MODIFIED:20251211T161627Z
UID:10002251-1916909100-1916914500@resonateatlanta.org
SUMMARY:Worship Service – 10:45am
DESCRIPTION:Join us for our 10:45am worship gathering as we come together to worship Jesus\, open the Scriptures\, and practice community. Kids ministry is available for infants through 5th grade during this service.A livestream is available at live.resonateatlanta.org.
URL:https://resonateatlanta.org/event/worship-service-1045am/2030-09-29/
LOCATION:Resonate Church\, 3433 Memorial Drive\, Decatur\, GA\, 30032\, United States
CATEGORIES:Community,Newcomers
END:VEVENT
BEGIN:VEVENT
DTSTART;TZID=America/New_York:20300930T120000
DTEND;TZID=America/New_York:20300930T130000
DTSTAMP:20260420T135326
CREATED:20250212T194752Z
LAST-MODIFIED:20251218T015630Z
UID:10002294-1917000000-1917003600@resonateatlanta.org
SUMMARY:Outreach Hour
DESCRIPTION:Mondays at lunch is Outreach Hour at Resonate Church! Our lobby is wide open to neighbors in need with a meal and a welcome from Jesus Christ. We listen\, build relationships\, pray\, bear burdens\, and connect people with local resources. Sign up on Meal Train to provide lunch or soup for 20 people. You can drop off the meal on Sunday and we’ll warm it up Monday morning. If you’d like to volunteer\, contact Noah Nemnihttps://www.mealtrain.com/trains/73kr4n/
URL:https://resonateatlanta.org/event/outreach-hour/2030-09-30/
LOCATION:Resonate Church\, 3433 Memorial Drive\, Decatur\, GA\, 30032\, United States
CATEGORIES:Outreach
END:VEVENT
BEGIN:VEVENT
DTSTART;TZID=America/New_York:20301006T090000
DTEND;TZID=America/New_York:20301006T103000
DTSTAMP:20260420T135326
CREATED:20260122T201654Z
LAST-MODIFIED:20260122T201655Z
UID:10001992-1917507600-1917513000@resonateatlanta.org
SUMMARY:Worship Service – 9:00am
DESCRIPTION:Join us for our 9:00am worship gathering as we come together to worship Jesus\, open the Scriptures\, and practice community. Kids ministry is available for infants through 5th grade during this service.A livestream is available at live.resonateatlanta.org.
URL:https://resonateatlanta.org/event/worship-service-900am-2/2030-10-06/
LOCATION:Resonate Church\, 3433 Memorial Drive\, Decatur\, GA\, 30032\, United States
CATEGORIES:Community,Newcomers
END:VEVENT
BEGIN:VEVENT
DTSTART;TZID=America/New_York:20301006T104500
DTEND;TZID=America/New_York:20301006T121500
DTSTAMP:20260420T135326
CREATED:20251211T161627Z
LAST-MODIFIED:20251211T161627Z
UID:10002252-1917513900-1917519300@resonateatlanta.org
SUMMARY:Worship Service – 10:45am
DESCRIPTION:Join us for our 10:45am worship gathering as we come together to worship Jesus\, open the Scriptures\, and practice community. Kids ministry is available for infants through 5th grade during this service.A livestream is available at live.resonateatlanta.org.
URL:https://resonateatlanta.org/event/worship-service-1045am/2030-10-06/
LOCATION:Resonate Church\, 3433 Memorial Drive\, Decatur\, GA\, 30032\, United States
CATEGORIES:Community,Newcomers
END:VEVENT
BEGIN:VEVENT
DTSTART;TZID=America/New_York:20301007T120000
DTEND;TZID=America/New_York:20301007T130000
DTSTAMP:20260420T135326
CREATED:20250212T194752Z
LAST-MODIFIED:20251218T015630Z
UID:10002295-1917604800-1917608400@resonateatlanta.org
SUMMARY:Outreach Hour
DESCRIPTION:Mondays at lunch is Outreach Hour at Resonate Church! Our lobby is wide open to neighbors in need with a meal and a welcome from Jesus Christ. We listen\, build relationships\, pray\, bear burdens\, and connect people with local resources. Sign up on Meal Train to provide lunch or soup for 20 people. You can drop off the meal on Sunday and we’ll warm it up Monday morning. If you’d like to volunteer\, contact Noah Nemnihttps://www.mealtrain.com/trains/73kr4n/
URL:https://resonateatlanta.org/event/outreach-hour/2030-10-07/
LOCATION:Resonate Church\, 3433 Memorial Drive\, Decatur\, GA\, 30032\, United States
CATEGORIES:Outreach
END:VEVENT
BEGIN:VEVENT
DTSTART;TZID=America/New_York:20301013T090000
DTEND;TZID=America/New_York:20301013T103000
DTSTAMP:20260420T135326
CREATED:20260122T201654Z
LAST-MODIFIED:20260122T201655Z
UID:10001993-1918112400-1918117800@resonateatlanta.org
SUMMARY:Worship Service – 9:00am
DESCRIPTION:Join us for our 9:00am worship gathering as we come together to worship Jesus\, open the Scriptures\, and practice community. Kids ministry is available for infants through 5th grade during this service.A livestream is available at live.resonateatlanta.org.
URL:https://resonateatlanta.org/event/worship-service-900am-2/2030-10-13/
LOCATION:Resonate Church\, 3433 Memorial Drive\, Decatur\, GA\, 30032\, United States
CATEGORIES:Community,Newcomers
END:VEVENT
BEGIN:VEVENT
DTSTART;TZID=America/New_York:20301013T104500
DTEND;TZID=America/New_York:20301013T121500
DTSTAMP:20260420T135326
CREATED:20251211T161627Z
LAST-MODIFIED:20251211T161627Z
UID:10002253-1918118700-1918124100@resonateatlanta.org
SUMMARY:Worship Service – 10:45am
DESCRIPTION:Join us for our 10:45am worship gathering as we come together to worship Jesus\, open the Scriptures\, and practice community. Kids ministry is available for infants through 5th grade during this service.A livestream is available at live.resonateatlanta.org.
URL:https://resonateatlanta.org/event/worship-service-1045am/2030-10-13/
LOCATION:Resonate Church\, 3433 Memorial Drive\, Decatur\, GA\, 30032\, United States
CATEGORIES:Community,Newcomers
END:VEVENT
BEGIN:VEVENT
DTSTART;TZID=America/New_York:20301014T120000
DTEND;TZID=America/New_York:20301014T130000
DTSTAMP:20260420T135326
CREATED:20250212T194752Z
LAST-MODIFIED:20251218T015630Z
UID:10002296-1918209600-1918213200@resonateatlanta.org
SUMMARY:Outreach Hour
DESCRIPTION:Mondays at lunch is Outreach Hour at Resonate Church! Our lobby is wide open to neighbors in need with a meal and a welcome from Jesus Christ. We listen\, build relationships\, pray\, bear burdens\, and connect people with local resources. Sign up on Meal Train to provide lunch or soup for 20 people. You can drop off the meal on Sunday and we’ll warm it up Monday morning. If you’d like to volunteer\, contact Noah Nemnihttps://www.mealtrain.com/trains/73kr4n/
URL:https://resonateatlanta.org/event/outreach-hour/2030-10-14/
LOCATION:Resonate Church\, 3433 Memorial Drive\, Decatur\, GA\, 30032\, United States
CATEGORIES:Outreach
END:VEVENT
BEGIN:VEVENT
DTSTART;TZID=America/New_York:20301020T090000
DTEND;TZID=America/New_York:20301020T103000
DTSTAMP:20260420T135326
CREATED:20260122T201654Z
LAST-MODIFIED:20260122T201655Z
UID:10001994-1918717200-1918722600@resonateatlanta.org
SUMMARY:Worship Service – 9:00am
DESCRIPTION:Join us for our 9:00am worship gathering as we come together to worship Jesus\, open the Scriptures\, and practice community. Kids ministry is available for infants through 5th grade during this service.A livestream is available at live.resonateatlanta.org.
URL:https://resonateatlanta.org/event/worship-service-900am-2/2030-10-20/
LOCATION:Resonate Church\, 3433 Memorial Drive\, Decatur\, GA\, 30032\, United States
CATEGORIES:Community,Newcomers
END:VEVENT
BEGIN:VEVENT
DTSTART;TZID=America/New_York:20301020T104500
DTEND;TZID=America/New_York:20301020T121500
DTSTAMP:20260420T135326
CREATED:20251211T161627Z
LAST-MODIFIED:20251211T161627Z
UID:10002254-1918723500-1918728900@resonateatlanta.org
SUMMARY:Worship Service – 10:45am
DESCRIPTION:Join us for our 10:45am worship gathering as we come together to worship Jesus\, open the Scriptures\, and practice community. Kids ministry is available for infants through 5th grade during this service.A livestream is available at live.resonateatlanta.org.
URL:https://resonateatlanta.org/event/worship-service-1045am/2030-10-20/
LOCATION:Resonate Church\, 3433 Memorial Drive\, Decatur\, GA\, 30032\, United States
CATEGORIES:Community,Newcomers
END:VEVENT
BEGIN:VEVENT
DTSTART;TZID=America/New_York:20301021T120000
DTEND;TZID=America/New_York:20301021T130000
DTSTAMP:20260420T135326
CREATED:20250212T194752Z
LAST-MODIFIED:20251218T015630Z
UID:10002297-1918814400-1918818000@resonateatlanta.org
SUMMARY:Outreach Hour
DESCRIPTION:Mondays at lunch is Outreach Hour at Resonate Church! Our lobby is wide open to neighbors in need with a meal and a welcome from Jesus Christ. We listen\, build relationships\, pray\, bear burdens\, and connect people with local resources. Sign up on Meal Train to provide lunch or soup for 20 people. You can drop off the meal on Sunday and we’ll warm it up Monday morning. If you’d like to volunteer\, contact Noah Nemnihttps://www.mealtrain.com/trains/73kr4n/
URL:https://resonateatlanta.org/event/outreach-hour/2030-10-21/
LOCATION:Resonate Church\, 3433 Memorial Drive\, Decatur\, GA\, 30032\, United States
CATEGORIES:Outreach
END:VEVENT
BEGIN:VEVENT
DTSTART;TZID=America/New_York:20301027T090000
DTEND;TZID=America/New_York:20301027T103000
DTSTAMP:20260420T135326
CREATED:20260122T201654Z
LAST-MODIFIED:20260122T201655Z
UID:10001995-1919322000-1919327400@resonateatlanta.org
SUMMARY:Worship Service – 9:00am
DESCRIPTION:Join us for our 9:00am worship gathering as we come together to worship Jesus\, open the Scriptures\, and practice community. Kids ministry is available for infants through 5th grade during this service.A livestream is available at live.resonateatlanta.org.
URL:https://resonateatlanta.org/event/worship-service-900am-2/2030-10-27/
LOCATION:Resonate Church\, 3433 Memorial Drive\, Decatur\, GA\, 30032\, United States
CATEGORIES:Community,Newcomers
END:VEVENT
BEGIN:VEVENT
DTSTART;TZID=America/New_York:20301027T104500
DTEND;TZID=America/New_York:20301027T121500
DTSTAMP:20260420T135326
CREATED:20251211T161627Z
LAST-MODIFIED:20251211T161627Z
UID:10002255-1919328300-1919333700@resonateatlanta.org
SUMMARY:Worship Service – 10:45am
DESCRIPTION:Join us for our 10:45am worship gathering as we come together to worship Jesus\, open the Scriptures\, and practice community. Kids ministry is available for infants through 5th grade during this service.A livestream is available at live.resonateatlanta.org.
URL:https://resonateatlanta.org/event/worship-service-1045am/2030-10-27/
LOCATION:Resonate Church\, 3433 Memorial Drive\, Decatur\, GA\, 30032\, United States
CATEGORIES:Community,Newcomers
END:VEVENT
BEGIN:VEVENT
DTSTART;TZID=America/New_York:20301028T120000
DTEND;TZID=America/New_York:20301028T130000
DTSTAMP:20260420T135326
CREATED:20250212T194752Z
LAST-MODIFIED:20251218T015630Z
UID:10002298-1919419200-1919422800@resonateatlanta.org
SUMMARY:Outreach Hour
DESCRIPTION:Mondays at lunch is Outreach Hour at Resonate Church! Our lobby is wide open to neighbors in need with a meal and a welcome from Jesus Christ. We listen\, build relationships\, pray\, bear burdens\, and connect people with local resources. Sign up on Meal Train to provide lunch or soup for 20 people. You can drop off the meal on Sunday and we’ll warm it up Monday morning. If you’d like to volunteer\, contact Noah Nemnihttps://www.mealtrain.com/trains/73kr4n/
URL:https://resonateatlanta.org/event/outreach-hour/2030-10-28/
LOCATION:Resonate Church\, 3433 Memorial Drive\, Decatur\, GA\, 30032\, United States
CATEGORIES:Outreach
END:VEVENT
BEGIN:VEVENT
DTSTART;TZID=America/New_York:20301103T090000
DTEND;TZID=America/New_York:20301103T103000
DTSTAMP:20260420T135326
CREATED:20260122T201654Z
LAST-MODIFIED:20260122T201655Z
UID:10001996-1919926800-1919932200@resonateatlanta.org
SUMMARY:Worship Service – 9:00am
DESCRIPTION:Join us for our 9:00am worship gathering as we come together to worship Jesus\, open the Scriptures\, and practice community. Kids ministry is available for infants through 5th grade during this service.A livestream is available at live.resonateatlanta.org.
URL:https://resonateatlanta.org/event/worship-service-900am-2/2030-11-03/
LOCATION:Resonate Church\, 3433 Memorial Drive\, Decatur\, GA\, 30032\, United States
CATEGORIES:Community,Newcomers
END:VEVENT
BEGIN:VEVENT
DTSTART;TZID=America/New_York:20301103T104500
DTEND;TZID=America/New_York:20301103T121500
DTSTAMP:20260420T135326
CREATED:20251211T161627Z
LAST-MODIFIED:20251211T161627Z
UID:10002256-1919933100-1919938500@resonateatlanta.org
SUMMARY:Worship Service – 10:45am
DESCRIPTION:Join us for our 10:45am worship gathering as we come together to worship Jesus\, open the Scriptures\, and practice community. Kids ministry is available for infants through 5th grade during this service.A livestream is available at live.resonateatlanta.org.
URL:https://resonateatlanta.org/event/worship-service-1045am/2030-11-03/
LOCATION:Resonate Church\, 3433 Memorial Drive\, Decatur\, GA\, 30032\, United States
CATEGORIES:Community,Newcomers
END:VEVENT
BEGIN:VEVENT
DTSTART;TZID=America/New_York:20301104T120000
DTEND;TZID=America/New_York:20301104T130000
DTSTAMP:20260420T135326
CREATED:20250212T194752Z
LAST-MODIFIED:20251218T015630Z
UID:10002299-1920024000-1920027600@resonateatlanta.org
SUMMARY:Outreach Hour
DESCRIPTION:Mondays at lunch is Outreach Hour at Resonate Church! Our lobby is wide open to neighbors in need with a meal and a welcome from Jesus Christ. We listen\, build relationships\, pray\, bear burdens\, and connect people with local resources. Sign up on Meal Train to provide lunch or soup for 20 people. You can drop off the meal on Sunday and we’ll warm it up Monday morning. If you’d like to volunteer\, contact Noah Nemnihttps://www.mealtrain.com/trains/73kr4n/
URL:https://resonateatlanta.org/event/outreach-hour/2030-11-04/
LOCATION:Resonate Church\, 3433 Memorial Drive\, Decatur\, GA\, 30032\, United States
CATEGORIES:Outreach
END:VEVENT
BEGIN:VEVENT
DTSTART;TZID=America/New_York:20301110T090000
DTEND;TZID=America/New_York:20301110T103000
DTSTAMP:20260420T135326
CREATED:20260122T201654Z
LAST-MODIFIED:20260122T201655Z
UID:10001997-1920531600-1920537000@resonateatlanta.org
SUMMARY:Worship Service – 9:00am
DESCRIPTION:Join us for our 9:00am worship gathering as we come together to worship Jesus\, open the Scriptures\, and practice community. Kids ministry is available for infants through 5th grade during this service.A livestream is available at live.resonateatlanta.org.
URL:https://resonateatlanta.org/event/worship-service-900am-2/2030-11-10/
LOCATION:Resonate Church\, 3433 Memorial Drive\, Decatur\, GA\, 30032\, United States
CATEGORIES:Community,Newcomers
END:VEVENT
BEGIN:VEVENT
DTSTART;TZID=America/New_York:20301110T104500
DTEND;TZID=America/New_York:20301110T121500
DTSTAMP:20260420T135326
CREATED:20251211T161627Z
LAST-MODIFIED:20251211T161627Z
UID:10002257-1920537900-1920543300@resonateatlanta.org
SUMMARY:Worship Service – 10:45am
DESCRIPTION:Join us for our 10:45am worship gathering as we come together to worship Jesus\, open the Scriptures\, and practice community. Kids ministry is available for infants through 5th grade during this service.A livestream is available at live.resonateatlanta.org.
URL:https://resonateatlanta.org/event/worship-service-1045am/2030-11-10/
LOCATION:Resonate Church\, 3433 Memorial Drive\, Decatur\, GA\, 30032\, United States
CATEGORIES:Community,Newcomers
END:VEVENT
BEGIN:VEVENT
DTSTART;TZID=America/New_York:20301111T120000
DTEND;TZID=America/New_York:20301111T130000
DTSTAMP:20260420T135326
CREATED:20250212T194752Z
LAST-MODIFIED:20251218T015630Z
UID:10002300-1920628800-1920632400@resonateatlanta.org
SUMMARY:Outreach Hour
DESCRIPTION:Mondays at lunch is Outreach Hour at Resonate Church! Our lobby is wide open to neighbors in need with a meal and a welcome from Jesus Christ. We listen\, build relationships\, pray\, bear burdens\, and connect people with local resources. Sign up on Meal Train to provide lunch or soup for 20 people. You can drop off the meal on Sunday and we’ll warm it up Monday morning. If you’d like to volunteer\, contact Noah Nemnihttps://www.mealtrain.com/trains/73kr4n/
URL:https://resonateatlanta.org/event/outreach-hour/2030-11-11/
LOCATION:Resonate Church\, 3433 Memorial Drive\, Decatur\, GA\, 30032\, United States
CATEGORIES:Outreach
END:VEVENT
BEGIN:VEVENT
DTSTART;TZID=America/New_York:20301117T090000
DTEND;TZID=America/New_York:20301117T103000
DTSTAMP:20260420T135326
CREATED:20260122T201654Z
LAST-MODIFIED:20260122T201655Z
UID:10001998-1921136400-1921141800@resonateatlanta.org
SUMMARY:Worship Service – 9:00am
DESCRIPTION:Join us for our 9:00am worship gathering as we come together to worship Jesus\, open the Scriptures\, and practice community. Kids ministry is available for infants through 5th grade during this service.A livestream is available at live.resonateatlanta.org.
URL:https://resonateatlanta.org/event/worship-service-900am-2/2030-11-17/
LOCATION:Resonate Church\, 3433 Memorial Drive\, Decatur\, GA\, 30032\, United States
CATEGORIES:Community,Newcomers
END:VEVENT
BEGIN:VEVENT
DTSTART;TZID=America/New_York:20301117T104500
DTEND;TZID=America/New_York:20301117T121500
DTSTAMP:20260420T135326
CREATED:20251211T161627Z
LAST-MODIFIED:20251211T161627Z
UID:10002258-1921142700-1921148100@resonateatlanta.org
SUMMARY:Worship Service – 10:45am
DESCRIPTION:Join us for our 10:45am worship gathering as we come together to worship Jesus\, open the Scriptures\, and practice community. Kids ministry is available for infants through 5th grade during this service.A livestream is available at live.resonateatlanta.org.
URL:https://resonateatlanta.org/event/worship-service-1045am/2030-11-17/
LOCATION:Resonate Church\, 3433 Memorial Drive\, Decatur\, GA\, 30032\, United States
CATEGORIES:Community,Newcomers
END:VEVENT
BEGIN:VEVENT
DTSTART;TZID=America/New_York:20301118T120000
DTEND;TZID=America/New_York:20301118T130000
DTSTAMP:20260420T135326
CREATED:20250212T194752Z
LAST-MODIFIED:20251218T015630Z
UID:10002301-1921233600-1921237200@resonateatlanta.org
SUMMARY:Outreach Hour
DESCRIPTION:Mondays at lunch is Outreach Hour at Resonate Church! Our lobby is wide open to neighbors in need with a meal and a welcome from Jesus Christ. We listen\, build relationships\, pray\, bear burdens\, and connect people with local resources. Sign up on Meal Train to provide lunch or soup for 20 people. You can drop off the meal on Sunday and we’ll warm it up Monday morning. If you’d like to volunteer\, contact Noah Nemnihttps://www.mealtrain.com/trains/73kr4n/
URL:https://resonateatlanta.org/event/outreach-hour/2030-11-18/
LOCATION:Resonate Church\, 3433 Memorial Drive\, Decatur\, GA\, 30032\, United States
CATEGORIES:Outreach
END:VEVENT
BEGIN:VEVENT
DTSTART;TZID=America/New_York:20301124T090000
DTEND;TZID=America/New_York:20301124T103000
DTSTAMP:20260420T135326
CREATED:20260122T201654Z
LAST-MODIFIED:20260122T201655Z
UID:10001999-1921741200-1921746600@resonateatlanta.org
SUMMARY:Worship Service – 9:00am
DESCRIPTION:Join us for our 9:00am worship gathering as we come together to worship Jesus\, open the Scriptures\, and practice community. Kids ministry is available for infants through 5th grade during this service.A livestream is available at live.resonateatlanta.org.
URL:https://resonateatlanta.org/event/worship-service-900am-2/2030-11-24/
LOCATION:Resonate Church\, 3433 Memorial Drive\, Decatur\, GA\, 30032\, United States
CATEGORIES:Community,Newcomers
END:VEVENT
BEGIN:VEVENT
DTSTART;TZID=America/New_York:20301124T104500
DTEND;TZID=America/New_York:20301124T121500
DTSTAMP:20260420T135326
CREATED:20251211T161627Z
LAST-MODIFIED:20251211T161627Z
UID:10002259-1921747500-1921752900@resonateatlanta.org
SUMMARY:Worship Service – 10:45am
DESCRIPTION:Join us for our 10:45am worship gathering as we come together to worship Jesus\, open the Scriptures\, and practice community. Kids ministry is available for infants through 5th grade during this service.A livestream is available at live.resonateatlanta.org.
URL:https://resonateatlanta.org/event/worship-service-1045am/2030-11-24/
LOCATION:Resonate Church\, 3433 Memorial Drive\, Decatur\, GA\, 30032\, United States
CATEGORIES:Community,Newcomers
END:VEVENT
BEGIN:VEVENT
DTSTART;TZID=America/New_York:20301125T120000
DTEND;TZID=America/New_York:20301125T130000
DTSTAMP:20260420T135326
CREATED:20250212T194752Z
LAST-MODIFIED:20251218T015630Z
UID:10002302-1921838400-1921842000@resonateatlanta.org
SUMMARY:Outreach Hour
DESCRIPTION:Mondays at lunch is Outreach Hour at Resonate Church! Our lobby is wide open to neighbors in need with a meal and a welcome from Jesus Christ. We listen\, build relationships\, pray\, bear burdens\, and connect people with local resources. Sign up on Meal Train to provide lunch or soup for 20 people. You can drop off the meal on Sunday and we’ll warm it up Monday morning. If you’d like to volunteer\, contact Noah Nemnihttps://www.mealtrain.com/trains/73kr4n/
URL:https://resonateatlanta.org/event/outreach-hour/2030-11-25/
LOCATION:Resonate Church\, 3433 Memorial Drive\, Decatur\, GA\, 30032\, United States
CATEGORIES:Outreach
END:VEVENT
BEGIN:VEVENT
DTSTART;TZID=America/New_York:20301201T090000
DTEND;TZID=America/New_York:20301201T103000
DTSTAMP:20260420T135326
CREATED:20260122T201654Z
LAST-MODIFIED:20260122T201655Z
UID:10002000-1922346000-1922351400@resonateatlanta.org
SUMMARY:Worship Service – 9:00am
DESCRIPTION:Join us for our 9:00am worship gathering as we come together to worship Jesus\, open the Scriptures\, and practice community. Kids ministry is available for infants through 5th grade during this service.A livestream is available at live.resonateatlanta.org.
URL:https://resonateatlanta.org/event/worship-service-900am-2/2030-12-01/
LOCATION:Resonate Church\, 3433 Memorial Drive\, Decatur\, GA\, 30032\, United States
CATEGORIES:Community,Newcomers
END:VEVENT
BEGIN:VEVENT
DTSTART;TZID=America/New_York:20301201T104500
DTEND;TZID=America/New_York:20301201T121500
DTSTAMP:20260420T135326
CREATED:20251211T161627Z
LAST-MODIFIED:20251211T161627Z
UID:10002260-1922352300-1922357700@resonateatlanta.org
SUMMARY:Worship Service – 10:45am
DESCRIPTION:Join us for our 10:45am worship gathering as we come together to worship Jesus\, open the Scriptures\, and practice community. Kids ministry is available for infants through 5th grade during this service.A livestream is available at live.resonateatlanta.org.
URL:https://resonateatlanta.org/event/worship-service-1045am/2030-12-01/
LOCATION:Resonate Church\, 3433 Memorial Drive\, Decatur\, GA\, 30032\, United States
CATEGORIES:Community,Newcomers
END:VEVENT
BEGIN:VEVENT
DTSTART;TZID=America/New_York:20301202T120000
DTEND;TZID=America/New_York:20301202T130000
DTSTAMP:20260420T135326
CREATED:20250212T194752Z
LAST-MODIFIED:20251218T015630Z
UID:10002303-1922443200-1922446800@resonateatlanta.org
SUMMARY:Outreach Hour
DESCRIPTION:Mondays at lunch is Outreach Hour at Resonate Church! Our lobby is wide open to neighbors in need with a meal and a welcome from Jesus Christ. We listen\, build relationships\, pray\, bear burdens\, and connect people with local resources. Sign up on Meal Train to provide lunch or soup for 20 people. You can drop off the meal on Sunday and we’ll warm it up Monday morning. If you’d like to volunteer\, contact Noah Nemnihttps://www.mealtrain.com/trains/73kr4n/
URL:https://resonateatlanta.org/event/outreach-hour/2030-12-02/
LOCATION:Resonate Church\, 3433 Memorial Drive\, Decatur\, GA\, 30032\, United States
CATEGORIES:Outreach
END:VEVENT
BEGIN:VEVENT
DTSTART;TZID=America/New_York:20301208T090000
DTEND;TZID=America/New_York:20301208T103000
DTSTAMP:20260420T135326
CREATED:20260122T201654Z
LAST-MODIFIED:20260122T201655Z
UID:10002001-1922950800-1922956200@resonateatlanta.org
SUMMARY:Worship Service – 9:00am
DESCRIPTION:Join us for our 9:00am worship gathering as we come together to worship Jesus\, open the Scriptures\, and practice community. Kids ministry is available for infants through 5th grade during this service.A livestream is available at live.resonateatlanta.org.
URL:https://resonateatlanta.org/event/worship-service-900am-2/2030-12-08/
LOCATION:Resonate Church\, 3433 Memorial Drive\, Decatur\, GA\, 30032\, United States
CATEGORIES:Community,Newcomers
END:VEVENT
END:VCALENDAR