BEGIN:VCALENDAR
VERSION:2.0
PRODID:-//Resonate Church - ECPv6.15.20//NONSGML v1.0//EN
CALSCALE:GREGORIAN
METHOD:PUBLISH
X-ORIGINAL-URL:https://resonateatlanta.org
X-WR-CALDESC:Events for Resonate Church
REFRESH-INTERVAL;VALUE=DURATION:PT1H
X-Robots-Tag:noindex
X-PUBLISHED-TTL:PT1H
BEGIN:VTIMEZONE
TZID:America/New_York
BEGIN:DAYLIGHT
TZOFFSETFROM:-0500
TZOFFSETTO:-0400
TZNAME:EDT
DTSTART:20230312T070000
END:DAYLIGHT
BEGIN:STANDARD
TZOFFSETFROM:-0400
TZOFFSETTO:-0500
TZNAME:EST
DTSTART:20231105T060000
END:STANDARD
BEGIN:DAYLIGHT
TZOFFSETFROM:-0500
TZOFFSETTO:-0400
TZNAME:EDT
DTSTART:20240310T070000
END:DAYLIGHT
BEGIN:STANDARD
TZOFFSETFROM:-0400
TZOFFSETTO:-0500
TZNAME:EST
DTSTART:20241103T060000
END:STANDARD
BEGIN:DAYLIGHT
TZOFFSETFROM:-0500
TZOFFSETTO:-0400
TZNAME:EDT
DTSTART:20250309T070000
END:DAYLIGHT
BEGIN:STANDARD
TZOFFSETFROM:-0400
TZOFFSETTO:-0500
TZNAME:EST
DTSTART:20251102T060000
END:STANDARD
BEGIN:DAYLIGHT
TZOFFSETFROM:-0500
TZOFFSETTO:-0400
TZNAME:EDT
DTSTART:20260308T070000
END:DAYLIGHT
BEGIN:STANDARD
TZOFFSETFROM:-0400
TZOFFSETTO:-0500
TZNAME:EST
DTSTART:20261101T060000
END:STANDARD
BEGIN:DAYLIGHT
TZOFFSETFROM:-0500
TZOFFSETTO:-0400
TZNAME:EDT
DTSTART:20270314T070000
END:DAYLIGHT
BEGIN:STANDARD
TZOFFSETFROM:-0400
TZOFFSETTO:-0500
TZNAME:EST
DTSTART:20271107T060000
END:STANDARD
END:VTIMEZONE
BEGIN:VEVENT
DTSTART;VALUE=DATE:20260215
DTEND;VALUE=DATE:20260407
DTSTAMP:20260417T185025
CREATED:20260215T105312Z
LAST-MODIFIED:20260215T105312Z
UID:10002362-1771113600-1775519999@resonateatlanta.org
SUMMARY:Lent 2026 Media Fast Guide
DESCRIPTION:We invite you to join us for a church-wide Digital Media Fast for Lent — the 40 days between Ash Wednesday and Easter (2/18-4/6). The purpose of a media fast is to temporarily remove outside input\, noise\, and formation to “reset” our minds\, focusing our attention on God and that which is present before us. A digital media fast will help us to reorient our thoughts and focus toward the kingdom of God\, create silence and space for us to hear from God and explore our own motivations\, and to remove our eyes from worthless things (Psalm 101:3). \nThis fast will look different for each person\, as we all have different levels of engagement with digital media\, and different media we’re drawn to. For some\, it’s YouTube or streaming services\, for others\, it’s the news\, for others\, it’s video games\, and for others\, it may be social media. We are not drawing hard and fast rules for this fast\, because the purpose is for you to draw closer to God – do the best you can with the fast\, and if you struggle to keep it\, continue to try. \nWe invite you to utilize the guide below\, giving time to assess your own relationship with digital media\, and prayerfully decide the best way to structure this fast.  \nDigital Media Fast – Lent 2026
URL:https://resonateatlanta.org/event/lent-2026-media-fast-guide/
CATEGORIES:Spiritual Formation
ORGANIZER;CN="Sarah Pascual":MAILTO:sarah@resonateatlanta.org
END:VEVENT
BEGIN:VEVENT
DTSTART;VALUE=DATE:20251024
DTEND;VALUE=DATE:20251027
DTSTAMP:20260417T185025
CREATED:20250721T122605Z
LAST-MODIFIED:20251015T153538Z
UID:10001653-1761264000-1761523199@resonateatlanta.org
SUMMARY:Women's Retreat 2025
DESCRIPTION:Step away from the noise of everyday life and take a weekend to reconnect—with God and with one another. Our annual Women’s Retreat is a time to rest\, reflect\, and be refreshed in community. \nThrough guided group gatherings\, personal time with God\, and plenty of space for fun\, laughter\, and connection\, this retreat is designed to nourish both your soul and your relationships. Whether you’re new to Resonate or have been here for years\, this weekend is for you. \nLocation: Fort Mountain Retreat & Conference CenterDates: Friday\, October 24 – Sunday\, October 26Meals included: Friday dinner through Sunday breakfast \nLodging Options: \nSingle Room (private): $280 per person\nDouble Room (own bed in shared two person room): $210 per person\nQuad Room (shared room with three others\, queen beds): $160 per person \nScholarships are available.Email sarah@resonateatlanta.org to inquire.
URL:https://resonateatlanta.org/event/womens-retreat-2025/
LOCATION:Fort Mountain Retreat & Conference Center\, 40 Blackhawk Trail\, Chatsworth\, 30705\, United States
CATEGORIES:Women
ATTACH;FMTTYPE=image/png:https://resonateatlanta.org/wp-content/uploads/2025/07/womens-retreat.png
ORGANIZER;CN="Sarah Pascual":MAILTO:sarah@resonateatlanta.org
END:VEVENT
BEGIN:VEVENT
DTSTART;VALUE=DATE:20250910
DTEND;VALUE=DATE:20250911
DTSTAMP:20260417T185025
CREATED:20250722T123101Z
LAST-MODIFIED:20250904T151734Z
UID:10001655-1757462400-1757548799@resonateatlanta.org
SUMMARY:Wednesday Classes
DESCRIPTION:Come grow in your faith this fall through midweek classes at Resonate Church. Whether you’re exploring Scripture deeply or looking for age-specific discipleship opportunities for your kids\, there’s a place for everyone. \nAdult Bible Study: Acts Part 1\nTeachers: Sarah Pascual & Jonathan Potter\nDates: Sept 3 – Nov 19 (11 weeks\, no class 10/15)Times: Wednesdays\, 9:30-11am (Women only) and 6:30–8:00pm (Men & Women)Cost: $20 (includes materials)Dive into the first half of the book of Acts (chapters 1–12) through guided homework\, small group discussion\, and live teaching. This study is designed to deepen your understanding of how the church began and what it means to be Spirit-empowered witnesses today. \nElementary Bible Study\nTeachers: Danielle Boultinghouse & Laura YawnTime: Wednesdays\, 6:30–8:00pmThis engaging and interactive class is designed for 2nd–5th grade students. Registration priority will be given to children whose parents are participating in a class. \nChildcare\nChildcare is available during the adult Bible studies for infants through 1st grade.Cost for 11 weeks: $90 for one child | $135 for two or more children
URL:https://resonateatlanta.org/event/wednesday-classes/
LOCATION:Resonate Church\, 3433 Memorial Drive\, Decatur\, GA\, 30032\, United States
CATEGORIES:Education,Men,Women
ATTACH;FMTTYPE=image/png:https://resonateatlanta.org/wp-content/uploads/2025/07/wednesdaystudysite.png
ORGANIZER;CN="Sarah Pascual":MAILTO:sarah@resonateatlanta.org
END:VEVENT
BEGIN:VEVENT
DTSTART;TZID=America/New_York:20250906T090000
DTEND;TZID=America/New_York:20250906T110000
DTSTAMP:20260417T185025
CREATED:20250709T184908Z
LAST-MODIFIED:20250709T185316Z
UID:10001652-1757149200-1757156400@resonateatlanta.org
SUMMARY:Soul Care Retreat: Ordinary Time
DESCRIPTION:Join us for a two-hour guided silent retreat in the beauty of Friendship Forest. This time of stillness is designed to help you pause\, reflect\, and listen for the voice of God during the often-overlooked liturgical season of Ordinary Time. Whether you feel weary\, distracted\, or spiritually dry\, come encounter God in the quiet. \nSpots are limited—register soon. Click here to register!
URL:https://resonateatlanta.org/event/soul-care-retreat-ordinary-time/
LOCATION:Friendship Forest\, 4380 E Ponce de Leon Ave\, Clarkston\, 30021\, United States
CATEGORIES:Spiritual Formation
ATTACH;FMTTYPE=image/png:https://resonateatlanta.org/wp-content/uploads/2025/07/retreat.png
ORGANIZER;CN="Sarah Pascual":MAILTO:sarah@resonateatlanta.org
END:VEVENT
BEGIN:VEVENT
DTSTART;TZID=America/New_York:20250730T183000
DTEND;TZID=America/New_York:20250730T200000
DTSTAMP:20260417T185025
CREATED:20250423T154047Z
LAST-MODIFIED:20250423T154047Z
UID:10001590-1753900200-1753905600@resonateatlanta.org
SUMMARY:Women's Summer Book Study
DESCRIPTION:This summer\, join other women from Resonate for a relaxed and meaningful book study on None Like Him by Jen Wilkin. We’ll gather weekly on the back patio at Opo Coffee to discuss how God’s character shapes our lives. Each chapter is stand-alone\, so come when you can—no pressure to attend every week.
URL:https://resonateatlanta.org/event/womens-summer-book-study/2025-07-30/
LOCATION:Opo Coffee\, 314 E Howard Ave\, Decatur\, GA\, 30030\, United States
CATEGORIES:Education,Women
ATTACH;FMTTYPE=image/png:https://resonateatlanta.org/wp-content/uploads/2025/04/womens-summer-study.png
ORGANIZER;CN="Sarah Pascual":MAILTO:sarah@resonateatlanta.org
END:VEVENT
BEGIN:VEVENT
DTSTART;TZID=America/New_York:20250723T183000
DTEND;TZID=America/New_York:20250723T200000
DTSTAMP:20260417T185025
CREATED:20250423T154047Z
LAST-MODIFIED:20250423T154047Z
UID:10001589-1753295400-1753300800@resonateatlanta.org
SUMMARY:Women's Summer Book Study
DESCRIPTION:This summer\, join other women from Resonate for a relaxed and meaningful book study on None Like Him by Jen Wilkin. We’ll gather weekly on the back patio at Opo Coffee to discuss how God’s character shapes our lives. Each chapter is stand-alone\, so come when you can—no pressure to attend every week.
URL:https://resonateatlanta.org/event/womens-summer-book-study/2025-07-23/
LOCATION:Opo Coffee\, 314 E Howard Ave\, Decatur\, GA\, 30030\, United States
CATEGORIES:Education,Women
ATTACH;FMTTYPE=image/png:https://resonateatlanta.org/wp-content/uploads/2025/04/womens-summer-study.png
ORGANIZER;CN="Sarah Pascual":MAILTO:sarah@resonateatlanta.org
END:VEVENT
BEGIN:VEVENT
DTSTART;TZID=America/New_York:20250716T183000
DTEND;TZID=America/New_York:20250716T200000
DTSTAMP:20260417T185025
CREATED:20250423T154047Z
LAST-MODIFIED:20250423T154047Z
UID:10001588-1752690600-1752696000@resonateatlanta.org
SUMMARY:Women's Summer Book Study
DESCRIPTION:This summer\, join other women from Resonate for a relaxed and meaningful book study on None Like Him by Jen Wilkin. We’ll gather weekly on the back patio at Opo Coffee to discuss how God’s character shapes our lives. Each chapter is stand-alone\, so come when you can—no pressure to attend every week.
URL:https://resonateatlanta.org/event/womens-summer-book-study/2025-07-16/
LOCATION:Opo Coffee\, 314 E Howard Ave\, Decatur\, GA\, 30030\, United States
CATEGORIES:Education,Women
ATTACH;FMTTYPE=image/png:https://resonateatlanta.org/wp-content/uploads/2025/04/womens-summer-study.png
ORGANIZER;CN="Sarah Pascual":MAILTO:sarah@resonateatlanta.org
END:VEVENT
BEGIN:VEVENT
DTSTART;TZID=America/New_York:20250709T183000
DTEND;TZID=America/New_York:20250709T200000
DTSTAMP:20260417T185025
CREATED:20250423T154047Z
LAST-MODIFIED:20250423T154047Z
UID:10001587-1752085800-1752091200@resonateatlanta.org
SUMMARY:Women's Summer Book Study
DESCRIPTION:This summer\, join other women from Resonate for a relaxed and meaningful book study on None Like Him by Jen Wilkin. We’ll gather weekly on the back patio at Opo Coffee to discuss how God’s character shapes our lives. Each chapter is stand-alone\, so come when you can—no pressure to attend every week.
URL:https://resonateatlanta.org/event/womens-summer-book-study/2025-07-09/
LOCATION:Opo Coffee\, 314 E Howard Ave\, Decatur\, GA\, 30030\, United States
CATEGORIES:Education,Women
ATTACH;FMTTYPE=image/png:https://resonateatlanta.org/wp-content/uploads/2025/04/womens-summer-study.png
ORGANIZER;CN="Sarah Pascual":MAILTO:sarah@resonateatlanta.org
END:VEVENT
BEGIN:VEVENT
DTSTART;TZID=America/New_York:20250702T183000
DTEND;TZID=America/New_York:20250702T200000
DTSTAMP:20260417T185025
CREATED:20250423T154047Z
LAST-MODIFIED:20250423T154047Z
UID:10001586-1751481000-1751486400@resonateatlanta.org
SUMMARY:Women's Summer Book Study
DESCRIPTION:This summer\, join other women from Resonate for a relaxed and meaningful book study on None Like Him by Jen Wilkin. We’ll gather weekly on the back patio at Opo Coffee to discuss how God’s character shapes our lives. Each chapter is stand-alone\, so come when you can—no pressure to attend every week.
URL:https://resonateatlanta.org/event/womens-summer-book-study/2025-07-02/
LOCATION:Opo Coffee\, 314 E Howard Ave\, Decatur\, GA\, 30030\, United States
CATEGORIES:Education,Women
ATTACH;FMTTYPE=image/png:https://resonateatlanta.org/wp-content/uploads/2025/04/womens-summer-study.png
ORGANIZER;CN="Sarah Pascual":MAILTO:sarah@resonateatlanta.org
END:VEVENT
BEGIN:VEVENT
DTSTART;TZID=America/New_York:20250625T183000
DTEND;TZID=America/New_York:20250625T200000
DTSTAMP:20260417T185025
CREATED:20250423T154047Z
LAST-MODIFIED:20250423T154047Z
UID:10001585-1750876200-1750881600@resonateatlanta.org
SUMMARY:Women's Summer Book Study
DESCRIPTION:This summer\, join other women from Resonate for a relaxed and meaningful book study on None Like Him by Jen Wilkin. We’ll gather weekly on the back patio at Opo Coffee to discuss how God’s character shapes our lives. Each chapter is stand-alone\, so come when you can—no pressure to attend every week.
URL:https://resonateatlanta.org/event/womens-summer-book-study/2025-06-25/
LOCATION:Opo Coffee\, 314 E Howard Ave\, Decatur\, GA\, 30030\, United States
CATEGORIES:Education,Women
ATTACH;FMTTYPE=image/png:https://resonateatlanta.org/wp-content/uploads/2025/04/womens-summer-study.png
ORGANIZER;CN="Sarah Pascual":MAILTO:sarah@resonateatlanta.org
END:VEVENT
BEGIN:VEVENT
DTSTART;TZID=America/New_York:20250618T183000
DTEND;TZID=America/New_York:20250618T200000
DTSTAMP:20260417T185025
CREATED:20250423T154047Z
LAST-MODIFIED:20250423T154047Z
UID:10001584-1750271400-1750276800@resonateatlanta.org
SUMMARY:Women's Summer Book Study
DESCRIPTION:This summer\, join other women from Resonate for a relaxed and meaningful book study on None Like Him by Jen Wilkin. We’ll gather weekly on the back patio at Opo Coffee to discuss how God’s character shapes our lives. Each chapter is stand-alone\, so come when you can—no pressure to attend every week.
URL:https://resonateatlanta.org/event/womens-summer-book-study/2025-06-18/
LOCATION:Opo Coffee\, 314 E Howard Ave\, Decatur\, GA\, 30030\, United States
CATEGORIES:Education,Women
ATTACH;FMTTYPE=image/png:https://resonateatlanta.org/wp-content/uploads/2025/04/womens-summer-study.png
ORGANIZER;CN="Sarah Pascual":MAILTO:sarah@resonateatlanta.org
END:VEVENT
BEGIN:VEVENT
DTSTART;TZID=America/New_York:20250611T183000
DTEND;TZID=America/New_York:20250611T200000
DTSTAMP:20260417T185025
CREATED:20250423T154047Z
LAST-MODIFIED:20250423T154047Z
UID:10001583-1749666600-1749672000@resonateatlanta.org
SUMMARY:Women's Summer Book Study
DESCRIPTION:This summer\, join other women from Resonate for a relaxed and meaningful book study on None Like Him by Jen Wilkin. We’ll gather weekly on the back patio at Opo Coffee to discuss how God’s character shapes our lives. Each chapter is stand-alone\, so come when you can—no pressure to attend every week.
URL:https://resonateatlanta.org/event/womens-summer-book-study/2025-06-11/
LOCATION:Opo Coffee\, 314 E Howard Ave\, Decatur\, GA\, 30030\, United States
CATEGORIES:Education,Women
ATTACH;FMTTYPE=image/png:https://resonateatlanta.org/wp-content/uploads/2025/04/womens-summer-study.png
ORGANIZER;CN="Sarah Pascual":MAILTO:sarah@resonateatlanta.org
END:VEVENT
BEGIN:VEVENT
DTSTART;TZID=America/New_York:20250604T183000
DTEND;TZID=America/New_York:20250604T200000
DTSTAMP:20260417T185025
CREATED:20250423T154047Z
LAST-MODIFIED:20250423T154047Z
UID:10001582-1749061800-1749067200@resonateatlanta.org
SUMMARY:Women's Summer Book Study
DESCRIPTION:This summer\, join other women from Resonate for a relaxed and meaningful book study on None Like Him by Jen Wilkin. We’ll gather weekly on the back patio at Opo Coffee to discuss how God’s character shapes our lives. Each chapter is stand-alone\, so come when you can—no pressure to attend every week.
URL:https://resonateatlanta.org/event/womens-summer-book-study/2025-06-04/
LOCATION:Opo Coffee\, 314 E Howard Ave\, Decatur\, GA\, 30030\, United States
CATEGORIES:Education,Women
ATTACH;FMTTYPE=image/png:https://resonateatlanta.org/wp-content/uploads/2025/04/womens-summer-study.png
ORGANIZER;CN="Sarah Pascual":MAILTO:sarah@resonateatlanta.org
END:VEVENT
BEGIN:VEVENT
DTSTART;VALUE=DATE:20250413
DTEND;VALUE=DATE:20250420
DTSTAMP:20260417T185025
CREATED:20250407T175433Z
LAST-MODIFIED:20250407T180537Z
UID:10001576-1744502400-1745107199@resonateatlanta.org
SUMMARY:Prayer Labyrinth
DESCRIPTION:A prayer labyrinth is a path meant to offer a physical component to a prayer time\, similar to a prayer walk. We will have a labyrinth set up in Resonate’s outdoor space throughout Holy Week for individuals or groups to drop in and pray through the labyrinth. There will be a printed prayer guide at the Labyrinth for you to follow. You can enter the courtyard through the gate door using the code 3433. Be sure to lock the gate behind you and after you leave.
URL:https://resonateatlanta.org/event/prayer-labyrinth/
LOCATION:Resonate Church\, 3433 Memorial Drive\, Decatur\, GA\, 30032\, United States
CATEGORIES:Spiritual Formation
ATTACH;FMTTYPE=image/png:https://resonateatlanta.org/wp-content/uploads/2025/04/labrynth.png
ORGANIZER;CN="Sarah Pascual":MAILTO:sarah@resonateatlanta.org
END:VEVENT
BEGIN:VEVENT
DTSTART;VALUE=DATE:20250122
DTEND;VALUE=DATE:20250123
DTSTAMP:20260417T185025
CREATED:20250119T032644Z
LAST-MODIFIED:20250722T205356Z
UID:10001280-1737504000-1737590399@resonateatlanta.org
SUMMARY:Beginning of Wednesday Classes
DESCRIPTION:This winter\, Resonate Church will be offering the following classes: \n\n\n1 Corinthians Bible Study\nTeacher: Sarah Pascual\nDates: Wednesdays 1/22-4/2 (10 weeks\, no class 2/19)\nTime: 9:30-11am (women only)\nTime: 6:30-8pm (men & women)\nAn in-depth study of First Corinthians. The study includes homework\, small group discussion\, and teaching.\nElementary Bible Study\nTeachers: Danielle Boultinghouse & Laura Yawn\nDates: Wednesdays 1/22-4/2 (10 weeks\, no class 2/19)\nTime: 6:30-8pm \nThis interactive class is for 2nd-5th grade children. Registration priority will be given to children whose parents are also attending a class.\n\n\nChildcare will be available for adults attending the Bible Study. \nPlease submit this form once for each class you would like to register for.
URL:https://resonateatlanta.org/event/beginning-of-wednesday-classes/
LOCATION:Resonate Church\, 3433 Memorial Drive\, Decatur\, GA\, 30032\, United States
CATEGORIES:Education,Men,Women,Youth + Kids
ATTACH;FMTTYPE=image/jpeg:https://resonateatlanta.org/wp-content/uploads/2025/01/k-199-chim-0006wf-2023-11-27-05-27-47-utc-scaled.jpg
ORGANIZER;CN="Sarah Pascual":MAILTO:sarah@resonateatlanta.org
END:VEVENT
BEGIN:VEVENT
DTSTART;TZID=America/New_York:20241117T180000
DTEND;TZID=America/New_York:20241117T193000
DTSTAMP:20260417T185025
CREATED:20230726T170254Z
LAST-MODIFIED:20241003T154814Z
UID:10000835-1731866400-1731871800@resonateatlanta.org
SUMMARY:Women in the Window Volunteer Interest Meeting
DESCRIPTION:Women in the Window Intl. is a ministry that serves Christian women in the 10/40 window through providing Biblically-based trainings\, both online and in-person. Jenny from Bangladesh will be sharing about her experience teaching and training women in her country. Join us on Sunday evening to learn more about the ministry and how to get involved. Refreshments will be provided.
URL:https://resonateatlanta.org/event/women-in-the-window-volunteer-interest-meeting/
LOCATION:Resonate Church\, 3433 Memorial Drive\, Decatur\, GA\, 30032\, United States
CATEGORIES:Education,Outreach,Women
ATTACH;FMTTYPE=image/png:https://resonateatlanta.org/wp-content/uploads/2023/07/WITW-logo-retina.png
END:VEVENT
END:VCALENDAR