BEGIN:VCALENDAR
VERSION:2.0
PRODID:-//Resonate Church - ECPv6.15.20//NONSGML v1.0//EN
CALSCALE:GREGORIAN
METHOD:PUBLISH
X-WR-CALNAME:Resonate Church
X-ORIGINAL-URL:https://resonateatlanta.org
X-WR-CALDESC:Events for Resonate Church
REFRESH-INTERVAL;VALUE=DURATION:PT1H
X-Robots-Tag:noindex
X-PUBLISHED-TTL:PT1H
BEGIN:VTIMEZONE
TZID:America/New_York
BEGIN:DAYLIGHT
TZOFFSETFROM:-0500
TZOFFSETTO:-0400
TZNAME:EDT
DTSTART:20240310T070000
END:DAYLIGHT
BEGIN:STANDARD
TZOFFSETFROM:-0400
TZOFFSETTO:-0500
TZNAME:EST
DTSTART:20241103T060000
END:STANDARD
BEGIN:DAYLIGHT
TZOFFSETFROM:-0500
TZOFFSETTO:-0400
TZNAME:EDT
DTSTART:20250309T070000
END:DAYLIGHT
BEGIN:STANDARD
TZOFFSETFROM:-0400
TZOFFSETTO:-0500
TZNAME:EST
DTSTART:20251102T060000
END:STANDARD
BEGIN:DAYLIGHT
TZOFFSETFROM:-0500
TZOFFSETTO:-0400
TZNAME:EDT
DTSTART:20260308T070000
END:DAYLIGHT
BEGIN:STANDARD
TZOFFSETFROM:-0400
TZOFFSETTO:-0500
TZNAME:EST
DTSTART:20261101T060000
END:STANDARD
END:VTIMEZONE
BEGIN:VEVENT
DTSTART;TZID=America/New_York:20250723T110000
DTEND;TZID=America/New_York:20250723T130000
DTSTAMP:20260420T162126
CREATED:20250721T163054Z
LAST-MODIFIED:20250721T163054Z
UID:10001654-1753268400-1753275600@resonateatlanta.org
SUMMARY:Shout Pool Party
DESCRIPTION:Pool Party This Wednesday!\nJoin us at Milam Park in Clarkston from 11:00 AM to 1:00 PM for a summer pool party! We’ll start with pizza in the pavilion\, then head to the pool for some fun in the sun. \nBring a friend!\nCost: $4 for Clarkston teen residents\, $5 for non-residents.
URL:https://resonateatlanta.org/event/shout-pool-party/
LOCATION:Milam Park\, 3867 Norman Rd\, Clarkston\, 30021\, United States
CATEGORIES:Youth + Kids
ORGANIZER;CN="Noah Nemni":MAILTO:noah@resonateatlanta.org
END:VEVENT
END:VCALENDAR