BEGIN:VCALENDAR
VERSION:2.0
PRODID:-//Resonate Church - ECPv6.15.20//NONSGML v1.0//EN
CALSCALE:GREGORIAN
METHOD:PUBLISH
X-WR-CALNAME:Resonate Church
X-ORIGINAL-URL:https://resonateatlanta.org
X-WR-CALDESC:Events for Resonate Church
REFRESH-INTERVAL;VALUE=DURATION:PT1H
X-Robots-Tag:noindex
X-PUBLISHED-TTL:PT1H
BEGIN:VTIMEZONE
TZID:America/New_York
BEGIN:DAYLIGHT
TZOFFSETFROM:-0500
TZOFFSETTO:-0400
TZNAME:EDT
DTSTART:20230312T070000
END:DAYLIGHT
BEGIN:STANDARD
TZOFFSETFROM:-0400
TZOFFSETTO:-0500
TZNAME:EST
DTSTART:20231105T060000
END:STANDARD
BEGIN:DAYLIGHT
TZOFFSETFROM:-0500
TZOFFSETTO:-0400
TZNAME:EDT
DTSTART:20240310T070000
END:DAYLIGHT
BEGIN:STANDARD
TZOFFSETFROM:-0400
TZOFFSETTO:-0500
TZNAME:EST
DTSTART:20241103T060000
END:STANDARD
BEGIN:DAYLIGHT
TZOFFSETFROM:-0500
TZOFFSETTO:-0400
TZNAME:EDT
DTSTART:20250309T070000
END:DAYLIGHT
BEGIN:STANDARD
TZOFFSETFROM:-0400
TZOFFSETTO:-0500
TZNAME:EST
DTSTART:20251102T060000
END:STANDARD
BEGIN:DAYLIGHT
TZOFFSETFROM:-0500
TZOFFSETTO:-0400
TZNAME:EDT
DTSTART:20260308T070000
END:DAYLIGHT
BEGIN:STANDARD
TZOFFSETFROM:-0400
TZOFFSETTO:-0500
TZNAME:EST
DTSTART:20261101T060000
END:STANDARD
END:VTIMEZONE
BEGIN:VEVENT
DTSTART;TZID=America/New_York:20250305T173000
DTEND;TZID=America/New_York:20250305T180000
DTSTAMP:20260424T014703
CREATED:20250119T025606Z
LAST-MODIFIED:20250212T192033Z
UID:10001298-1741195800-1741197600@resonateatlanta.org
SUMMARY:Ash Wednesday Service
DESCRIPTION:Ash Wednesday marks the first day of Lent. We’ll gather for a brief service that will include musical worship\, prayer\, and the receiving of ashes.
URL:https://resonateatlanta.org/event/ash-wednesday/2025-03-05/2/
LOCATION:Resonate Church\, 3433 Memorial Drive\, Decatur\, GA\, 30032\, United States
CATEGORIES:Community
ATTACH;FMTTYPE=image/png:https://resonateatlanta.org/wp-content/uploads/2025/01/logo.png
END:VEVENT
BEGIN:VEVENT
DTSTART;TZID=America/New_York:20250305T120000
DTEND;TZID=America/New_York:20250305T123000
DTSTAMP:20260424T014703
CREATED:20250119T025606Z
LAST-MODIFIED:20250212T192033Z
UID:10001274-1741176000-1741177800@resonateatlanta.org
SUMMARY:Ash Wednesday Service
DESCRIPTION:Ash Wednesday marks the first day of Lent. We’ll gather for a brief service that will include musical worship\, prayer\, and the receiving of ashes.
URL:https://resonateatlanta.org/event/ash-wednesday/2025-03-05/1/
LOCATION:Resonate Church\, 3433 Memorial Drive\, Decatur\, GA\, 30032\, United States
CATEGORIES:Community
ATTACH;FMTTYPE=image/png:https://resonateatlanta.org/wp-content/uploads/2025/01/logo.png
END:VEVENT
BEGIN:VEVENT
DTSTART;TZID=America/New_York:20250223T090000
DTEND;TZID=America/New_York:20250223T120000
DTSTAMP:20260424T014703
CREATED:20250119T031222Z
LAST-MODIFIED:20250119T031337Z
UID:10001278-1740301200-1740312000@resonateatlanta.org
SUMMARY:Missions Sundays
DESCRIPTION:Our kids will explore God’s love for the nations by learning from missionaries in our church and hearing about four different countries!
URL:https://resonateatlanta.org/event/missions-sundays/2025-02-23/
LOCATION:Resonate Church\, 3433 Memorial Drive\, Decatur\, GA\, 30032\, United States
CATEGORIES:Youth + Kids
ATTACH;FMTTYPE=image/png:https://resonateatlanta.org/wp-content/uploads/2025/01/missions-sundays.png
ORGANIZER;CN="Danielle Boultinghouse":MAILTO:danielle@resonateatlanta.org
END:VEVENT
BEGIN:VEVENT
DTSTART;TZID=America/New_York:20250216T090000
DTEND;TZID=America/New_York:20250216T120000
DTSTAMP:20260424T014703
CREATED:20250119T031222Z
LAST-MODIFIED:20250119T031337Z
UID:10001277-1739696400-1739707200@resonateatlanta.org
SUMMARY:Missions Sundays
DESCRIPTION:Our kids will explore God’s love for the nations by learning from missionaries in our church and hearing about four different countries!
URL:https://resonateatlanta.org/event/missions-sundays/2025-02-16/
LOCATION:Resonate Church\, 3433 Memorial Drive\, Decatur\, GA\, 30032\, United States
CATEGORIES:Youth + Kids
ATTACH;FMTTYPE=image/png:https://resonateatlanta.org/wp-content/uploads/2025/01/missions-sundays.png
ORGANIZER;CN="Danielle Boultinghouse":MAILTO:danielle@resonateatlanta.org
END:VEVENT
BEGIN:VEVENT
DTSTART;TZID=America/New_York:20250126T183000
DTEND;TZID=America/New_York:20250126T200000
DTSTAMP:20260424T014703
CREATED:20250119T032113Z
LAST-MODIFIED:20250119T032113Z
UID:10001279-1737916200-1737921600@resonateatlanta.org
SUMMARY:Partnership Class
DESCRIPTION:There are more than 2\,000 churches in the Atlanta-metro area. If Resonate Church is the one that feels like home to you\, we invite you to go “all in” with us and become a Resonate Partner.
URL:https://resonateatlanta.org/event/partnership-class/
LOCATION:Resonate Church\, 3433 Memorial Drive\, Decatur\, GA\, 30032\, United States
CATEGORIES:Education,Newcomers
ATTACH;FMTTYPE=image/png:https://resonateatlanta.org/wp-content/uploads/2025/01/partnership.png
END:VEVENT
BEGIN:VEVENT
DTSTART;VALUE=DATE:20250122
DTEND;VALUE=DATE:20250123
DTSTAMP:20260424T014703
CREATED:20250119T032644Z
LAST-MODIFIED:20250722T205356Z
UID:10001280-1737504000-1737590399@resonateatlanta.org
SUMMARY:Beginning of Wednesday Classes
DESCRIPTION:This winter\, Resonate Church will be offering the following classes: \n\n\n1 Corinthians Bible Study\nTeacher: Sarah Pascual\nDates: Wednesdays 1/22-4/2 (10 weeks\, no class 2/19)\nTime: 9:30-11am (women only)\nTime: 6:30-8pm (men & women)\nAn in-depth study of First Corinthians. The study includes homework\, small group discussion\, and teaching.\nElementary Bible Study\nTeachers: Danielle Boultinghouse & Laura Yawn\nDates: Wednesdays 1/22-4/2 (10 weeks\, no class 2/19)\nTime: 6:30-8pm \nThis interactive class is for 2nd-5th grade children. Registration priority will be given to children whose parents are also attending a class.\n\n\nChildcare will be available for adults attending the Bible Study. \nPlease submit this form once for each class you would like to register for.
URL:https://resonateatlanta.org/event/beginning-of-wednesday-classes/
LOCATION:Resonate Church\, 3433 Memorial Drive\, Decatur\, GA\, 30032\, United States
CATEGORIES:Education,Men,Women,Youth + Kids
ATTACH;FMTTYPE=image/jpeg:https://resonateatlanta.org/wp-content/uploads/2025/01/k-199-chim-0006wf-2023-11-27-05-27-47-utc-scaled.jpg
ORGANIZER;CN="Sarah Pascual":MAILTO:sarah@resonateatlanta.org
END:VEVENT
BEGIN:VEVENT
DTSTART;TZID=America/New_York:20250112T104500
DTEND;TZID=America/New_York:20250112T121500
DTSTAMP:20260424T014703
CREATED:20231125T210210Z
LAST-MODIFIED:20241203T174135Z
UID:10001130-1736678700-1736684100@resonateatlanta.org
SUMMARY:Start of Winter Classes
DESCRIPTION:Discover a deeper understanding of faith with our three captivating winter classes at our church: \n\nThe Practice of Prayer Class (3 weeks\, 1/12 – 1/26)\nSunday mornings @ 10:45am\n1 Corinthians Bible Study (10 weeks\, 1/22 – 4/2\, no class 2/19)\nWednesday mornings @ 9am (women only)\nWednesday evenings @ 6:30pm (all adults)\nElementary Bible Study (10 weeks\, 1/22 – 4/2\, no class 2/19)\nWednesday evenings @ 6:30pm (2nd-5th grade students)\n\nRegister Today!
URL:https://resonateatlanta.org/event/start-of-winter-classes/
LOCATION:Resonate Church\, 3433 Memorial Drive\, Decatur\, GA\, 30032\, United States
CATEGORIES:Education
ATTACH;FMTTYPE=image/png:https://resonateatlanta.org/wp-content/uploads/2023/06/classes.png
END:VEVENT
BEGIN:VEVENT
DTSTART;TZID=America/New_York:20241224T170000
DTEND;TZID=America/New_York:20241224T180000
DTSTAMP:20260424T014703
CREATED:20231103T003403Z
LAST-MODIFIED:20241203T173216Z
UID:10001126-1735059600-1735063200@resonateatlanta.org
SUMMARY:Christmas Eve Service
DESCRIPTION:Please join us for a special night of celebrating the birth of Christ through songs and Advent reading.
URL:https://resonateatlanta.org/event/christmas-eve-service/
LOCATION:Resonate Church\, 3433 Memorial Drive\, Decatur\, GA\, 30032\, United States
ATTACH;FMTTYPE=image/png:https://resonateatlanta.org/wp-content/uploads/2023/11/christmas-eve-2025.png
END:VEVENT
BEGIN:VEVENT
DTSTART;TZID=America/New_York:20241215T102000
DTEND;TZID=America/New_York:20241215T224500
DTSTAMP:20260424T014703
CREATED:20241203T164750Z
LAST-MODIFIED:20241203T164750Z
UID:10001272-1734258000-1734302700@resonateatlanta.org
SUMMARY:Donuts with Shout
DESCRIPTION:Middle and high schoolers: the Shout team invites you to join us for donuts between the first and second services in the adult classroom. See you there!
URL:https://resonateatlanta.org/event/donuts-with-shout/
LOCATION:Resonate Church\, 3433 Memorial Drive\, Decatur\, GA\, 30032\, United States
CATEGORIES:Youth + Kids
ATTACH;FMTTYPE=image/jpeg:https://resonateatlanta.org/wp-content/uploads/2024/12/donut2.jpg
END:VEVENT
BEGIN:VEVENT
DTSTART;TZID=America/New_York:20241212T090000
DTEND;TZID=America/New_York:20241212T110000
DTSTAMP:20260424T014703
CREATED:20240627T204053Z
LAST-MODIFIED:20240627T204744Z
UID:10001254-1733994000-1734001200@resonateatlanta.org
SUMMARY:Play & Pray Group
DESCRIPTION:Join us as we pray for our kids together on the 2nd and 4th Thursday of the month. Anyone is welcome (not just parents) and kids are welcome to tag along as well. Email danielle@resonateatlanta.org to be added to the Slack channel for consistent updates.
URL:https://resonateatlanta.org/event/play-pray-group-4-2/2024-12-12/
LOCATION:Resonate Church\, 3433 Memorial Drive\, Decatur\, GA\, 30032\, United States
CATEGORIES:Youth + Kids
ATTACH;FMTTYPE=image/jpeg:https://resonateatlanta.org/wp-content/uploads/2023/06/toddler-plays-on-the-floor-2021-08-26-18-36-58-utc-scaled.jpg
END:VEVENT
BEGIN:VEVENT
DTSTART;TZID=America/New_York:20241117T180000
DTEND;TZID=America/New_York:20241117T193000
DTSTAMP:20260424T014703
CREATED:20230726T170254Z
LAST-MODIFIED:20241003T154814Z
UID:10000835-1731866400-1731871800@resonateatlanta.org
SUMMARY:Women in the Window Volunteer Interest Meeting
DESCRIPTION:Women in the Window Intl. is a ministry that serves Christian women in the 10/40 window through providing Biblically-based trainings\, both online and in-person. Jenny from Bangladesh will be sharing about her experience teaching and training women in her country. Join us on Sunday evening to learn more about the ministry and how to get involved. Refreshments will be provided.
URL:https://resonateatlanta.org/event/women-in-the-window-volunteer-interest-meeting/
LOCATION:Resonate Church\, 3433 Memorial Drive\, Decatur\, GA\, 30032\, United States
CATEGORIES:Education,Outreach,Women
ATTACH;FMTTYPE=image/png:https://resonateatlanta.org/wp-content/uploads/2023/07/WITW-logo-retina.png
END:VEVENT
BEGIN:VEVENT
DTSTART;TZID=America/New_York:20241114T090000
DTEND;TZID=America/New_York:20241114T110000
DTSTAMP:20260424T014703
CREATED:20240627T204053Z
LAST-MODIFIED:20240627T204744Z
UID:10001253-1731574800-1731582000@resonateatlanta.org
SUMMARY:Play & Pray Group
DESCRIPTION:Join us as we pray for our kids together on the 2nd and 4th Thursday of the month. Anyone is welcome (not just parents) and kids are welcome to tag along as well. Email danielle@resonateatlanta.org to be added to the Slack channel for consistent updates.
URL:https://resonateatlanta.org/event/play-pray-group-4-2/2024-11-14/
LOCATION:Resonate Church\, 3433 Memorial Drive\, Decatur\, GA\, 30032\, United States
CATEGORIES:Youth + Kids
ATTACH;FMTTYPE=image/jpeg:https://resonateatlanta.org/wp-content/uploads/2023/06/toddler-plays-on-the-floor-2021-08-26-18-36-58-utc-scaled.jpg
END:VEVENT
BEGIN:VEVENT
DTSTART;TZID=America/New_York:20241103T183000
DTEND;TZID=America/New_York:20241103T200000
DTSTAMP:20260424T014703
CREATED:20241003T153958Z
LAST-MODIFIED:20241003T153959Z
UID:10001060-1730658600-1730664000@resonateatlanta.org
SUMMARY:Partnership at Resonate
DESCRIPTION:If you’re interested in membership/partnership at Resonate\, join us for this class about the foundational operations and beliefs of our church community.
URL:https://resonateatlanta.org/event/partnership-at-resonate-2/
LOCATION:Resonate Church\, 3433 Memorial Drive\, Decatur\, GA\, 30032\, United States
CATEGORIES:Community,Education,Newcomers
ATTACH;FMTTYPE=image/png:https://resonateatlanta.org/wp-content/uploads/2020/04/connect.png
END:VEVENT
BEGIN:VEVENT
DTSTART;TZID=America/New_York:20241020T090000
DTEND;TZID=America/New_York:20241020T120000
DTSTAMP:20260424T014703
CREATED:20230827T175722Z
LAST-MODIFIED:20231015T195017Z
UID:10001062-1729414800-1729425600@resonateatlanta.org
SUMMARY:Serve Sunday
DESCRIPTION:Join us on October 22 for Serve Sunday where\, instead of our regular services\, we will work with partner organizations across the city on various beautification\, cleaning and service projects. There will be opportunities for adults and kids. As always\, we will be making blessing bags for people experiencing homelessness and will collect items throughout September and October. Childcare will be provided for babies and toddlers. Teams will meet at Resonate\, head to several serve sites in the community\, and then return to Resonate for a time of sharing and celebration. Sign-up in-person on Sundays or email info@resonateatlanta.org.
URL:https://resonateatlanta.org/event/serve-sunday/2024-10-20/
LOCATION:Resonate Church\, 3433 Memorial Drive\, Decatur\, GA\, 30032\, United States
CATEGORIES:Community,Outreach
ATTACH;FMTTYPE=image/png:https://resonateatlanta.org/wp-content/uploads/2023/06/serve-others-icon.png
END:VEVENT
BEGIN:VEVENT
DTSTART;TZID=America/New_York:20241010T093000
DTEND;TZID=America/New_York:20241010T110000
DTSTAMP:20260424T014703
CREATED:20240627T204053Z
LAST-MODIFIED:20240627T204744Z
UID:10001252-1728552600-1728558000@resonateatlanta.org
SUMMARY:Play & Pray Group
DESCRIPTION:Join us as we pray for our kids together on the 2nd and 4th Thursday of the month. Anyone is welcome (not just parents) and kids are welcome to tag along as well. Email danielle@resonateatlanta.org to be added to the Slack channel for consistent updates.
URL:https://resonateatlanta.org/event/play-pray-group-4-2/2024-10-10/
LOCATION:Resonate Church\, 3433 Memorial Drive\, Decatur\, GA\, 30032\, United States
CATEGORIES:Youth + Kids
ATTACH;FMTTYPE=image/jpeg:https://resonateatlanta.org/wp-content/uploads/2023/06/toddler-plays-on-the-floor-2021-08-26-18-36-58-utc-scaled.jpg
END:VEVENT
BEGIN:VEVENT
DTSTART;TZID=America/New_York:20240929T090000
DTEND;TZID=America/New_York:20240929T120000
DTSTAMP:20260424T014703
CREATED:20231015T182504Z
LAST-MODIFIED:20231015T193935Z
UID:10001055-1727600400-1727611200@resonateatlanta.org
SUMMARY:Generations Sunday
DESCRIPTION:Children preschool age and up are invited to worship and learn alongside the adults in our church family. We will provide childcare for infants and toddlers this week\, but not our teaching classrooms.
URL:https://resonateatlanta.org/event/generations-sunday-2/2024-09-29/
LOCATION:Resonate Church\, 3433 Memorial Drive\, Decatur\, GA\, 30032\, United States
CATEGORIES:Youth + Kids
ATTACH;FMTTYPE=image/jpeg:https://resonateatlanta.org/wp-content/uploads/2023/10/Generations.jpg
END:VEVENT
BEGIN:VEVENT
DTSTART;TZID=America/New_York:20240926T093000
DTEND;TZID=America/New_York:20240926T110000
DTSTAMP:20260424T014703
CREATED:20240627T204304Z
LAST-MODIFIED:20241203T163400Z
UID:10001265-1727343000-1727348400@resonateatlanta.org
SUMMARY:Play & Pray Group
DESCRIPTION:Join us as we pray for our kids together on the 2nd and 4th Thursday of the month. Anyone is welcome (not just parents) and kids are welcome to tag along as well. Email danielle@resonateatlanta.org to be added to the Slack channel for consistent updates.
URL:https://resonateatlanta.org/event/play-pray-group-3-2/2024-09-26/
LOCATION:Resonate Church\, 3433 Memorial Drive\, Decatur\, GA\, 30032\, United States
CATEGORIES:Youth + Kids
ATTACH;FMTTYPE=image/jpeg:https://resonateatlanta.org/wp-content/uploads/2023/06/toddler-plays-on-the-floor-2021-08-26-18-36-58-utc-scaled.jpg
END:VEVENT
BEGIN:VEVENT
DTSTART;TZID=America/New_York:20240912T093000
DTEND;TZID=America/New_York:20240912T110000
DTSTAMP:20260424T014703
CREATED:20240627T204053Z
LAST-MODIFIED:20240627T204744Z
UID:10001251-1726133400-1726138800@resonateatlanta.org
SUMMARY:Play & Pray Group
DESCRIPTION:Join us as we pray for our kids together on the 2nd and 4th Thursday of the month. Anyone is welcome (not just parents) and kids are welcome to tag along as well. Email danielle@resonateatlanta.org to be added to the Slack channel for consistent updates.
URL:https://resonateatlanta.org/event/play-pray-group-4-2/2024-09-12/
LOCATION:Resonate Church\, 3433 Memorial Drive\, Decatur\, GA\, 30032\, United States
CATEGORIES:Youth + Kids
ATTACH;FMTTYPE=image/jpeg:https://resonateatlanta.org/wp-content/uploads/2023/06/toddler-plays-on-the-floor-2021-08-26-18-36-58-utc-scaled.jpg
END:VEVENT
BEGIN:VEVENT
DTSTART;TZID=America/New_York:20240822T093000
DTEND;TZID=America/New_York:20240822T110000
DTSTAMP:20260424T014703
CREATED:20240627T204304Z
LAST-MODIFIED:20241203T163400Z
UID:10000906-1724319000-1724324400@resonateatlanta.org
SUMMARY:Play & Pray Group
DESCRIPTION:Join us as we pray for our kids together on the 2nd and 4th Thursday of the month. Anyone is welcome (not just parents) and kids are welcome to tag along as well. Email danielle@resonateatlanta.org to be added to the Slack channel for consistent updates.
URL:https://resonateatlanta.org/event/play-pray-group-3-2/2024-08-22/
LOCATION:Resonate Church\, 3433 Memorial Drive\, Decatur\, GA\, 30032\, United States
CATEGORIES:Youth + Kids
ATTACH;FMTTYPE=image/jpeg:https://resonateatlanta.org/wp-content/uploads/2023/06/toddler-plays-on-the-floor-2021-08-26-18-36-58-utc-scaled.jpg
END:VEVENT
BEGIN:VEVENT
DTSTART;TZID=America/New_York:20240808T093000
DTEND;TZID=America/New_York:20240808T110000
DTSTAMP:20260424T014703
CREATED:20240627T204053Z
LAST-MODIFIED:20240627T204744Z
UID:10000924-1723109400-1723114800@resonateatlanta.org
SUMMARY:Play & Pray Group
DESCRIPTION:Join us as we pray for our kids together on the 2nd and 4th Thursday of the month. Anyone is welcome (not just parents) and kids are welcome to tag along as well. Email danielle@resonateatlanta.org to be added to the Slack channel for consistent updates.
URL:https://resonateatlanta.org/event/play-pray-group-4-2/2024-08-08/
LOCATION:Resonate Church\, 3433 Memorial Drive\, Decatur\, GA\, 30032\, United States
CATEGORIES:Youth + Kids
ATTACH;FMTTYPE=image/jpeg:https://resonateatlanta.org/wp-content/uploads/2023/06/toddler-plays-on-the-floor-2021-08-26-18-36-58-utc-scaled.jpg
END:VEVENT
BEGIN:VEVENT
DTSTART;TZID=America/New_York:20240630T090000
DTEND;TZID=America/New_York:20240630T120000
DTSTAMP:20260424T014703
CREATED:20231015T182504Z
LAST-MODIFIED:20231015T193935Z
UID:10001054-1719738000-1719748800@resonateatlanta.org
SUMMARY:Generations Sunday
DESCRIPTION:Children preschool age and up are invited to worship and learn alongside the adults in our church family. We will provide childcare for infants and toddlers this week\, but not our teaching classrooms.
URL:https://resonateatlanta.org/event/generations-sunday-2/2024-06-30/
LOCATION:Resonate Church\, 3433 Memorial Drive\, Decatur\, GA\, 30032\, United States
CATEGORIES:Youth + Kids
ATTACH;FMTTYPE=image/jpeg:https://resonateatlanta.org/wp-content/uploads/2023/10/Generations.jpg
END:VEVENT
BEGIN:VEVENT
DTSTART;TZID=America/New_York:20240528T173000
DTEND;TZID=America/New_York:20240528T200000
DTSTAMP:20260424T014703
CREATED:20240502T175440Z
LAST-MODIFIED:20240502T175440Z
UID:10001226-1716917400-1716926400@resonateatlanta.org
SUMMARY:Vacation Bible School (VBS)
DESCRIPTION:Resonate will be hosting a free\, STEM-themed VBS to benefit rising 1st-5th graders living in Belvedere Park neighborhoods from 5:30-8PM on May 28-31 with food provided. Sign-up here and you will be contacted via email if a spot is available for your child.
URL:https://resonateatlanta.org/event/vacation-bible-school-vbs/
LOCATION:Resonate Church\, 3433 Memorial Drive\, Decatur\, GA\, 30032\, United States
ATTACH;FMTTYPE=image/jpeg:https://resonateatlanta.org/wp-content/uploads/2024/05/VBS.jpg
END:VEVENT
BEGIN:VEVENT
DTSTART;TZID=America/New_York:20240526T080000
DTEND;TZID=America/New_York:20240526T170000
DTSTAMP:20260424T014703
CREATED:20240419T210230Z
LAST-MODIFIED:20240419T210230Z
UID:10001215-1716710400-1716742800@resonateatlanta.org
SUMMARY:Outdoor Church
DESCRIPTION:We’re excited for our second annual Outdoor Service and Potluck service. Bring a camp chair or blanket for outdoor seating!
URL:https://resonateatlanta.org/event/outdoor-church/
LOCATION:Resonate Church\, 3433 Memorial Drive\, Decatur\, GA\, 30032\, United States
ATTACH;FMTTYPE=image/png:https://resonateatlanta.org/wp-content/uploads/2023/06/cropped-Dark_Green_Medallion.png
END:VEVENT
BEGIN:VEVENT
DTSTART;TZID=America/New_York:20240505T183000
DTEND;TZID=America/New_York:20240505T200000
DTSTAMP:20260424T014703
CREATED:20230626T141941Z
LAST-MODIFIED:20231015T194827Z
UID:10001059-1714933800-1714939200@resonateatlanta.org
SUMMARY:Partnership at Resonate
DESCRIPTION:If you’re interested in membership/partnership at Resonate\, join us for this class about the foundational operations and beliefs of our church community.
URL:https://resonateatlanta.org/event/partnership-at-resonate/2024-05-05/
LOCATION:Resonate Church\, 3433 Memorial Drive\, Decatur\, GA\, 30032\, United States
CATEGORIES:Community,Education,Newcomers
ATTACH;FMTTYPE=image/png:https://resonateatlanta.org/wp-content/uploads/2020/04/connect.png
END:VEVENT
BEGIN:VEVENT
DTSTART;TZID=America/New_York:20240425T093000
DTEND;TZID=America/New_York:20240425T110000
DTSTAMP:20260424T014703
CREATED:20230806T190705Z
LAST-MODIFIED:20231103T000058Z
UID:10000923-1714037400-1714042800@resonateatlanta.org
SUMMARY:Play & Pray Group
DESCRIPTION:Join us as we pray for our kids together on the 2nd and 4th Thursday of the month. Anyone is welcome (not just parents) and kids are welcome to tag along as well. Email danielle@resonateatlanta.org to be added to the Slack channel for consistent updates.
URL:https://resonateatlanta.org/event/play-pray-group-4/2024-04-25/
LOCATION:Resonate Church\, 3433 Memorial Drive\, Decatur\, GA\, 30032\, United States
CATEGORIES:Youth + Kids
ATTACH;FMTTYPE=image/jpeg:https://resonateatlanta.org/wp-content/uploads/2023/06/toddler-plays-on-the-floor-2021-08-26-18-36-58-utc-scaled.jpg
END:VEVENT
BEGIN:VEVENT
DTSTART;TZID=America/New_York:20240411T093000
DTEND;TZID=America/New_York:20240411T110000
DTSTAMP:20260424T014703
CREATED:20230806T190417Z
LAST-MODIFIED:20231012T163517Z
UID:10000905-1712827800-1712833200@resonateatlanta.org
SUMMARY:Play & Pray Group
DESCRIPTION:Join us as we pray for our kids together on the 2nd and 4th Thursday of the month. Anyone is welcome (not just parents) and kids are welcome to tag along as well. Email danielle@resonateatlanta.org to be added to the Slack channel for consistent updates.
URL:https://resonateatlanta.org/event/play-pray-group-3/2024-04-11/
LOCATION:Resonate Church\, 3433 Memorial Drive\, Decatur\, GA\, 30032\, United States
CATEGORIES:Youth + Kids
ATTACH;FMTTYPE=image/jpeg:https://resonateatlanta.org/wp-content/uploads/2023/06/toddler-plays-on-the-floor-2021-08-26-18-36-58-utc-scaled.jpg
END:VEVENT
BEGIN:VEVENT
DTSTART;TZID=America/New_York:20240328T093000
DTEND;TZID=America/New_York:20240328T110000
DTSTAMP:20260424T014703
CREATED:20230806T190705Z
LAST-MODIFIED:20231103T000058Z
UID:10000922-1711618200-1711623600@resonateatlanta.org
SUMMARY:Play & Pray Group
DESCRIPTION:Join us as we pray for our kids together on the 2nd and 4th Thursday of the month. Anyone is welcome (not just parents) and kids are welcome to tag along as well. Email danielle@resonateatlanta.org to be added to the Slack channel for consistent updates.
URL:https://resonateatlanta.org/event/play-pray-group-4/2024-03-28/
LOCATION:Resonate Church\, 3433 Memorial Drive\, Decatur\, GA\, 30032\, United States
CATEGORIES:Youth + Kids
ATTACH;FMTTYPE=image/jpeg:https://resonateatlanta.org/wp-content/uploads/2023/06/toddler-plays-on-the-floor-2021-08-26-18-36-58-utc-scaled.jpg
END:VEVENT
BEGIN:VEVENT
DTSTART;TZID=America/New_York:20240324T090000
DTEND;TZID=America/New_York:20240324T120000
DTSTAMP:20260424T014703
CREATED:20231015T182504Z
LAST-MODIFIED:20231015T193935Z
UID:10001056-1711270800-1711281600@resonateatlanta.org
SUMMARY:Generations Sunday
DESCRIPTION:Children preschool age and up are invited to worship and learn alongside the adults in our church family. We will provide childcare for infants and toddlers this week\, but not our teaching classrooms.
URL:https://resonateatlanta.org/event/generations-sunday-2/2024-03-24/
LOCATION:Resonate Church\, 3433 Memorial Drive\, Decatur\, GA\, 30032\, United States
CATEGORIES:Youth + Kids
ATTACH;FMTTYPE=image/jpeg:https://resonateatlanta.org/wp-content/uploads/2023/10/Generations.jpg
END:VEVENT
BEGIN:VEVENT
DTSTART;TZID=America/New_York:20240314T093000
DTEND;TZID=America/New_York:20240314T110000
DTSTAMP:20260424T014703
CREATED:20230806T190417Z
LAST-MODIFIED:20231012T163517Z
UID:10000904-1710408600-1710414000@resonateatlanta.org
SUMMARY:Play & Pray Group
DESCRIPTION:Join us as we pray for our kids together on the 2nd and 4th Thursday of the month. Anyone is welcome (not just parents) and kids are welcome to tag along as well. Email danielle@resonateatlanta.org to be added to the Slack channel for consistent updates.
URL:https://resonateatlanta.org/event/play-pray-group-3/2024-03-14/
LOCATION:Resonate Church\, 3433 Memorial Drive\, Decatur\, GA\, 30032\, United States
CATEGORIES:Youth + Kids
ATTACH;FMTTYPE=image/jpeg:https://resonateatlanta.org/wp-content/uploads/2023/06/toddler-plays-on-the-floor-2021-08-26-18-36-58-utc-scaled.jpg
END:VEVENT
BEGIN:VEVENT
DTSTART;TZID=America/New_York:20240222T093000
DTEND;TZID=America/New_York:20240222T110000
DTSTAMP:20260424T014703
CREATED:20230806T190705Z
LAST-MODIFIED:20231103T000058Z
UID:10000921-1708594200-1708599600@resonateatlanta.org
SUMMARY:Play & Pray Group
DESCRIPTION:Join us as we pray for our kids together on the 2nd and 4th Thursday of the month. Anyone is welcome (not just parents) and kids are welcome to tag along as well. Email danielle@resonateatlanta.org to be added to the Slack channel for consistent updates.
URL:https://resonateatlanta.org/event/play-pray-group-4/2024-02-22/
LOCATION:Resonate Church\, 3433 Memorial Drive\, Decatur\, GA\, 30032\, United States
CATEGORIES:Youth + Kids
ATTACH;FMTTYPE=image/jpeg:https://resonateatlanta.org/wp-content/uploads/2023/06/toddler-plays-on-the-floor-2021-08-26-18-36-58-utc-scaled.jpg
END:VEVENT
END:VCALENDAR