BEGIN:VCALENDAR
VERSION:2.0
PRODID:-//Resonate Church - ECPv6.15.20//NONSGML v1.0//EN
CALSCALE:GREGORIAN
METHOD:PUBLISH
X-WR-CALNAME:Resonate Church
X-ORIGINAL-URL:https://resonateatlanta.org
X-WR-CALDESC:Events for Resonate Church
REFRESH-INTERVAL;VALUE=DURATION:PT1H
X-Robots-Tag:noindex
X-PUBLISHED-TTL:PT1H
BEGIN:VTIMEZONE
TZID:America/New_York
BEGIN:DAYLIGHT
TZOFFSETFROM:-0500
TZOFFSETTO:-0400
TZNAME:EDT
DTSTART:20220313T070000
END:DAYLIGHT
BEGIN:STANDARD
TZOFFSETFROM:-0400
TZOFFSETTO:-0500
TZNAME:EST
DTSTART:20221106T060000
END:STANDARD
BEGIN:DAYLIGHT
TZOFFSETFROM:-0500
TZOFFSETTO:-0400
TZNAME:EDT
DTSTART:20230312T070000
END:DAYLIGHT
BEGIN:STANDARD
TZOFFSETFROM:-0400
TZOFFSETTO:-0500
TZNAME:EST
DTSTART:20231105T060000
END:STANDARD
BEGIN:DAYLIGHT
TZOFFSETFROM:-0500
TZOFFSETTO:-0400
TZNAME:EDT
DTSTART:20240310T070000
END:DAYLIGHT
BEGIN:STANDARD
TZOFFSETFROM:-0400
TZOFFSETTO:-0500
TZNAME:EST
DTSTART:20241103T060000
END:STANDARD
END:VTIMEZONE
BEGIN:VEVENT
DTSTART;TZID=America/New_York:20230914T093000
DTEND;TZID=America/New_York:20230914T110000
DTSTAMP:20260424T235358
CREATED:20230806T190417Z
LAST-MODIFIED:20231012T163517Z
UID:10000898-1694683800-1694689200@resonateatlanta.org
SUMMARY:Play & Pray Group
DESCRIPTION:Join us as we pray for our kids together on the 2nd and 4th Thursday of the month. Anyone is welcome (not just parents) and kids are welcome to tag along as well. Email danielle@resonateatlanta.org to be added to the Slack channel for consistent updates.
URL:https://resonateatlanta.org/event/play-pray-group-3/2023-09-14/
LOCATION:Resonate Church\, 3433 Memorial Drive\, Decatur\, GA\, 30032\, United States
CATEGORIES:Youth + Kids
ATTACH;FMTTYPE=image/jpeg:https://resonateatlanta.org/wp-content/uploads/2023/06/toddler-plays-on-the-floor-2021-08-26-18-36-58-utc-scaled.jpg
END:VEVENT
BEGIN:VEVENT
DTSTART;TZID=America/New_York:20230906T183000
DTEND;TZID=America/New_York:20230906T200000
DTSTAMP:20260424T235358
CREATED:20230626T144703Z
LAST-MODIFIED:20231012T163251Z
UID:10000832-1694025000-1694030400@resonateatlanta.org
SUMMARY:Start of Fall Classes
DESCRIPTION:Discover a deeper understanding of faith with our three captivating fall classes at our church. Delve into the wisdom of the Bible through our “1 Peter Bible Study\,” exploring themes of exile\, suffering\, doing good\, and hope. Uncover the roots of Christian life in “Christians after the New Testament\,” tracing early Christian history and thought for the first few centuries beyond the New Testament. Elevate your spiritual connection with “Prayer\,” as you learn and practice various forms of personal and corporate prayer. Whether you seek a profound grasp of scripture\, insights into early Christianity\, or a richer prayer life\, these classes are designed for anyone in our church ready to embark on a journey of spiritual growth and knowledge. Join us this fall and strengthen your faith in a welcoming and nurturing community. \nRegister Today!
URL:https://resonateatlanta.org/event/start-of-fall-classes/
LOCATION:Resonate Church\, 3433 Memorial Drive\, Decatur\, GA\, 30032\, United States
CATEGORIES:Education
ATTACH;FMTTYPE=image/png:https://resonateatlanta.org/wp-content/uploads/2023/06/classes.png
END:VEVENT
BEGIN:VEVENT
DTSTART;TZID=America/New_York:20230827T183000
DTEND;TZID=America/New_York:20230827T200000
DTSTAMP:20260424T235358
CREATED:20230626T141941Z
LAST-MODIFIED:20231015T194827Z
UID:10000771-1693161000-1693166400@resonateatlanta.org
SUMMARY:Partnership at Resonate
DESCRIPTION:If you’re interested in membership/partnership at Resonate\, join us for this class about the foundational operations and beliefs of our church community.
URL:https://resonateatlanta.org/event/partnership-at-resonate/2023-08-27/
LOCATION:Resonate Church\, 3433 Memorial Drive\, Decatur\, GA\, 30032\, United States
CATEGORIES:Community,Education,Newcomers
ATTACH;FMTTYPE=image/png:https://resonateatlanta.org/wp-content/uploads/2020/04/connect.png
END:VEVENT
BEGIN:VEVENT
DTSTART;TZID=America/New_York:20230702T090000
DTEND;TZID=America/New_York:20230702T120000
DTSTAMP:20260424T235358
CREATED:20230626T204723Z
LAST-MODIFIED:20231012T163653Z
UID:10000833-1688288400-1688299200@resonateatlanta.org
SUMMARY:Generations Sunday
DESCRIPTION:Children preschool age and up are invited to worship and learn alongside the adults in our church family. We will provide childcare for infants and toddlers this week\, but not our teaching classrooms.
URL:https://resonateatlanta.org/event/generations-sunday/
LOCATION:Resonate Church\, 3433 Memorial Drive\, Decatur\, GA\, 30032\, United States
CATEGORIES:Youth + Kids
ATTACH;FMTTYPE=image/png:https://resonateatlanta.org/wp-content/uploads/2023/06/GenerationsSunday.png
END:VEVENT
END:VCALENDAR